BEGIN:VCALENDAR
VERSION:2.0
CALSCALE:GREGORIAN
PRODID:adamgibbons/ics
METHOD:PUBLISH
X-PUBLISHED-TTL:PT1H
BEGIN:VEVENT
UID:17248@offbeat.amsterdam
SUMMARY:GHOSTWOOD ENSEMBLE + STOIC
DTSTAMP:20260419T150722Z
DTSTART:20260320T170000Z
DTEND:20260320T223000Z
DESCRIPTION:|\n\nShort Description/Bio:\n\nTwo-band DIY night at De Tanker 
	with Ghostwood Ensemble and Stoic.\n\nGhostwood Ensemble is a bunch of hum
	ans looking for something human: the\nprimordial cry\, a distant echo of i
	t\, maybe a middle finger raised towards\nHeaven. Starting from punk\, the
	y stretch into noise\, melody and raw emotional\noutbursts.\n\nhttps://gho
	stwoodensemble.bandcamp.com/album/ghostwood-ensemble [https:]\n\nStoic\, A
	msterdam Noord dwellers\, contrast melodic landscapes with crushing\ndisto
	rtion\, balancing atmosphere and weight into a heavy\, immersive sound.\n\
	nhttps://stoicamsterdam.bandcamp.com [https:]\n\nExpect an intense evening
	 of distorted textures\, tension and release.\n\nTicket Price :Donation\, 
	suggested €7~10 (door)\n\nDesign by Eva Poulopoulou @eva_pulu\n\nToevoegen
	 aan kalender\n * Google Calendar\n * iCalendar\n * Outlook 365\n * Outloo
	k Live
URL:https://offbeat.amsterdam/event/ghostwood-ensemble-stoic
GEO:52.394146;4.9229781
LOCATION:de Tanker in Noord - Nieuwe Leeuwarderweg 15\, 1022 BN Amsterdam
STATUS:CONFIRMED
CATEGORIES:amsterdam-noord,live,noorderpark,punk
X-ALT-DESC;FMTTYPE=text/html:<p><span> | </span></p><p>Short Description/Bi
	o:</p><p>Two-band DIY night at De Tanker with Ghostwood Ensemble and Stoic
	.</p><p>Ghostwood Ensemble is a bunch of humans looking for something huma
	n: the primordial cry, a distant echo of it, maybe a middle finger raised 
	towards Heaven. Starting from punk, they stretch into noise, melody and ra
	w emotional outbursts.</p><p><a href="https:">https://ghostwoodensemble.ba
	ndcamp.com/album/ghostwood-ensemble</a></p><p>Stoic, Amsterdam Noord dwell
	ers, contrast melodic landscapes with crushing distortion, balancing atmos
	phere and weight into a heavy, immersive sound.</p><p><a href="https:">htt
	ps://stoicamsterdam.bandcamp.com</a></p><p>Expect an intense evening of di
	storted textures, tension and release.</p><p>Ticket Price :Donation, sugge
	sted €7~10 (door)</p><p>Design by Eva Poulopoulou @eva_pulu</p>Toevoegen a
	an kalender<ul><li>Google Calendar</li><li>iCalendar</li><li>Outlook 365</
	li><li>Outlook Live</li></ul>
BEGIN:VALARM
ACTION:DISPLAY
DESCRIPTION:GHOSTWOOD ENSEMBLE + STOIC
TRIGGER:-PT1H
END:VALARM
END:VEVENT
END:VCALENDAR
