BEGIN:VCALENDAR
VERSION:2.0
CALSCALE:GREGORIAN
PRODID:adamgibbons/ics
METHOD:PUBLISH
X-PUBLISHED-TTL:PT1H
BEGIN:VEVENT
UID:21090@offbeat.amsterdam
SUMMARY:Doka Culture x Live Coding Sessions #11
DTSTAMP:20260422T184345Z
DTSTART:20260611T173000Z
DTEND:20260611T203000Z
DESCRIPTION:Live Coding Sessions #11: Live Instruments \n\nIn Live Coding S
	essions: Live Instruments\, we extend the live coding setup\nbeyond the la
	ptop\, introducing instruments such as drums and guitars.Rather than\nsimp
	ly adding sound\, these instruments become embedded in the performance. Th
	ey\ninterface with the live coding system\, for example through machine le
	arning\,\nforming a shared system in which instrument\, performer\, and co
	de continuously\ninfluence and amplify one another shaping the performance
	 in unexpected ways. \n\n‣ Pre-sale - €10\,- (incl. service costs)\n\n‣ St
	udents - €7\,50 (card will be checked at the door) (incl. service costs)\n
	\n‣ Door-sale - €12\,-\n\n‣ Doors: 19:30 - start: 20:00 - end: 22:30\n\n‣ 
	All pre-sale purchases are final and non-refundable\n\n‣ By purchasing a t
	icket you agree to Doka’s house rules. You can find the house\nrules here:
	 https://bit.ly/3TbBZ9V [https:]\n\n__\n\nWhat is Live Coding?\n\nAt Live 
	Coding events\, also known as Algoraves\, music and visuals are coded\nliv
	e. The performers are coders who adjust rhythm\, pitch and visuals in\nrea
	l-time by changing lines of their code and writing algorithmic composition
	s.\nBy sharing their screens they invite the audience to read along and ex
	plore how\neach musical element and visual is crafted through code.\n\nLiv
	e Coding Sessions is organised by Saskia Freeke\, Klasien van de Zandschul
	p\nand Sabrina Verhage.\n\nLive Coding Sessions is kindly supported by Ams
	terdam Fund for the Arts (AFK)\nand Volkshotel Amsterdam.\n\n__\n\nDoka is
	 the home base for immersive – sonic –experiences. The underground and\nin
	timate sound bar is the place where nightlife\, music and other forms of\n
	culture blend together. Limited capacity\, maximum vibes.\n\n__\n\nGenre i
	ndication: Experimental Electronics
URL:https://offbeat.amsterdam/event/doka-culture-x-live-coding-sessions-11
GEO:52.353788;4.9119686
LOCATION:Doka - Wibautstraat 150\, 1091 GR Amsterdam
STATUS:CONFIRMED
CATEGORIES:amsterdam-oost,electronics,experimental,live,music,performance,w
	eesperzijde
X-ALT-DESC;FMTTYPE=text/html:<p><b>Live Coding Sessions #11: Live Instrumen
	ts&nbsp;</b></p><p>In&nbsp;<b>Live Coding Sessions: Live Instruments,&nbsp
	;</b>we extend the live coding setup beyond the laptop, introducing instru
	ments such as drums and guitars.Rather than simply adding sound, these ins
	truments become embedded in the performance. They interface with the live 
	coding system, for example through machine learning, forming a shared syst
	em in which instrument, performer, and code continuously influence and amp
	lify one another shaping the performance in unexpected ways.&nbsp;</p><p>‣
	 Pre-sale - €10,- (incl. service costs)</p><p>‣ Students - €7,50 (card wil
	l be checked at the door) (incl. service costs)</p><p>‣ Door-sale - €12,-<
	/p><p>‣ Doors: 19:30 - start: 20:00 - end: 22:30</p><p>‣ All pre-sale purc
	hases are final and non-refundable</p><p>‣ By purchasing a ticket you agre
	e to Doka’s house rules. You can find the house rules here:&nbsp;<a target
	="_blank" href="https:">https://bit.ly/3TbBZ9V</a></p><p>__</p><p>What is 
	Live Coding?</p><p>At Live Coding events, also known as Algoraves, music a
	nd visuals are coded live. The performers are coders who adjust rhythm, pi
	tch and visuals in real-time by changing lines of their code and writing a
	lgorithmic compositions. By sharing their screens they invite the audience
	 to read along and explore how each musical element and visual is crafted 
	through code.</p><p>Live Coding Sessions is organised by Saskia Freeke, Kl
	asien van de Zandschulp and Sabrina Verhage.</p><p>Live Coding Sessions is
	 kindly supported by Amsterdam Fund for the Arts (AFK) and Volkshotel Amst
	erdam.</p><p>__</p><p>Doka is the home base for immersive – sonic –experie
	nces. The underground and intimate sound bar is the place where nightlife,
	 music and other forms of culture blend together. Limited capacity, maximu
	m vibes.</p><p>__</p><p>Genre indication: Experimental Electronics</p>
BEGIN:VALARM
ACTION:DISPLAY
DESCRIPTION:Doka Culture x Live Coding Sessions #11
TRIGGER:-PT1H
END:VALARM
END:VEVENT
END:VCALENDAR
