BEGIN:VCALENDAR
VERSION:2.0
CALSCALE:GREGORIAN
PRODID:adamgibbons/ics
METHOD:PUBLISH
X-PUBLISHED-TTL:PT1H
BEGIN:VEVENT
UID:17321@offbeat.amsterdam
SUMMARY:DOEK! – Zeevlam producties
DTSTAMP:20260421T121411Z
DTSTART:20260510T140000Z
URL:https://offbeat.amsterdam/event/doek-zeevlam-producties-1
GEO:52.3711125;4.8900771
LOCATION:Theater de Richel - Nieuwezijds Voorburgwal 282\, 1012 RT Amsterda
	m
STATUS:CONFIRMED
CATEGORIES:amsterdam-centrum,spui,theater,zolderzaal
END:VEVENT
END:VCALENDAR
