BEGIN:VCALENDAR
VERSION:2.0
CALSCALE:GREGORIAN
PRODID:adamgibbons/ics
METHOD:PUBLISH
X-PUBLISHED-TTL:PT1H
BEGIN:VEVENT
UID:21023@offbeat.amsterdam
SUMMARY:Lino For Prisoners: Linocut workshop and letter writing for Palesti
	ne Action prisoners
DTSTAMP:20260420T231604Z
DTSTART:20260509T110000Z
DTEND:20260509T140000Z
URL:https://offbeat.amsterdam/event/lino-for-prisoners-linocut-workshop-and
	-letter-writing-for-palestine-action-prisoners
GEO:52.3601403;4.8656923
LOCATION:OT301 - Overtoom 301\, 1054 HW Amsterdam
STATUS:CONFIRMED
CATEGORIES:amsterdam-west,vondelparkbuurt,workshop,writing
END:VEVENT
END:VCALENDAR
