BEGIN:VCALENDAR
VERSION:2.0
CALSCALE:GREGORIAN
PRODID:adamgibbons/ics
METHOD:PUBLISH
X-PUBLISHED-TTL:PT1H
BEGIN:VEVENT
UID:16677@offbeat.amsterdam
SUMMARY:Needle Drop Thursdays (open decks & bar)
DTSTAMP:20260420T035455Z
DTSTART:20260423T160000Z
DTEND:20260423T220000Z
URL:https://offbeat.amsterdam/event/needle-drop-thursdays-open-decks-and-ba
	r-19
GEO:52.3519638;4.8895188
LOCATION:Molli Chaoot - Van Ostadestraat 55hs\, 1072 SN Amsterdam
STATUS:CONFIRMED
CATEGORIES:music,dj,de pijp,music/concert,party,bar/cafe,amsterdam-zuid,vin
	yl
END:VEVENT
BEGIN:VEVENT
UID:17835@offbeat.amsterdam
SUMMARY:M.I.A. (US) + BLEAKNESS (FR) + RITES
DTSTAMP:20260420T035455Z
DTSTART:20260423T183000Z
URL:https://offbeat.amsterdam/event/mia-us-bleakness-fr-rites
GEO:52.354338;4.8553367
LOCATION:OCCII - Amstelveenseweg 134\, 1075 XL Amsterdam
STATUS:CONFIRMED
CATEGORIES:amsterdam-zuid,alternative,80s punk rock legends,hardcore,vinyl,
	schinkelbuurt,rock,punk,melodic hardcore,community,books
END:VEVENT
BEGIN:VEVENT
UID:13355@offbeat.amsterdam
SUMMARY:Disco Galaxy #2
DTSTAMP:20260420T035455Z
DTSTART:20260424T180000Z
DTEND:20260424T230000Z
URL:https://offbeat.amsterdam/event/disco-galaxy-2
GEO:52.374158;4.8726931
LOCATION:De Nieuwe Anita - Frederik Hendrikstraat 111\, 1052 HN Amsterdam
STATUS:CONFIRMED
CATEGORIES:funk,westerpark,amsterdam-west,festivals,dj,vinyl,live
END:VEVENT
BEGIN:VEVENT
UID:20392@offbeat.amsterdam
SUMMARY:No Escape / Benefit for ADEV
DTSTAMP:20260420T035455Z
DTSTART:20260425T190000Z
DTEND:20260426T010000Z
URL:https://offbeat.amsterdam/event/no-escape-benefit-for-adev
GEO:52.3601403;4.8656923
LOCATION:OT301 - Overtoom 301\, 1054 HW Amsterdam
STATUS:CONFIRMED
CATEGORIES:music,live,industrial,hc,hardcore,festivals,electronics,dj,dance
	,amsterdam-west,vinyl,acid,vondelparkbuurt,tekno,techno,rave,punk,party
END:VEVENT
BEGIN:VEVENT
UID:19845@offbeat.amsterdam
SUMMARY:Disco Diaspora ★ Cabo Verde ★ MF Andrade ♫
DTSTAMP:20260420T035455Z
DTSTART:20260425T193000Z
DTEND:20260426T000000Z
URL:https://offbeat.amsterdam/event/disco-diaspora-star-cabo-verde-star-mf-
	andrade-beamed-eighth-notes
GEO:52.3759775;4.9275458
LOCATION:Mezrab - Veemkade 576\, 1019 BL Amsterdam
STATUS:CONFIRMED
CATEGORIES:community,vinyl,storytelling,stories,music,eastern docklands,dan
	ce,amsterdam-oost
END:VEVENT
BEGIN:VEVENT
UID:15593@offbeat.amsterdam
SUMMARY:Martin’s Monthly Pencil Parlour
DTSTAMP:20260420T035455Z
DTSTART:20260426T130000Z
URL:https://offbeat.amsterdam/event/martins-monthly-pencil-parlour-5
GEO:52.374158;4.8726931
LOCATION:De Nieuwe Anita - Frederik Hendrikstraat 111\, 1052 HN Amsterdam
STATUS:CONFIRMED
CATEGORIES:amsterdam-west,workshop,westerpark,vinyl,music,live
END:VEVENT
BEGIN:VEVENT
UID:16678@offbeat.amsterdam
SUMMARY:Needle Drop Thursdays (open decks & bar)
DTSTAMP:20260420T035455Z
DTSTART:20260430T160000Z
DTEND:20260430T220000Z
URL:https://offbeat.amsterdam/event/needle-drop-thursdays-open-decks-and-ba
	r-20
GEO:52.3519638;4.8895188
LOCATION:Molli Chaoot - Van Ostadestraat 55hs\, 1072 SN Amsterdam
STATUS:CONFIRMED
CATEGORIES:party,vinyl,amsterdam-zuid,bar/cafe,de pijp,dj,music,music/conce
	rt
END:VEVENT
BEGIN:VEVENT
UID:20515@offbeat.amsterdam
SUMMARY:DJ Sniff – Mitchell/Peters duo
DTSTAMP:20260420T035455Z
DTSTART:20260430T180000Z
DTEND:20260430T213000Z
URL:https://offbeat.amsterdam/event/dj-sniff-mitchellpeters-duo
GEO:52.3358778;4.9266131
LOCATION:Grond - Bijdorpstraat 1\, 1096 AP Amsterdam
STATUS:CONFIRMED
CATEGORIES:jazz,music,overamstel,performance,amsterdam-oost,concert,vinyl,d
	j,experimental,hip-hop,improv
END:VEVENT
BEGIN:VEVENT
UID:20341@offbeat.amsterdam
SUMMARY:MEROL 'Leve de Feeks' - Release Show!
DTSTAMP:20260420T035455Z
DTSTART:20260501T180000Z
DTEND:20260501T215500Z
URL:https://offbeat.amsterdam/event/merol-leve-de-feeks-release-show
GEO:52.3966283;4.8755183
LOCATION:Toekomstmuziek - Danzigerbocht 29\, 1013 AM Amsterdam
STATUS:CONFIRMED
CATEGORIES:westpoort,vinyl,synth pop,minervahaven,merol,live-music,live,ele
	ctropop,dj,amsterdam-west,alice olsthoorn
END:VEVENT
BEGIN:VEVENT
UID:19692@offbeat.amsterdam
SUMMARY:Steve French + De Kooi + Laurie en Darek (DJ)
DTSTAMP:20260420T035455Z
DTSTART:20260502T190000Z
DTEND:20260502T230000Z
URL:https://offbeat.amsterdam/event/steve-french-de-kooi-laurie-en-darek-dj
GEO:52.374158;4.8726931
LOCATION:De Nieuwe Anita - Frederik Hendrikstraat 111\, 1052 HN Amsterdam
STATUS:CONFIRMED
CATEGORIES:amsterdam-west,dj,indie,live,music,vinyl,westerpark
END:VEVENT
BEGIN:VEVENT
UID:16679@offbeat.amsterdam
SUMMARY:Needle Drop Thursdays (open decks & bar)
DTSTAMP:20260420T035455Z
DTSTART:20260507T160000Z
DTEND:20260507T220000Z
URL:https://offbeat.amsterdam/event/needle-drop-thursdays-open-decks-and-ba
	r-21
GEO:52.3519638;4.8895188
LOCATION:Molli Chaoot - Van Ostadestraat 55hs\, 1072 SN Amsterdam
STATUS:CONFIRMED
CATEGORIES:party,amsterdam-zuid,bar/cafe,de pijp,dj,music,music/concert,vin
	yl
END:VEVENT
BEGIN:VEVENT
UID:13871@offbeat.amsterdam
SUMMARY:SKA NIGHT CLUB: King Hammond (UK) + Faya Allstars
DTSTAMP:20260420T035455Z
DTSTART:20260509T194500Z
DTEND:20260509T230000Z
URL:https://offbeat.amsterdam/event/ska-night-club-king-hammond-uk-faya-all
	stars
GEO:52.374158;4.8726931
LOCATION:De Nieuwe Anita - Frederik Hendrikstraat 111\, 1052 HN Amsterdam
STATUS:CONFIRMED
CATEGORIES:amsterdam-west,westerpark,vinyl,ska,plants,performance,music,liv
	e,dj
END:VEVENT
BEGIN:VEVENT
UID:19672@offbeat.amsterdam
SUMMARY:Anacalypto & Friends
DTSTAMP:20260420T035455Z
DTSTART:20260509T200000Z
DTEND:20260510T010000Z
URL:https://offbeat.amsterdam/event/anacalypto-and-friends-2
GEO:52.3601403;4.8656923
LOCATION:OT301 - Overtoom 301\, 1054 HW Amsterdam
STATUS:CONFIRMED
CATEGORIES:eclectic,dj,amsterdam-west,vondelparkbuurt,vinyl,techno,performa
	nce,music,house,festivals,electronics
END:VEVENT
BEGIN:VEVENT
UID:19939@offbeat.amsterdam
SUMMARY:SNACKBAR | ep release | support: the etters + gigi (dj)
DTSTAMP:20260420T035455Z
DTSTART:20260515T180000Z
URL:https://offbeat.amsterdam/event/snackbar-or-ep-release-or-support-the-e
	tters-gigi-dj
GEO:52.3528265;4.906568
LOCATION:Cinetol - Tolstraat 182\, 1074 VM Amsterdam
STATUS:CONFIRMED
CATEGORIES:rock,amsterdam-zuid,de pijp,dj,music,punk,vinyl
END:VEVENT
BEGIN:VEVENT
UID:20288@offbeat.amsterdam
SUMMARY:Kinetic Energy\, the Second Chapter
DTSTAMP:20260420T035455Z
DTSTART:20260516T200000Z
DTEND:20260517T010000Z
URL:https://offbeat.amsterdam/event/kinetic-energy-the-second-chapter
GEO:52.3601403;4.8656923
LOCATION:OT301 - Overtoom 301\, 1054 HW Amsterdam
STATUS:CONFIRMED
CATEGORIES:gabber,early hardcore,community,breakbeat,amsterdam-west,vondelp
	arkbuurt,vinyl,rave,jungle,hardcore,happy hardcore,early rave
END:VEVENT
BEGIN:VEVENT
UID:19389@offbeat.amsterdam
SUMMARY:The Wormhole Cult presents: Ter Ziele + (16) + Dunebender live in A
	msterdam.
DTSTAMP:20260420T035455Z
DTSTART:20260519T180000Z
URL:https://offbeat.amsterdam/event/the-wormhole-cult-presents-ter-ziele-16
	-dunebender-live-in-amsterdam
GEO:52.3966283;4.8755183
LOCATION:Toekomstmuziek - Danzigerbocht 29\, 1013 AM Amsterdam
STATUS:CONFIRMED
CATEGORIES:live,doom,music,amsterdam-west,punk,rock,vinyl,westpoort,minerva
	haven,metal,live music,festivals
END:VEVENT
BEGIN:VEVENT
UID:15371@offbeat.amsterdam
SUMMARY:Romperayo
DTSTAMP:20260420T035455Z
DTSTART:20260522T173000Z
URL:https://offbeat.amsterdam/event/romperayo
GEO:52.3830883;4.9030297
LOCATION:Tolhuistuin - IJpromenade 2\, 1031 KT Amsterdam
STATUS:CONFIRMED
CATEGORIES:vinyl,amsterdam-noord,buiksloterweg,music
END:VEVENT
BEGIN:VEVENT
UID:15594@offbeat.amsterdam
SUMMARY:Martin’s Monthly Pencil Parlour
DTSTAMP:20260420T035455Z
DTSTART:20260524T130000Z
URL:https://offbeat.amsterdam/event/martins-monthly-pencil-parlour-6
GEO:52.374158;4.8726931
LOCATION:De Nieuwe Anita - Frederik Hendrikstraat 111\, 1052 HN Amsterdam
STATUS:CONFIRMED
CATEGORIES:workshop,vinyl,music,live,amsterdam-west,westerpark
END:VEVENT
BEGIN:VEVENT
UID:18427@offbeat.amsterdam
SUMMARY:The Dip
DTSTAMP:20260420T035455Z
DTSTART:20260604T183000Z
URL:https://offbeat.amsterdam/event/the-dip
GEO:52.3830883;4.9030297
LOCATION:Tolhuistuin - IJpromenade 2\, 1031 KT Amsterdam
STATUS:CONFIRMED
CATEGORIES:vinyl,live,buiksloterweg,amsterdam-noord,soul
END:VEVENT
BEGIN:VEVENT
UID:20011@offbeat.amsterdam
SUMMARY:MASSIEF
DTSTAMP:20260420T035455Z
DTSTART:20260613T190000Z
DTEND:20260614T010000Z
URL:https://offbeat.amsterdam/event/massief
GEO:52.3601403;4.8656923
LOCATION:OT301 - Overtoom 301\, 1054 HW Amsterdam
STATUS:CONFIRMED
CATEGORIES:electronics,amsterdam-west,bass,breakbeat,community,dance,dj,dnb
	,drum & bass,dubstep,electronic,exhibition,experimental,festivals,hardcore
	,jungle,music,party,rave,talk,techno,vinyl,vondelparkbuurt
END:VEVENT
BEGIN:VEVENT
UID:19694@offbeat.amsterdam
SUMMARY:Good Flying Birds
DTSTAMP:20260420T035455Z
DTSTART:20260615T180000Z
URL:https://offbeat.amsterdam/event/good-flying-birds
GEO:52.3528265;4.906568
LOCATION:Cinetol - Tolstraat 182\, 1074 VM Amsterdam
STATUS:CONFIRMED
CATEGORIES:vinyl,amsterdam-zuid,de pijp,garage,pop
END:VEVENT
BEGIN:VEVENT
UID:20904@offbeat.amsterdam
SUMMARY:Girls to the Front
DTSTAMP:20260420T035455Z
DTSTART:20260626T183000Z
URL:https://offbeat.amsterdam/event/girls-to-the-front
GEO:52.36215535;4.883782439016489
LOCATION:Paradiso - Weteringschans 6\, 1017 SG Amsterdam
STATUS:CONFIRMED
CATEGORIES:community,amsterdam-centrum,vinyl,talk,punk,poetry,music,leidsep
	lein,film,experimental,dj
END:VEVENT
BEGIN:VEVENT
UID:15595@offbeat.amsterdam
SUMMARY:Martin’s Monthly Pencil Parlour
DTSTAMP:20260420T035455Z
DTSTART:20260628T130000Z
URL:https://offbeat.amsterdam/event/martins-monthly-pencil-parlour-7
GEO:52.374158;4.8726931
LOCATION:De Nieuwe Anita - Frederik Hendrikstraat 111\, 1052 HN Amsterdam
STATUS:CONFIRMED
CATEGORIES:workshop,vinyl,music,live,amsterdam-west,westerpark
END:VEVENT
BEGIN:VEVENT
UID:20653@offbeat.amsterdam
SUMMARY:Discoteca Anita
DTSTAMP:20260420T035455Z
DTSTART:20260704T180000Z
DTEND:20260704T230000Z
URL:https://offbeat.amsterdam/event/discoteca-anita-1
GEO:52.374158;4.8726931
LOCATION:De Nieuwe Anita - Frederik Hendrikstraat 111\, 1052 HN Amsterdam
STATUS:CONFIRMED
CATEGORIES:funk,amsterdam-west,dance,dj,live,music,punk,rock 'n' roll,ska,s
	oul,vinyl,westerpark
END:VEVENT
BEGIN:VEVENT
UID:19384@offbeat.amsterdam
SUMMARY:SHOEGAZE and POST-PUNK NIGHT - Mahogany (US) + Resplandor (NL) + Ma
	yflower Madame (NO) + DJ Dragnet
DTSTAMP:20260420T035455Z
DTSTART:20260917T173000Z
DTEND:20260917T223000Z
URL:https://offbeat.amsterdam/event/shoegaze-and-post-punk-night-mahogany-u
	s-resplandor-nl-mayflower-madame-no-dj-dragnet
GEO:52.3966283;4.8755183
LOCATION:Toekomstmuziek - Danzigerbocht 29\, 1013 AM Amsterdam
STATUS:CONFIRMED
CATEGORIES:music,minervahaven,live music,live,indie,festivals,dj,westpoort,
	vinyl,vegan,shoegaze,rock,punk,post-punk,performance,party,amsterdam-west,
	opening
END:VEVENT
END:VCALENDAR
