BEGIN:VCALENDAR
VERSION:2.0
CALSCALE:GREGORIAN
PRODID:adamgibbons/ics
METHOD:PUBLISH
X-PUBLISHED-TTL:PT1H
BEGIN:VEVENT
UID:21230@offbeat.amsterdam
SUMMARY:Pirate Radio x Connection Art
DTSTAMP:20260425T192933Z
DTSTART:20260515T200000Z
DTEND:20260516T010000Z
URL:https://offbeat.amsterdam/event/pirate-radio-x-connection-art
GEO:52.3966283;4.8755183
LOCATION:Toekomstmuziek - Danzigerbocht 29\, 1013 AM Amsterdam
STATUS:CONFIRMED
CATEGORIES:amsterdam-west,art,electronic,garage,house,minervahaven,trance,u
	rban,westpoort
END:VEVENT
END:VCALENDAR
