BEGIN:VCALENDAR
VERSION:2.0
CALSCALE:GREGORIAN
PRODID:adamgibbons/ics
METHOD:PUBLISH
X-PUBLISHED-TTL:PT1H
BEGIN:VEVENT
UID:19961@offbeat.amsterdam
SUMMARY:Human.VPN/someplace_else (dance graffiti) by Marina Orlova (Try out
	)
DTSTAMP:20260420T021039Z
DTSTART:20260423T180000Z
DTEND:20260423T200000Z
URL:https://offbeat.amsterdam/event/humanvpnsomeplace_else-dance-graffiti-b
	y-marina-orlova-try-out
GEO:52.368298;4.911167641156702
LOCATION:Plantage Dok - Plantage Doklaan 8-12\, 1018 CM
STATUS:CONFIRMED
CATEGORIES:community,dance,digital,discussion,experimental,festivals,politi
	cs,stage,performance,mental health,live,lecture,immersive,amsterdam-centru
	m,artist in residency,av,code,try-out,theater,plantage,technology,talk
END:VEVENT
BEGIN:VEVENT
UID:14921@offbeat.amsterdam
SUMMARY:Bob Koomen – Peer
DTSTAMP:20260420T021039Z
DTSTART:20260424T170000Z
URL:https://offbeat.amsterdam/event/bob-koomen-peer
GEO:52.3711125;4.8900771
LOCATION:Theater de Richel - Nieuwezijds Voorburgwal 282\, 1012 RT Amsterda
	m
STATUS:CONFIRMED
CATEGORIES:amsterdam-centrum,cabaret,festivals,kleine-zaal,spui,try-out
END:VEVENT
BEGIN:VEVENT
UID:14942@offbeat.amsterdam
SUMMARY:Martijn Koning – try-out
DTSTAMP:20260420T021039Z
DTSTART:20260507T180000Z
URL:https://offbeat.amsterdam/event/martijn-koning-try-out
GEO:52.3711125;4.8900771
LOCATION:Theater de Richel - Nieuwezijds Voorburgwal 282\, 1012 RT Amsterda
	m
STATUS:CONFIRMED
CATEGORIES:amsterdam-centrum,cabaret,spui,try-out
END:VEVENT
BEGIN:VEVENT
UID:14944@offbeat.amsterdam
SUMMARY:Max van den Burg – Maxikozi
DTSTAMP:20260420T021039Z
DTSTART:20260524T180000Z
URL:https://offbeat.amsterdam/event/max-van-den-burg-maxikozi
GEO:52.3711125;4.8900771
LOCATION:Theater de Richel - Nieuwezijds Voorburgwal 282\, 1012 RT Amsterda
	m
STATUS:CONFIRMED
CATEGORIES:comedy,amsterdam-centrum,cabaret,music,spui,try-out
END:VEVENT
BEGIN:VEVENT
UID:12343@offbeat.amsterdam
SUMMARY:Luuk Weggemans – Lach maar om mij (try-out) + voorprogramma door Fe
	e Oomes
DTSTAMP:20260420T021039Z
DTSTART:20260605T180000Z
URL:https://offbeat.amsterdam/event/luuk-weggemans-de-aller-allereerste-try
	-out-voorprogramma-door-fee-oomes
GEO:52.3711125;4.8900771
LOCATION:Theater de Richel - Nieuwezijds Voorburgwal 282\, 1012 RT Amsterda
	m
STATUS:CONFIRMED
CATEGORIES:cabaret,try-out,theater,spui,festivals,comedy,amsterdam-centrum
END:VEVENT
BEGIN:VEVENT
UID:15799@offbeat.amsterdam
SUMMARY:Maurits Koster – Iedereen Droomt Anders (try out)
DTSTAMP:20260420T021039Z
DTSTART:20260617T180000Z
URL:https://offbeat.amsterdam/event/iedereen-droomt-anders
GEO:52.3711125;4.8900771
LOCATION:Theater de Richel - Nieuwezijds Voorburgwal 282\, 1012 RT Amsterda
	m
STATUS:CONFIRMED
CATEGORIES:spui,music,cabaret,amsterdam-centrum,try-out
END:VEVENT
END:VCALENDAR
