BEGIN:VCALENDAR
VERSION:2.0
CALSCALE:GREGORIAN
PRODID:adamgibbons/ics
METHOD:PUBLISH
X-PUBLISHED-TTL:PT1H
BEGIN:VEVENT
UID:15357@offbeat.amsterdam
SUMMARY:DakhaBrakha
DTSTAMP:20260420T054002Z
DTSTART:20260515T170000Z
URL:https://offbeat.amsterdam/event/dakhabrakha
GEO:52.3647777;4.881073026725959
LOCATION:Melkweg - Lijnbaansgracht 234A\, 1017 PH Amsterdam
STATUS:CONFIRMED
CATEGORIES:amsterdam-centrum,concert,experimental,folk,leidseplein,traditio
	nal
END:VEVENT
BEGIN:VEVENT
UID:18194@offbeat.amsterdam
SUMMARY:Alceu Valença
DTSTAMP:20260420T054002Z
DTSTART:20261105T180000Z
URL:https://offbeat.amsterdam/event/alceu-valenca
GEO:52.3647777;4.881073026725959
LOCATION:Melkweg - Lijnbaansgracht 234A\, 1017 PH Amsterdam
STATUS:CONFIRMED
CATEGORIES:amsterdam-centrum,concert,leidseplein,local influences,pop,tradi
	tional
END:VEVENT
END:VCALENDAR
