BEGIN:VCALENDAR
VERSION:2.0
CALSCALE:GREGORIAN
PRODID:adamgibbons/ics
METHOD:PUBLISH
X-PUBLISHED-TTL:PT1H
BEGIN:VEVENT
UID:20982@offbeat.amsterdam
SUMMARY:TEMPERATURA
DTSTAMP:20260420T195444Z
DTSTART:20260506T183000Z
DTEND:20260506T203000Z
URL:https://offbeat.amsterdam/event/temperatura-11
GEO:52.3358778;4.9266131
LOCATION:Grond - Bijdorpstraat 1\, 1096 AP Amsterdam
STATUS:CONFIRMED
CATEGORIES:amsterdam-oost,concert,electronics,improv,live,music,overamstel,
	performance,temperatura,vinyl
END:VEVENT
END:VCALENDAR
