BEGIN:VCALENDAR
VERSION:2.0
CALSCALE:GREGORIAN
PRODID:adamgibbons/ics
METHOD:PUBLISH
X-PUBLISHED-TTL:PT1H
BEGIN:VEVENT
UID:12854@offbeat.amsterdam
SUMMARY:Chalk
DTSTAMP:20260419T225213Z
DTSTART:20260420T173000Z
URL:https://offbeat.amsterdam/event/chalk-1
GEO:52.3830883;4.9030297
LOCATION:Tolhuistuin - IJpromenade 2\, 1031 KT Amsterdam
STATUS:CONFIRMED
CATEGORIES:festivals,hardcore,music,techno,punk,amsterdam-noord,buiksloterw
	eg
END:VEVENT
BEGIN:VEVENT
UID:20087@offbeat.amsterdam
SUMMARY:Techno Tuesday: Shipe
DTSTAMP:20260419T225213Z
DTSTART:20260421T213000Z
URL:https://offbeat.amsterdam/event/techno-tuesday-shipe
GEO:52.3647777;4.881073026725959
LOCATION:Melkweg - Lijnbaansgracht 234A\, 1017 PH Amsterdam
STATUS:CONFIRMED
CATEGORIES:club night,amsterdam-centrum,techno,leidseplein,club
END:VEVENT
BEGIN:VEVENT
UID:20289@offbeat.amsterdam
SUMMARY:Rave Radar
DTSTAMP:20260419T225213Z
DTSTART:20260424T200000Z
DTEND:20260425T010000Z
URL:https://offbeat.amsterdam/event/rave-radar
GEO:52.3601403;4.8656923
LOCATION:OT301 - Overtoom 301\, 1054 HW Amsterdam
STATUS:CONFIRMED
CATEGORIES:rave,(live) techno,amsterdam-west,community,live,vondelparkbuurt
	,techno
END:VEVENT
BEGIN:VEVENT
UID:20392@offbeat.amsterdam
SUMMARY:No Escape / Benefit for ADEV
DTSTAMP:20260419T225213Z
DTSTART:20260425T190000Z
DTEND:20260426T010000Z
URL:https://offbeat.amsterdam/event/no-escape-benefit-for-adev
GEO:52.3601403;4.8656923
LOCATION:OT301 - Overtoom 301\, 1054 HW Amsterdam
STATUS:CONFIRMED
CATEGORIES:acid,amsterdam-west,dance,dj,electronics,festivals,hardcore,hc,i
	ndustrial,live,music,party,punk,rave,techno,tekno,vinyl,vondelparkbuurt
END:VEVENT
BEGIN:VEVENT
UID:19369@offbeat.amsterdam
SUMMARY:Kingsnight 2026 with Sandunga
DTSTAMP:20260419T225213Z
DTSTART:20260426T180000Z
DTEND:20260427T010000Z
URL:https://offbeat.amsterdam/event/kingsnight-2026-with-sandunga
GEO:52.3966283;4.8755183
LOCATION:Toekomstmuziek - Danzigerbocht 29\, 1013 AM Amsterdam
STATUS:CONFIRMED
CATEGORIES:dance,westpoort,trance,amsterdam-west,techno,minervahaven,house,
	hard trance,electronic,dj
END:VEVENT
BEGIN:VEVENT
UID:20188@offbeat.amsterdam
SUMMARY:Funk De Nacht: Koningsnacht
DTSTAMP:20260419T225213Z
DTSTART:20260426T180000Z
DTEND:20260427T010000Z
URL:https://offbeat.amsterdam/event/funk-de-nacht-koningsnacht
GEO:52.3966283;4.8755183
LOCATION:Toekomstmuziek - Danzigerbocht 29\, 1013 AM Amsterdam
STATUS:CONFIRMED
CATEGORIES:westpoort,amsterdam-west,community,electronic,funk,hard trance,h
	ouse,minervahaven,talk,techno
END:VEVENT
BEGIN:VEVENT
UID:2249@offbeat.amsterdam
SUMMARY:KONING CEUVEL // KING’S NIGHT
DTSTAMP:20260419T225213Z
DTSTART:20260426T190000Z
DTEND:20260427T013000Z
URL:https://offbeat.amsterdam/event/koning-ceuvel-kings-night
GEO:52.3930912;4.9096685
LOCATION:De Ceuvel - Korte Papaverweg 2\, 1032 KB Amsterdam
STATUS:CONFIRMED
CATEGORIES:techno,party,rock,soul,music,live,lecture,jazz,improv,funk,festi
	vals,electronics,eclectic,dj,afro,dance,concert,colonialism,buiksloterham,
	amsterdam-noord,reggae,punk,psychedelic rock,performance
END:VEVENT
BEGIN:VEVENT
UID:19296@offbeat.amsterdam
SUMMARY:Modus King's Night
DTSTAMP:20260419T225213Z
DTSTART:20260426T215900Z
DTEND:20260427T040000Z
URL:https://offbeat.amsterdam/event/modus-kings-night
GEO:52.3833541;4.9036483
LOCATION:Parallel - Buiksloterweg 5C\, 1031 CC Amsterdam
STATUS:CONFIRMED
CATEGORIES:music,amsterdam-noord,buiksloterweg,dance,dekmantel,dj,eclectic,
	electronics,festivals,live,soul,techno
END:VEVENT
BEGIN:VEVENT
UID:18463@offbeat.amsterdam
SUMMARY:Intercell King's Day
DTSTAMP:20260419T225213Z
DTSTART:20260427T180000Z
DTEND:20260428T030000Z
URL:https://offbeat.amsterdam/event/intercell-kings-day
GEO:52.3371354;4.9251157
LOCATION:Levenslang - H.J.E. Wenckebachweg 48\, 1096 AN Amsterdam
STATUS:CONFIRMED
CATEGORIES:techno,amsterdam-oost,live,overamstel
END:VEVENT
BEGIN:VEVENT
UID:19119@offbeat.amsterdam
SUMMARY:Disturbia - After Kingsday
DTSTAMP:20260419T225213Z
DTSTART:20260427T190000Z
DTEND:20260428T070000Z
URL:https://offbeat.amsterdam/event/disturbia-after-kingsday
GEO:52.3699549;4.843713
LOCATION:Tilla Tec - Doctor Jan van Breemenstraat 1\, 1056 AB Amsterdam
STATUS:CONFIRMED
CATEGORIES:music,community,house,rembrandtpark,techno,amsterdam-west
END:VEVENT
BEGIN:VEVENT
UID:20085@offbeat.amsterdam
SUMMARY:Techno Tuesday: Keeva G & Dexon
DTSTAMP:20260419T225213Z
DTSTART:20260428T213000Z
URL:https://offbeat.amsterdam/event/techno-tuesday-keeva-g-and-dexon
GEO:52.3647777;4.881073026725959
LOCATION:Melkweg - Lijnbaansgracht 234A\, 1017 PH Amsterdam
STATUS:CONFIRMED
CATEGORIES:amsterdam-centrum,club night,leidseplein,club,techno
END:VEVENT
BEGIN:VEVENT
UID:20805@offbeat.amsterdam
SUMMARY:ambu bambu & lis
DTSTAMP:20260419T225213Z
DTSTART:20260501T160000Z
URL:https://offbeat.amsterdam/event/ambu-bambu-and-lis
GEO:52.3854298;4.9279805
LOCATION:murmur - Aambeeldstraat 60\, 1021 KB Amsterdam
STATUS:CONFIRMED
CATEGORIES:performance,eclectic,dj,experimental,electronics,amsterdam-noord
	,live,hamerkwartier,music,dinner,stories,techno,idm
END:VEVENT
BEGIN:VEVENT
UID:20621@offbeat.amsterdam
SUMMARY:Nacht van de Arbeid
DTSTAMP:20260419T225213Z
DTSTART:20260501T215900Z
URL:https://offbeat.amsterdam/event/nacht-van-de-arbeid
GEO:52.36215535;4.883782439016489
LOCATION:Paradiso - Weteringschans 6\, 1017 SG Amsterdam
STATUS:CONFIRMED
CATEGORIES:techno,leidseplein,amsterdam-centrum
END:VEVENT
BEGIN:VEVENT
UID:20351@offbeat.amsterdam
SUMMARY:DAYCARE x Lobster x TAFKAMP Weekender
DTSTAMP:20260419T225213Z
DTSTART:20260502T200000Z
DTEND:20260504T040000Z
URL:https://offbeat.amsterdam/event/daycare-x-lobster-x-tafkamp-weekender
GEO:52.3898525;4.836764
LOCATION:Bret - Orlyplein 76\, 1043 DP Amsterdam
STATUS:CONFIRMED
CATEGORIES:sloterdijk,techno,house,amsterdam-west
END:VEVENT
BEGIN:VEVENT
UID:20942@offbeat.amsterdam
SUMMARY:Techno Tuesday: OZUM
DTSTAMP:20260419T225213Z
DTSTART:20260505T213000Z
URL:https://offbeat.amsterdam/event/techno-tuesday-ozum-2
GEO:52.3647777;4.881073026725959
LOCATION:Melkweg - Lijnbaansgracht 234A\, 1017 PH Amsterdam
STATUS:CONFIRMED
CATEGORIES:amsterdam-centrum,techno,leidseplein,industrial,club night,club
END:VEVENT
BEGIN:VEVENT
UID:19759@offbeat.amsterdam
SUMMARY:WAHJ Live Performance Premiere
DTSTAMP:20260419T225213Z
DTSTART:20260507T180000Z
DTEND:20260507T215900Z
URL:https://offbeat.amsterdam/event/wahj-live-performance-premiere
GEO:52.3601403;4.8656923
LOCATION:OT301 - Overtoom 301\, 1054 HW Amsterdam
STATUS:CONFIRMED
CATEGORIES:live,vondelparkbuurt,techno,rock,experimental,experimental arabi
	c,festivals,film,industrial,jazz,performance,music,ade,amsterdam-west,avan
	t-pop,dark ambient,dj,electronic,electronics
END:VEVENT
BEGIN:VEVENT
UID:20631@offbeat.amsterdam
SUMMARY:ARMAT
DTSTAMP:20260419T225213Z
DTSTART:20260508T190000Z
DTEND:20260509T040000Z
URL:https://offbeat.amsterdam/event/armat
GEO:52.3699549;4.843713
LOCATION:Tilla Tec - Doctor Jan van Breemenstraat 1\, 1056 AB Amsterdam
STATUS:CONFIRMED
CATEGORIES:amsterdam-west,community,exhibition,live,rembrandtpark,techno
END:VEVENT
BEGIN:VEVENT
UID:19181@offbeat.amsterdam
SUMMARY:Max Cooper
DTSTAMP:20260419T225213Z
DTSTART:20260508T215900Z
DTEND:20260509T030000Z
URL:https://offbeat.amsterdam/event/max-cooper
GEO:52.3833541;4.9036483
LOCATION:Parallel - Buiksloterweg 5C\, 1031 CC Amsterdam
STATUS:CONFIRMED
CATEGORIES:alternative,amsterdam-noord,buiksloterweg,dj,electronics,live,mu
	sic,performance,techno,theater
END:VEVENT
BEGIN:VEVENT
UID:19672@offbeat.amsterdam
SUMMARY:Anacalypto & Friends
DTSTAMP:20260419T225213Z
DTSTART:20260509T200000Z
DTEND:20260510T010000Z
URL:https://offbeat.amsterdam/event/anacalypto-and-friends-2
GEO:52.3601403;4.8656923
LOCATION:OT301 - Overtoom 301\, 1054 HW Amsterdam
STATUS:CONFIRMED
CATEGORIES:vondelparkbuurt,techno,performance,music,house,festivals,electro
	nics,eclectic,dj,amsterdam-west,vinyl
END:VEVENT
BEGIN:VEVENT
UID:19770@offbeat.amsterdam
SUMMARY:On Board x PODD
DTSTAMP:20260419T225213Z
DTSTART:20260509T210000Z
DTEND:20260510T070000Z
URL:https://offbeat.amsterdam/event/on-board-x-podd
GEO:52.3699549;4.843713
LOCATION:Tilla Tec - Doctor Jan van Breemenstraat 1\, 1056 AB Amsterdam
STATUS:CONFIRMED
CATEGORIES:live,idm,amsterdam-west,techno,rembrandtpark
END:VEVENT
BEGIN:VEVENT
UID:20226@offbeat.amsterdam
SUMMARY:Amphia\, Jerrau\, OG Karin\, Parrish Smith\, Perc
DTSTAMP:20260419T225213Z
DTSTART:20260509T210000Z
DTEND:20260510T050000Z
URL:https://offbeat.amsterdam/event/amphia-jerrau-og-karin-parrish-smith-pe
	rc
GEO:52.3913318;4.8310521
LOCATION:Club Raum - Humberweg 3\, 1043 AC Amsterdam
STATUS:CONFIRMED
CATEGORIES:amsterdam-west,experimental,sloterdijk,techno
END:VEVENT
BEGIN:VEVENT
UID:20941@offbeat.amsterdam
SUMMARY:Techno Tuesday: Esther Dune & Dexon
DTSTAMP:20260419T225213Z
DTSTART:20260512T213000Z
URL:https://offbeat.amsterdam/event/techno-tuesday-esther-dune-and-dexon-1
GEO:52.3647777;4.881073026725959
LOCATION:Melkweg - Lijnbaansgracht 234A\, 1017 PH Amsterdam
STATUS:CONFIRMED
CATEGORIES:club night,club,amsterdam-centrum,techno,leidseplein,industrial
END:VEVENT
BEGIN:VEVENT
UID:20505@offbeat.amsterdam
SUMMARY:D.E.L.S. x Doka Studio w/ Kaap | Ambu Bambu | David Lee | Julien Ch
	aptal
DTSTAMP:20260419T225213Z
DTSTART:20260516T170000Z
DTEND:20260516T210000Z
URL:https://offbeat.amsterdam/event/dels-x-doka-studio-with-kaap-or-ambu-ba
	mbu-or-david-lee-or-julien-chaptal
GEO:52.353788;4.9119686
LOCATION:Doka - Wibautstraat 150\, 1091 GR Amsterdam
STATUS:CONFIRMED
CATEGORIES:improv,weesperzijde,techno,music,live,electronics,dance,amsterda
	m-oost
END:VEVENT
BEGIN:VEVENT
UID:20785@offbeat.amsterdam
SUMMARY:Upclose 2026 - After Hours
DTSTAMP:20260419T225213Z
DTSTART:20260516T210000Z
DTEND:20260518T040000Z
URL:https://offbeat.amsterdam/event/upclose-2026-after-hours
GEO:52.3898525;4.836764
LOCATION:Bret - Orlyplein 76\, 1043 DP Amsterdam
STATUS:CONFIRMED
CATEGORIES:techno,amsterdam-west,party,sloterdijk
END:VEVENT
BEGIN:VEVENT
UID:20817@offbeat.amsterdam
SUMMARY:ANTIDOTE ANTI - WAR FUNDRAISER
DTSTAMP:20260419T225213Z
DTSTART:20260517T210000Z
DTEND:20260518T070000Z
URL:https://offbeat.amsterdam/event/antidote-anti-war-fundraiser
GEO:52.3699549;4.843713
LOCATION:Tilla Tec - Doctor Jan van Breemenstraat 1\, 1056 AB Amsterdam
STATUS:CONFIRMED
CATEGORIES:fundraiser,rembrandtpark,techno,amsterdam-west
END:VEVENT
BEGIN:VEVENT
UID:20931@offbeat.amsterdam
SUMMARY:Techno Yoga - start 18:30
DTSTAMP:20260419T225213Z
DTSTART:20260519T160000Z
DTEND:20260519T180000Z
URL:https://offbeat.amsterdam/event/techno-yoga-start-1830
GEO:52.3456292;4.8255446
LOCATION:Radion - Louwesweg 1\, 1066 EA Amsterdam
STATUS:CONFIRMED
CATEGORIES:alternative,music,amsterdam nieuw-west,classes,gender,slotervaar
	t,yoga,techno
END:VEVENT
BEGIN:VEVENT
UID:20930@offbeat.amsterdam
SUMMARY:Techno Yoga - Start 20:00
DTSTAMP:20260419T225213Z
DTSTART:20260519T180000Z
DTEND:20260519T200000Z
URL:https://offbeat.amsterdam/event/techno-yoga-start-2000
GEO:52.3456292;4.8255446
LOCATION:Radion - Louwesweg 1\, 1066 EA Amsterdam
STATUS:CONFIRMED
CATEGORIES:slotervaart,yoga,alternative,amsterdam nieuw-west,classes,gender
	,music,techno
END:VEVENT
BEGIN:VEVENT
UID:20940@offbeat.amsterdam
SUMMARY:Techno Tuesday: A.R.T.
DTSTAMP:20260419T225213Z
DTSTART:20260519T213000Z
URL:https://offbeat.amsterdam/event/techno-tuesday-art
GEO:52.3647777;4.881073026725959
LOCATION:Melkweg - Lijnbaansgracht 234A\, 1017 PH Amsterdam
STATUS:CONFIRMED
CATEGORIES:amsterdam-centrum,techno,club,club night,industrial,leidseplein
END:VEVENT
BEGIN:VEVENT
UID:19308@offbeat.amsterdam
SUMMARY:RAAF
DTSTAMP:20260419T225213Z
DTSTART:20260522T170000Z
URL:https://offbeat.amsterdam/event/animal-advocacy-forum
GEO:52.376857;4.9220756
LOCATION:Pakhuis de Zwijger - Piet Heinkade 179\, 1019 HC Amsterdam
STATUS:CONFIRMED
CATEGORIES:eastern docklands,activism,amsterdam-centrum,books,community,din
	ner,food,jazz,music,party,plants,social,soul,stories,talk,techno,vegan
END:VEVENT
BEGIN:VEVENT
UID:20914@offbeat.amsterdam
SUMMARY:YUVA x TILLATEC
DTSTAMP:20260419T225213Z
DTSTART:20260522T210000Z
DTEND:20260523T050000Z
URL:https://offbeat.amsterdam/event/yuva-x-tillatec
GEO:52.3699549;4.843713
LOCATION:Tilla Tec - Doctor Jan van Breemenstraat 1\, 1056 AB Amsterdam
STATUS:CONFIRMED
CATEGORIES:community,amsterdam-west,techno,rembrandtpark,music,house,dance
END:VEVENT
BEGIN:VEVENT
UID:20927@offbeat.amsterdam
SUMMARY:RADION  w/ Mark Broom\, Carmen Electro\, HUJUS
DTSTAMP:20260419T225213Z
DTSTART:20260522T210000Z
DTEND:20260523T050000Z
URL:https://offbeat.amsterdam/event/radion-with-mark-broom-carmen-electro-h
	ujus
GEO:52.3456292;4.8255446
LOCATION:Radion - Louwesweg 1\, 1066 EA Amsterdam
STATUS:CONFIRMED
CATEGORIES:techno,slotervaart,music,dj,amsterdam nieuw-west
END:VEVENT
BEGIN:VEVENT
UID:20506@offbeat.amsterdam
SUMMARY:Doka Studio w/ DJ Koolt | Pieter Jansen
DTSTAMP:20260419T225213Z
DTSTART:20260522T215900Z
DTEND:20260523T040000Z
URL:https://offbeat.amsterdam/event/doka-studio-with-dj-koolt-or-pieter-jan
	sen
GEO:52.353788;4.9119686
LOCATION:Doka - Wibautstraat 150\, 1091 GR Amsterdam
STATUS:CONFIRMED
CATEGORIES:techno,music,dj,amsterdam-oost,weesperzijde
END:VEVENT
BEGIN:VEVENT
UID:20128@offbeat.amsterdam
SUMMARY:Doka Studio w/ Merve | Hervé
DTSTAMP:20260419T225213Z
DTSTART:20260523T215900Z
DTEND:20260524T040000Z
URL:https://offbeat.amsterdam/event/doka-studio-with-merve-or-herve
GEO:52.353788;4.9119686
LOCATION:Doka - Wibautstraat 150\, 1091 GR Amsterdam
STATUS:CONFIRMED
CATEGORIES:amsterdam-oost,techno,music,jazz,electronics,eclectic,weesperzij
	de
END:VEVENT
BEGIN:VEVENT
UID:17843@offbeat.amsterdam
SUMMARY:Marije Bruinsma
DTSTAMP:20260419T225213Z
DTSTART:20260524T173000Z
URL:https://offbeat.amsterdam/event/marije-bruinsma
GEO:52.36215535;4.883782439016489
LOCATION:Paradiso - Weteringschans 6\, 1017 SG Amsterdam
STATUS:CONFIRMED
CATEGORIES:techno,amsterdam-centrum,leidseplein
END:VEVENT
BEGIN:VEVENT
UID:20943@offbeat.amsterdam
SUMMARY:Techno Tuesday: Stefano Richetta & Dexon
DTSTAMP:20260419T225213Z
DTSTART:20260526T213000Z
URL:https://offbeat.amsterdam/event/techno-tuesday-stefano-richetta-and-dex
	on
GEO:52.3647777;4.881073026725959
LOCATION:Melkweg - Lijnbaansgracht 234A\, 1017 PH Amsterdam
STATUS:CONFIRMED
CATEGORIES:amsterdam-centrum,techno,leidseplein,industrial,club night,club
END:VEVENT
BEGIN:VEVENT
UID:20806@offbeat.amsterdam
SUMMARY:fiber festival at murmur // trois-quarts taxi system (live) & xenia
	 reaper (live)
DTSTAMP:20260419T225213Z
DTSTART:20260528T160000Z
URL:https://offbeat.amsterdam/event/fiber-festival-at-murmur-trois-quarts-t
	axi-system-live-and-xenia-reaper-live
GEO:52.3854298;4.9279805
LOCATION:murmur - Aambeeldstraat 60\, 1021 KB Amsterdam
STATUS:CONFIRMED
CATEGORIES:live,festivals,poetry,opening,music,hamerkwartier,techno,experim
	ental,dnb,dj,amsterdam-noord
END:VEVENT
BEGIN:VEVENT
UID:18101@offbeat.amsterdam
SUMMARY:giegling - Konstantin ALL NIGHT
DTSTAMP:20260419T225213Z
DTSTART:20260529T210000Z
DTEND:20260530T050000Z
URL:https://offbeat.amsterdam/event/giegling-konstantin-all-night
GEO:52.3699549;4.843713
LOCATION:Tilla Tec - Doctor Jan van Breemenstraat 1\, 1056 AB Amsterdam
STATUS:CONFIRMED
CATEGORIES:techno,rembrandtpark,house,amsterdam-west
END:VEVENT
BEGIN:VEVENT
UID:20512@offbeat.amsterdam
SUMMARY:Sin Señal X Doka Studio w/ Hannecart | Hofman | Mite Ashwel
DTSTAMP:20260419T225213Z
DTSTART:20260529T215900Z
DTEND:20260530T040000Z
URL:https://offbeat.amsterdam/event/sin-senal-x-doka-studio-with-hannecart-
	or-hofman-or-mite-ashwel
GEO:52.353788;4.9119686
LOCATION:Doka - Wibautstraat 150\, 1091 GR Amsterdam
STATUS:CONFIRMED
CATEGORIES:amsterdam-oost,weesperzijde,techno,opening,music,electronics,dj
END:VEVENT
BEGIN:VEVENT
UID:20564@offbeat.amsterdam
SUMMARY:Common Ground 3rd Edition
DTSTAMP:20260419T225213Z
DTSTART:20260530T150000Z
DTEND:20260531T010000Z
URL:https://offbeat.amsterdam/event/common-ground-3rd-edition
GEO:52.3966283;4.8755183
LOCATION:Toekomstmuziek - Danzigerbocht 29\, 1013 AM Amsterdam
STATUS:CONFIRMED
CATEGORIES:food,amsterdam-west,community,deep house,electronic,house,melodi
	c deep house,minervahaven,opening,techno,westpoort
END:VEVENT
BEGIN:VEVENT
UID:20241@offbeat.amsterdam
SUMMARY:FIBER Festival at TILLATEC
DTSTAMP:20260419T225213Z
DTSTART:20260530T180000Z
DTEND:20260531T050000Z
URL:https://offbeat.amsterdam/event/fiber-festival-at-tillatec
GEO:52.3699549;4.843713
LOCATION:Tilla Tec - Doctor Jan van Breemenstraat 1\, 1056 AB Amsterdam
STATUS:CONFIRMED
CATEGORIES:experimental,electronics,amsterdam-west,techno,rembrandtpark,per
	formance,music,live,festivals
END:VEVENT
BEGIN:VEVENT
UID:20465@offbeat.amsterdam
SUMMARY:Graveyard
DTSTAMP:20260419T225213Z
DTSTART:20260606T200000Z
DTEND:20260607T010000Z
URL:https://offbeat.amsterdam/event/graveyard-3
GEO:52.3601403;4.8656923
LOCATION:OT301 - Overtoom 301\, 1054 HW Amsterdam
STATUS:CONFIRMED
CATEGORIES:ebm,deconstructed club,amsterdam-west,metal,music,noise,hardcore
	,techno,electro,dj,industrial,experimental,vondelparkbuurt
END:VEVENT
BEGIN:VEVENT
UID:20350@offbeat.amsterdam
SUMMARY:Cybersex All Day Long
DTSTAMP:20260419T225213Z
DTSTART:20260613T120000Z
DTEND:20260613T210000Z
URL:https://offbeat.amsterdam/event/cybersex-all-day-long
GEO:52.3898525;4.836764
LOCATION:Bret - Orlyplein 76\, 1043 DP Amsterdam
STATUS:CONFIRMED
CATEGORIES:amsterdam-west,sloterdijk,techno
END:VEVENT
BEGIN:VEVENT
UID:20011@offbeat.amsterdam
SUMMARY:MASSIEF
DTSTAMP:20260419T225213Z
DTSTART:20260613T190000Z
DTEND:20260614T010000Z
URL:https://offbeat.amsterdam/event/massief
GEO:52.3601403;4.8656923
LOCATION:OT301 - Overtoom 301\, 1054 HW Amsterdam
STATUS:CONFIRMED
CATEGORIES:exhibition,festivals,hardcore,jungle,amsterdam-west,electronics,
	electronic,dubstep,drum & bass,dance,community,breakbeat,bass,dnb,dj,vonde
	lparkbuurt,vinyl,techno,talk,rave,party,music,experimental
END:VEVENT
BEGIN:VEVENT
UID:17689@offbeat.amsterdam
SUMMARY:LASTER x TILLATEC [Summer Edition]
DTSTAMP:20260419T225213Z
DTSTART:20260627T210000Z
DTEND:20260628T050000Z
URL:https://offbeat.amsterdam/event/laster-x-tillatec-summer-edition
GEO:52.3699549;4.843713
LOCATION:Tilla Tec - Doctor Jan van Breemenstraat 1\, 1056 AB Amsterdam
STATUS:CONFIRMED
CATEGORIES:techno,rembrandtpark,amsterdam-west
END:VEVENT
BEGIN:VEVENT
UID:20647@offbeat.amsterdam
SUMMARY:STOLEN
DTSTAMP:20260419T225213Z
DTSTART:20260708T180000Z
URL:https://offbeat.amsterdam/event/stolen
GEO:52.3528265;4.906568
LOCATION:Cinetol - Tolstraat 182\, 1074 VM Amsterdam
STATUS:CONFIRMED
CATEGORIES:techno,amsterdam-zuid,de pijp,elektronisch,indie,live,music,perf
	ormance,postpunk,punk,rock
END:VEVENT
BEGIN:VEVENT
UID:17069@offbeat.amsterdam
SUMMARY:Dekmantel Festival: Darkside / Headache / Juan Atkins pres. INFINIT
	I / NEW YORK e.a.
DTSTAMP:20260419T225213Z
DTSTART:20260730T163000Z
URL:https://offbeat.amsterdam/event/dekmantel-festival-darkside-headache-ju
	an-atkins-pres-infiniti-new-york-ea
GEO:52.3647777;4.881073026725959
LOCATION:Melkweg - Lijnbaansgracht 234A\, 1017 PH Amsterdam
STATUS:CONFIRMED
CATEGORIES:techno,amsterdam-centrum,festival,house,leidseplein,live
END:VEVENT
BEGIN:VEVENT
UID:19328@offbeat.amsterdam
SUMMARY:Rapido & Funhouse present World Pride Opening Event
DTSTAMP:20260419T225213Z
DTSTART:20260731T200000Z
URL:https://offbeat.amsterdam/event/rapido-and-funhouse-present-world-pride
	-opening-event
GEO:52.3647777;4.881073026725959
LOCATION:Melkweg - Lijnbaansgracht 234A\, 1017 PH Amsterdam
STATUS:CONFIRMED
CATEGORIES:techno,amsterdam-centrum,club,club night,house,leidseplein,queer
END:VEVENT
BEGIN:VEVENT
UID:14536@offbeat.amsterdam
SUMMARY:Fat Freddy's Drop
DTSTAMP:20260419T225213Z
DTSTART:20261012T173000Z
URL:https://offbeat.amsterdam/event/fat-freddys-drop
GEO:52.36215535;4.883782439016489
LOCATION:Paradiso - Weteringschans 6\, 1017 SG Amsterdam
STATUS:CONFIRMED
CATEGORIES:amsterdam-centrum,jazz,leidseplein,reggae,soul,techno
END:VEVENT
BEGIN:VEVENT
UID:14537@offbeat.amsterdam
SUMMARY:Fat Freddy's Drop
DTSTAMP:20260419T225213Z
DTSTART:20261013T173000Z
URL:https://offbeat.amsterdam/event/fat-freddys-drop-1
GEO:52.36215535;4.883782439016489
LOCATION:Paradiso - Weteringschans 6\, 1017 SG Amsterdam
STATUS:CONFIRMED
CATEGORIES:amsterdam-centrum,techno,soul,reggae,leidseplein,jazz
END:VEVENT
BEGIN:VEVENT
UID:14538@offbeat.amsterdam
SUMMARY:Fat Freddy's Drop
DTSTAMP:20260419T225213Z
DTSTART:20261014T173000Z
URL:https://offbeat.amsterdam/event/fat-freddys-drop-2
GEO:52.36215535;4.883782439016489
LOCATION:Paradiso - Weteringschans 6\, 1017 SG Amsterdam
STATUS:CONFIRMED
CATEGORIES:techno,soul,reggae,leidseplein,jazz,amsterdam-centrum
END:VEVENT
BEGIN:VEVENT
UID:20007@offbeat.amsterdam
SUMMARY:Speedy J presents STOOR Live - ADE 2026
DTSTAMP:20260419T225213Z
DTSTART:20261024T140000Z
URL:https://offbeat.amsterdam/event/speedy-j-presents-stoor-live-ade-2026
GEO:52.36215535;4.883782439016489
LOCATION:Paradiso - Weteringschans 6\, 1017 SG Amsterdam
STATUS:CONFIRMED
CATEGORIES:music,leidseplein,electronics,amsterdam-centrum,ade,techno,live
END:VEVENT
BEGIN:VEVENT
UID:20008@offbeat.amsterdam
SUMMARY:Speedy J presents STOOR Live - ADE 2026
DTSTAMP:20260419T225213Z
DTSTART:20261025T150000Z
URL:https://offbeat.amsterdam/event/speedy-j-presents-stoor-live-ade-2026-1
GEO:52.36215535;4.883782439016489
LOCATION:Paradiso - Weteringschans 6\, 1017 SG Amsterdam
STATUS:CONFIRMED
CATEGORIES:techno,amsterdam-centrum,electronics,leidseplein,live,music,ade
END:VEVENT
BEGIN:VEVENT
UID:17361@offbeat.amsterdam
SUMMARY:KRAFT Premium Pounding Techno 21st of November 2026
DTSTAMP:20260419T225213Z
DTSTART:20261121T150000Z
DTEND:20261121T220000Z
URL:https://offbeat.amsterdam/event/kraft-premium-pounding-techno-21st-of-n
	ovember-2026
GEO:52.3371354;4.9251157
LOCATION:Levenslang - H.J.E. Wenckebachweg 48\, 1096 AN Amsterdam
STATUS:CONFIRMED
CATEGORIES:amsterdam-oost,overamstel,techno,acid
END:VEVENT
END:VCALENDAR
