BEGIN:VCALENDAR
VERSION:2.0
CALSCALE:GREGORIAN
PRODID:adamgibbons/ics
METHOD:PUBLISH
X-PUBLISHED-TTL:PT1H
BEGIN:VEVENT
UID:12340@offbeat.amsterdam
SUMMARY:Klaplopers- Stand-up Comedy
DTSTAMP:20260420T003509Z
DTSTART:20260522T190000Z
URL:https://offbeat.amsterdam/event/klaplopers-stand-up-comedy-5
GEO:52.3711125;4.8900771
LOCATION:Theater de Richel - Nieuwezijds Voorburgwal 282\, 1012 RT Amsterda
	m
STATUS:CONFIRMED
CATEGORIES:amsterdam-centrum,comedy,kleine-zaal,spui,stand-up,theater
END:VEVENT
BEGIN:VEVENT
UID:12341@offbeat.amsterdam
SUMMARY:Klaplopers- Stand-up Comedy
DTSTAMP:20260420T003509Z
DTSTART:20260619T190000Z
URL:https://offbeat.amsterdam/event/klaplopers-stand-up-comedy-6
GEO:52.3711125;4.8900771
LOCATION:Theater de Richel - Nieuwezijds Voorburgwal 282\, 1012 RT Amsterda
	m
STATUS:CONFIRMED
CATEGORIES:amsterdam-centrum,comedy,kleine-zaal,spui,stand-up,theater
END:VEVENT
END:VCALENDAR
