BEGIN:VCALENDAR
VERSION:2.0
CALSCALE:GREGORIAN
PRODID:adamgibbons/ics
METHOD:PUBLISH
X-PUBLISHED-TTL:PT1H
BEGIN:VEVENT
UID:20819@offbeat.amsterdam
SUMMARY:Lowly Dog + The Pheromones
DTSTAMP:20260419T223221Z
DTSTART:20260420T160000Z
URL:https://offbeat.amsterdam/event/lowly-dog-the-pheromones
GEO:52.3830202;4.8780599
LOCATION:Zaal 100 - De Wittenstraat 100\, 1052 BA Amsterdam
STATUS:CONFIRMED
CATEGORIES:amsterdam-west,staatsliedenbuurt,rock,pride,music,live,concert,b
	lues
END:VEVENT
BEGIN:VEVENT
UID:20146@offbeat.amsterdam
SUMMARY:Jazzcafé!
DTSTAMP:20260419T223221Z
DTSTART:20260421T190000Z
URL:https://offbeat.amsterdam/event/jazzcafe-34
GEO:52.3830202;4.8780599
LOCATION:Zaal 100 - De Wittenstraat 100\, 1052 BA Amsterdam
STATUS:CONFIRMED
CATEGORIES:music,staatsliedenbuurt,amsterdam-west
END:VEVENT
BEGIN:VEVENT
UID:20160@offbeat.amsterdam
SUMMARY:Restaurant: Yayang
DTSTAMP:20260419T223221Z
DTSTART:20260422T160000Z
URL:https://offbeat.amsterdam/event/restaurant-yayang-4
GEO:52.3830202;4.8780599
LOCATION:Zaal 100 - De Wittenstraat 100\, 1052 BA Amsterdam
STATUS:CONFIRMED
CATEGORIES:staatsliedenbuurt,amsterdam-west,vegan
END:VEVENT
BEGIN:VEVENT
UID:20155@offbeat.amsterdam
SUMMARY:Restaurant: Sisi & Sevgi koken
DTSTAMP:20260419T223221Z
DTSTART:20260423T160000Z
URL:https://offbeat.amsterdam/event/restaurant-sisi-and-sevgi-koken-43
GEO:52.3830202;4.8780599
LOCATION:Zaal 100 - De Wittenstraat 100\, 1052 BA Amsterdam
STATUS:CONFIRMED
CATEGORIES:staatsliedenbuurt,amsterdam-west,dinner
END:VEVENT
BEGIN:VEVENT
UID:20150@offbeat.amsterdam
SUMMARY:Oktopedians
DTSTAMP:20260419T223221Z
DTSTART:20260423T180000Z
URL:https://offbeat.amsterdam/event/oktopedians-42
GEO:52.3830202;4.8780599
LOCATION:Zaal 100 - De Wittenstraat 100\, 1052 BA Amsterdam
STATUS:CONFIRMED
CATEGORIES:amsterdam-west,staatsliedenbuurt
END:VEVENT
BEGIN:VEVENT
UID:19804@offbeat.amsterdam
SUMMARY:🎬 De Spelende Mens + nagesprek met filmmakers en Eric Duivenvoorden
DTSTAMP:20260419T223221Z
DTSTART:20260423T183000Z
URL:https://offbeat.amsterdam/event/de-spelende-mens-nagesprek-met-filmmake
	rs-en-eric-duivenvoorden
GEO:52.381974;4.8703107
LOCATION:Filmhuis Cavia - Van Hallstraat 52-1\, 1051 HH Amsterdam
STATUS:CONFIRMED
CATEGORIES:poetry,staatsliedenbuurt,amsterdam-west,film,music
END:VEVENT
BEGIN:VEVENT
UID:19284@offbeat.amsterdam
SUMMARY:🎬 Brazil Unfiltered: Southern Sorceresses (2020) + Q&A
DTSTAMP:20260419T223221Z
DTSTART:20260424T183000Z
URL:https://offbeat.amsterdam/event/brazil-unfiltered-southern-sorceresses-
	2020-qanda
GEO:52.381974;4.8703107
LOCATION:Filmhuis Cavia - Van Hallstraat 52-1\, 1051 HH Amsterdam
STATUS:CONFIRMED
CATEGORIES:performance,staatsliedenbuurt,improv,gender,film,documentary,ams
	terdam-west,activism,q&a
END:VEVENT
BEGIN:VEVENT
UID:20530@offbeat.amsterdam
SUMMARY:Ayurvedic Cooking Class
DTSTAMP:20260419T223221Z
DTSTART:20260425T120000Z
URL:https://offbeat.amsterdam/event/ayurvedic-cooking-class
GEO:52.3830202;4.8780599
LOCATION:Zaal 100 - De Wittenstraat 100\, 1052 BA Amsterdam
STATUS:CONFIRMED
CATEGORIES:food,amsterdam-west,classes,staatsliedenbuurt,dinner
END:VEVENT
BEGIN:VEVENT
UID:20682@offbeat.amsterdam
SUMMARY:🎬 As I Was Moving Ahead Occasionally I Saw Brief Glimpses of Beauty
	 (2000)
DTSTAMP:20260419T223221Z
DTSTART:20260426T153000Z
URL:https://offbeat.amsterdam/event/as-i-was-moving-ahead-occasionally-i-sa
	w-brief-glimpses-of-beauty-2000
GEO:52.381974;4.8703107
LOCATION:Filmhuis Cavia - Van Hallstraat 52-1\, 1051 HH Amsterdam
STATUS:CONFIRMED
CATEGORIES:film,amsterdam-west,staatsliedenbuurt
END:VEVENT
BEGIN:VEVENT
UID:20207@offbeat.amsterdam
SUMMARY:TryTone presenteert TONE SERIES
DTSTAMP:20260419T223221Z
DTSTART:20260426T180000Z
URL:https://offbeat.amsterdam/event/trytone-presenteert-tone-series-12
GEO:52.3830202;4.8780599
LOCATION:Zaal 100 - De Wittenstraat 100\, 1052 BA Amsterdam
STATUS:CONFIRMED
CATEGORIES:staatsliedenbuurt,piano,concert,amsterdam-west
END:VEVENT
BEGIN:VEVENT
UID:20145@offbeat.amsterdam
SUMMARY:Jazzcafé All Ellington!
DTSTAMP:20260419T223221Z
DTSTART:20260428T190000Z
URL:https://offbeat.amsterdam/event/jazzcafe-all-ellington
GEO:52.3830202;4.8780599
LOCATION:Zaal 100 - De Wittenstraat 100\, 1052 BA Amsterdam
STATUS:CONFIRMED
CATEGORIES:staatsliedenbuurt,piano,music,amsterdam-west
END:VEVENT
BEGIN:VEVENT
UID:20159@offbeat.amsterdam
SUMMARY:Restaurant: Yayang
DTSTAMP:20260419T223221Z
DTSTART:20260429T160000Z
URL:https://offbeat.amsterdam/event/restaurant-yayang-3
GEO:52.3830202;4.8780599
LOCATION:Zaal 100 - De Wittenstraat 100\, 1052 BA Amsterdam
STATUS:CONFIRMED
CATEGORIES:vegan,staatsliedenbuurt,amsterdam-west
END:VEVENT
BEGIN:VEVENT
UID:20154@offbeat.amsterdam
SUMMARY:Restaurant: Sisi & Sevgi koken
DTSTAMP:20260419T223221Z
DTSTART:20260430T160000Z
URL:https://offbeat.amsterdam/event/restaurant-sisi-and-sevgi-koken-42
GEO:52.3830202;4.8780599
LOCATION:Zaal 100 - De Wittenstraat 100\, 1052 BA Amsterdam
STATUS:CONFIRMED
CATEGORIES:staatsliedenbuurt,amsterdam-west,dinner
END:VEVENT
BEGIN:VEVENT
UID:20149@offbeat.amsterdam
SUMMARY:Oktopedians
DTSTAMP:20260419T223221Z
DTSTART:20260430T180000Z
URL:https://offbeat.amsterdam/event/oktopedians-41
GEO:52.3830202;4.8780599
LOCATION:Zaal 100 - De Wittenstraat 100\, 1052 BA Amsterdam
STATUS:CONFIRMED
CATEGORIES:amsterdam-west,staatsliedenbuurt
END:VEVENT
BEGIN:VEVENT
UID:19667@offbeat.amsterdam
SUMMARY:🎬 Greek Film Festival presents: Afterlov (2016)
DTSTAMP:20260419T223221Z
DTSTART:20260430T183000Z
URL:https://offbeat.amsterdam/event/greek-film-festival-presents-afterlov-2
	016
GEO:52.381974;4.8703107
LOCATION:Filmhuis Cavia - Van Hallstraat 52-1\, 1051 HH Amsterdam
STATUS:CONFIRMED
CATEGORIES:staatsliedenbuurt,festivals,amsterdam-west,stories,film
END:VEVENT
BEGIN:VEVENT
UID:19280@offbeat.amsterdam
SUMMARY:🎬 Brazil Unfiltered: My Foreign Land (2025)
DTSTAMP:20260419T223221Z
DTSTART:20260506T183000Z
URL:https://offbeat.amsterdam/event/brazil-unfiltered-my-foreign-land-2025
GEO:52.381974;4.8703107
LOCATION:Filmhuis Cavia - Van Hallstraat 52-1\, 1051 HH Amsterdam
STATUS:CONFIRMED
CATEGORIES:amsterdam-west,staatsliedenbuurt,film,documentary,democracy,acti
	vism
END:VEVENT
BEGIN:VEVENT
UID:19282@offbeat.amsterdam
SUMMARY:🎬 Brazil Unfiltered: Paid in Blood (2025) + Q&A
DTSTAMP:20260419T223221Z
DTSTART:20260514T183000Z
URL:https://offbeat.amsterdam/event/brazil-unfiltered-paid-in-blood-2025-qa
	nda
GEO:52.381974;4.8703107
LOCATION:Filmhuis Cavia - Van Hallstraat 52-1\, 1051 HH Amsterdam
STATUS:CONFIRMED
CATEGORIES:q&a,documentary,amsterdam-west,activism,staatsliedenbuurt,film
END:VEVENT
END:VCALENDAR
