BEGIN:VCALENDAR
VERSION:2.0
CALSCALE:GREGORIAN
PRODID:adamgibbons/ics
METHOD:PUBLISH
X-PUBLISHED-TTL:PT1H
BEGIN:VEVENT
UID:20083@offbeat.amsterdam
SUMMARY:Summer of Soul (2021)
DTSTAMP:20260419T223215Z
DTSTART:20260422T180000Z
URL:https://offbeat.amsterdam/event/summer-of-soul-2021
GEO:52.3647777;4.881073026725959
LOCATION:Melkweg - Lijnbaansgracht 234A\, 1017 PH Amsterdam
STATUS:CONFIRMED
CATEGORIES:music documentary,leidseplein,funk,blues,film,concert film,amste
	rdam-centrum,soul
END:VEVENT
BEGIN:VEVENT
UID:20178@offbeat.amsterdam
SUMMARY:YOGA WITH KASHA
DTSTAMP:20260419T223215Z
DTSTART:20260423T163000Z
DTEND:20260423T174500Z
URL:https://offbeat.amsterdam/event/yoga-with-kasha-9
GEO:52.3930912;4.9096685
LOCATION:De Ceuvel - Korte Papaverweg 2\, 1032 KB Amsterdam
STATUS:CONFIRMED
CATEGORIES:yoga,gender,community,classes,buiksloterham,books,amsterdam-noor
	d,soul
END:VEVENT
BEGIN:VEVENT
UID:19743@offbeat.amsterdam
SUMMARY:Living Room Session 10
DTSTAMP:20260419T223215Z
DTSTART:20260424T180000Z
URL:https://offbeat.amsterdam/event/living-room-session
GEO:52.3699902;4.884254
LOCATION:Felix Meritis - Keizersgracht 324\, 1016 EZ Amsterdam
STATUS:CONFIRMED
CATEGORIES:meditation,afro,afrobeats,amsterdam-centrum,dance,dj,exhibition,
	film,hip-hop,jazz,keizersgracht,lecture,live,music,opening,performance,rnb
	,soul,stories,theater
END:VEVENT
BEGIN:VEVENT
UID:20180@offbeat.amsterdam
SUMMARY:YOGA WITH KASHA
DTSTAMP:20260419T223215Z
DTSTART:20260425T080000Z
DTEND:20260425T091500Z
URL:https://offbeat.amsterdam/event/yoga-with-kasha-11
GEO:52.3930912;4.9096685
LOCATION:De Ceuvel - Korte Papaverweg 2\, 1032 KB Amsterdam
STATUS:CONFIRMED
CATEGORIES:community,gender,soul,classes,yoga,buiksloterham,books,amsterdam
	-noord
END:VEVENT
BEGIN:VEVENT
UID:19387@offbeat.amsterdam
SUMMARY:Sattas live in Amsterdam!
DTSTAMP:20260419T223215Z
DTSTART:20260425T163000Z
URL:https://offbeat.amsterdam/event/sattas-live-in-amsterdam
GEO:52.3966283;4.8755183
LOCATION:Toekomstmuziek - Danzigerbocht 29\, 1013 AM Amsterdam
STATUS:CONFIRMED
CATEGORIES:festivals,funk,reggae,performance,music,minervahaven,live,live m
	usic,jazz,westpoort,turkish culture,soul,ska,rock,amsterdam-west
END:VEVENT
BEGIN:VEVENT
UID:13239@offbeat.amsterdam
SUMMARY:Skye Newman
DTSTAMP:20260419T223215Z
DTSTART:20260425T170000Z
URL:https://offbeat.amsterdam/event/skye-newman
GEO:52.3647777;4.881073026725959
LOCATION:Melkweg - Lijnbaansgracht 234A\, 1017 PH Amsterdam
STATUS:CONFIRMED
CATEGORIES:soul,amsterdam-centrum,concert,leidseplein,pop,r&b
END:VEVENT
BEGIN:VEVENT
UID:20425@offbeat.amsterdam
SUMMARY:Contra x JAÏNDA
DTSTAMP:20260419T223215Z
DTSTART:20260425T200000Z
DTEND:20260425T230000Z
URL:https://offbeat.amsterdam/event/contra-x-jainda
GEO:52.3691458;4.8950558
LOCATION:Contra - Oudezijds Achterburgwal 235\, 1012 DL Amsterdam
STATUS:CONFIRMED
CATEGORIES:rnb,soul,amsterdam-centrum,burgwallen,jazz,music
END:VEVENT
BEGIN:VEVENT
UID:17812@offbeat.amsterdam
SUMMARY:RASA: Fado and Kathak Dance: An Emotional Journey Across Cultures b
	y Casa de Fado & Art Uncurated
DTSTAMP:20260419T223215Z
DTSTART:20260426T140000Z
URL:https://offbeat.amsterdam/event/rasa-fado-and-kathak-dance-an-emotional
	-journey-across-cultures-by-casa-de-fado-and-art-uncurated
GEO:52.354291;4.8540331
LOCATION:Teatro Munganga - Schinkelhavenstraat 27 HS\, 1075 VP Amsterdam
STATUS:CONFIRMED
CATEGORIES:classes,amsterdam-zuid,community,concert,dance,festivals,jazz,le
	cture,music,performance,poetry,schinkelbuurt,soul,storytelling
END:VEVENT
BEGIN:VEVENT
UID:2249@offbeat.amsterdam
SUMMARY:KONING CEUVEL // KING’S NIGHT
DTSTAMP:20260419T223215Z
DTSTART:20260426T190000Z
DTEND:20260427T013000Z
URL:https://offbeat.amsterdam/event/koning-ceuvel-kings-night
GEO:52.3930912;4.9096685
LOCATION:De Ceuvel - Korte Papaverweg 2\, 1032 KB Amsterdam
STATUS:CONFIRMED
CATEGORIES:improv,funk,festivals,electronics,eclectic,dj,dance,concert,afro
	,reggae,rock,soul,techno,psychedelic rock,punk,music,live,performance,amst
	erdam-noord,buiksloterham,colonialism,lecture,party,jazz
END:VEVENT
BEGIN:VEVENT
UID:19296@offbeat.amsterdam
SUMMARY:Modus King's Night
DTSTAMP:20260419T223215Z
DTSTART:20260426T215900Z
DTEND:20260427T040000Z
URL:https://offbeat.amsterdam/event/modus-kings-night
GEO:52.3833541;4.9036483
LOCATION:Parallel - Buiksloterweg 5C\, 1031 CC Amsterdam
STATUS:CONFIRMED
CATEGORIES:techno,soul,music,electronics,festivals,amsterdam-noord,buikslot
	erweg,dance,dekmantel,dj,eclectic,live
END:VEVENT
BEGIN:VEVENT
UID:20223@offbeat.amsterdam
SUMMARY:Jazz on Wednesday: Olivier Frere Group
DTSTAMP:20260419T223215Z
DTSTART:20260429T170000Z
DTEND:20260429T200000Z
URL:https://offbeat.amsterdam/event/jazz-on-wednesday-olivier-frere-group
GEO:52.3691458;4.8950558
LOCATION:Contra - Oudezijds Achterburgwal 235\, 1012 DL Amsterdam
STATUS:CONFIRMED
CATEGORIES:amsterdam-centrum,performance,music,live,jazz,burgwallen,soul,pi
	ano
END:VEVENT
BEGIN:VEVENT
UID:14542@offbeat.amsterdam
SUMMARY:Flo Naegeli
DTSTAMP:20260419T223215Z
DTSTART:20260429T173000Z
URL:https://offbeat.amsterdam/event/flo-naegeli
GEO:52.36215535;4.883782439016489
LOCATION:Paradiso - Weteringschans 6\, 1017 SG Amsterdam
STATUS:CONFIRMED
CATEGORIES:amsterdam-centrum,indie,leidseplein,soul
END:VEVENT
BEGIN:VEVENT
UID:20181@offbeat.amsterdam
SUMMARY:YOGA WITH KASHA
DTSTAMP:20260419T223215Z
DTSTART:20260430T163000Z
DTEND:20260430T174500Z
URL:https://offbeat.amsterdam/event/yoga-with-kasha-12
GEO:52.3930912;4.9096685
LOCATION:De Ceuvel - Korte Papaverweg 2\, 1032 KB Amsterdam
STATUS:CONFIRMED
CATEGORIES:amsterdam-noord,books,buiksloterham,classes,community,gender,sou
	l,yoga
END:VEVENT
BEGIN:VEVENT
UID:14514@offbeat.amsterdam
SUMMARY:Danny Vera
DTSTAMP:20260419T223215Z
DTSTART:20260501T173000Z
URL:https://offbeat.amsterdam/event/danny-vera
GEO:52.36215535;4.883782439016489
LOCATION:Paradiso - Weteringschans 6\, 1017 SG Amsterdam
STATUS:CONFIRMED
CATEGORIES:amsterdam-centrum,leidseplein,soul
END:VEVENT
BEGIN:VEVENT
UID:20242@offbeat.amsterdam
SUMMARY:Campbell Outernational Sound System
DTSTAMP:20260419T223215Z
DTSTART:20260501T190000Z
DTEND:20260502T010000Z
URL:https://offbeat.amsterdam/event/campbell-outernational-sound-system
GEO:52.3966283;4.8755183
LOCATION:Toekomstmuziek - Danzigerbocht 29\, 1013 AM Amsterdam
STATUS:CONFIRMED
CATEGORIES:dub,dance,bass,amsterdam-west,roots reggae,ska,soul,storytelling
	,westpoort,reggaemuziek,reggae,performance,party,music,minervahaven,live p
	erformance,live,hip-hop,festivals,electronics,electronic,djs
END:VEVENT
BEGIN:VEVENT
UID:19888@offbeat.amsterdam
SUMMARY:FACE/LESS by DAR
DTSTAMP:20260419T223215Z
DTSTART:20260501T200000Z
DTEND:20260502T010000Z
URL:https://offbeat.amsterdam/event/faceless-by-dar
GEO:52.3601403;4.8656923
LOCATION:OT301 - Overtoom 301\, 1054 HW Amsterdam
STATUS:CONFIRMED
CATEGORIES:electronics,music,live,high-bpm hybrids,hardcore,gabber,funk,fes
	tivals,experimental electronic,experimental,emo,poetry,post-club,soul,vond
	elparkbuurt,performance,amsterdam-west,dance,deconstructed club,dj,dubstep
END:VEVENT
BEGIN:VEVENT
UID:19958@offbeat.amsterdam
SUMMARY:BubbleUp (Kes Afterparty)
DTSTAMP:20260419T223215Z
DTSTART:20260501T213000Z
DTEND:20260502T020000Z
URL:https://offbeat.amsterdam/event/bubbleup-kes-afterparty
GEO:52.3833541;4.9036483
LOCATION:Parallel - Buiksloterweg 5C\, 1031 CC Amsterdam
STATUS:CONFIRMED
CATEGORIES:reggae,soul,rock,party,live,concert,buiksloterweg,amsterdam-noor
	d
END:VEVENT
BEGIN:VEVENT
UID:20509@offbeat.amsterdam
SUMMARY:Doka Studio w/ Stella Zekri | Eileen
DTSTAMP:20260419T223215Z
DTSTART:20260501T215900Z
DTEND:20260502T040000Z
URL:https://offbeat.amsterdam/event/doka-studio-with-stella-zekri-or-eileen
GEO:52.353788;4.9119686
LOCATION:Doka - Wibautstraat 150\, 1091 GR Amsterdam
STATUS:CONFIRMED
CATEGORIES:jazz,community,amsterdam-oost,weesperzijde,soul,music
END:VEVENT
BEGIN:VEVENT
UID:20179@offbeat.amsterdam
SUMMARY:YOGA WITH KASHA
DTSTAMP:20260419T223215Z
DTSTART:20260502T080000Z
DTEND:20260502T091500Z
URL:https://offbeat.amsterdam/event/yoga-with-kasha-10
GEO:52.3930912;4.9096685
LOCATION:De Ceuvel - Korte Papaverweg 2\, 1032 KB Amsterdam
STATUS:CONFIRMED
CATEGORIES:amsterdam-noord,yoga,books,soul,gender,community,classes,buikslo
	terham
END:VEVENT
BEGIN:VEVENT
UID:20888@offbeat.amsterdam
SUMMARY:Woven freedom
DTSTAMP:20260419T223215Z
DTSTART:20260505T090000Z
DTEND:20260505T140000Z
URL:https://offbeat.amsterdam/event/woven-freedom
GEO:52.3690637;4.894763
LOCATION:VOX-POP - Binnengasthuisstraat 9\, 1012 ZA Amsterdam
STATUS:CONFIRMED
CATEGORIES:stories,burgwallen,exhibition,poetry,soul,amsterdam-centrum,talk
	,workshop
END:VEVENT
BEGIN:VEVENT
UID:20291@offbeat.amsterdam
SUMMARY:FREEDOM
DTSTAMP:20260419T223215Z
DTSTART:20260505T170000Z
URL:https://offbeat.amsterdam/event/freedom-1
GEO:52.3699078;4.9032848
LOCATION:Splendor - Nieuwe Uilenburgerstraat 116\, 1011 LX Amsterdam
STATUS:CONFIRMED
CATEGORIES:amsterdam-centrum,concert,food,meditation,music,nieuwmarkt/lasta
	ge,opening,piano,soul
END:VEVENT
BEGIN:VEVENT
UID:18937@offbeat.amsterdam
SUMMARY:Music in ‘t Café // Spull
DTSTAMP:20260419T223215Z
DTSTART:20260507T193000Z
DTEND:20260507T210000Z
URL:https://offbeat.amsterdam/event/music-night-at-the-cafe-spull
GEO:52.3930912;4.9096685
LOCATION:De Ceuvel - Korte Papaverweg 2\, 1032 KB Amsterdam
STATUS:CONFIRMED
CATEGORIES:improv,buiksloterham,amsterdam-noord,funk,afro,dinner,soul,music
	,live,jazz
END:VEVENT
BEGIN:VEVENT
UID:16637@offbeat.amsterdam
SUMMARY:Anne-Fay
DTSTAMP:20260419T223215Z
DTSTART:20260508T173000Z
URL:https://offbeat.amsterdam/event/anne-fay
GEO:52.36215535;4.883782439016489
LOCATION:Paradiso - Weteringschans 6\, 1017 SG Amsterdam
STATUS:CONFIRMED
CATEGORIES:soul,leidseplein,amsterdam-centrum
END:VEVENT
BEGIN:VEVENT
UID:20953@offbeat.amsterdam
SUMMARY:Barrence Whitfield (USA)
DTSTAMP:20260419T223215Z
DTSTART:20260508T200000Z
DTEND:20260509T013000Z
URL:https://offbeat.amsterdam/event/barrence-whitfield-usa
GEO:52.370056;4.8777163
LOCATION:Maloe Melo - Lijnbaansgracht 163\, 1016 VX Amsterdam
STATUS:CONFIRMED
CATEGORIES:soul,amsterdam beatclub,amsterdam-centrum,jordaan,live concert,p
	arty,rnb
END:VEVENT
BEGIN:VEVENT
UID:20513@offbeat.amsterdam
SUMMARY:The Narrative x Doka Studio w/ Nedda Sou | John Agesilas | LYLO
DTSTAMP:20260419T223215Z
DTSTART:20260509T215900Z
DTEND:20260510T040000Z
URL:https://offbeat.amsterdam/event/the-narrative-x-doka-studio-with-nedda-
	sou-or-john-agesilas-or-lylo
GEO:52.353788;4.9119686
LOCATION:Doka - Wibautstraat 150\, 1091 GR Amsterdam
STATUS:CONFIRMED
CATEGORIES:weesperzijde,music,funk,dj,community,amsterdam-oost,jazz,soul
END:VEVENT
BEGIN:VEVENT
UID:17105@offbeat.amsterdam
SUMMARY:The Amsterdelics
DTSTAMP:20260419T223215Z
DTSTART:20260513T173000Z
URL:https://offbeat.amsterdam/event/amsterdelics
GEO:52.3647777;4.881073026725959
LOCATION:Melkweg - Lijnbaansgracht 234A\, 1017 PH Amsterdam
STATUS:CONFIRMED
CATEGORIES:leidseplein,funk,psychedelic,reggae,soul,amsterdam-centrum,conce
	rt,dub
END:VEVENT
BEGIN:VEVENT
UID:14609@offbeat.amsterdam
SUMMARY:Mamas Gun
DTSTAMP:20260419T223215Z
DTSTART:20260513T173000Z
URL:https://offbeat.amsterdam/event/mamas-gun
GEO:52.36215535;4.883782439016489
LOCATION:Paradiso - Weteringschans 6\, 1017 SG Amsterdam
STATUS:CONFIRMED
CATEGORIES:amsterdam-centrum,blues,leidseplein,soul
END:VEVENT
BEGIN:VEVENT
UID:20221@offbeat.amsterdam
SUMMARY:Tiigre + The Soul Demons
DTSTAMP:20260419T223215Z
DTSTART:20260516T190000Z
DTEND:20260516T230000Z
URL:https://offbeat.amsterdam/event/tiigre-the-soul-demons
GEO:52.374158;4.8726931
LOCATION:De Nieuwe Anita - Frederik Hendrikstraat 111\, 1052 HN Amsterdam
STATUS:CONFIRMED
CATEGORIES:soul,live,music,rock,westerpark,amsterdam-west,dance,dj,funk,ind
	ie,jazz
END:VEVENT
BEGIN:VEVENT
UID:18699@offbeat.amsterdam
SUMMARY:Noah Guy
DTSTAMP:20260419T223215Z
DTSTART:20260520T200000Z
URL:https://offbeat.amsterdam/event/noah-guy
GEO:52.36215535;4.883782439016489
LOCATION:Paradiso - Weteringschans 6\, 1017 SG Amsterdam
STATUS:CONFIRMED
CATEGORIES:amsterdam-centrum,leidseplein,rnb,soul
END:VEVENT
BEGIN:VEVENT
UID:19376@offbeat.amsterdam
SUMMARY:Murdo Mitchell + Support Live in Amsterdam!
DTSTAMP:20260419T223215Z
DTSTART:20260521T170000Z
DTEND:20260521T210000Z
URL:https://offbeat.amsterdam/event/murdo-mitchell-support-live-in-amsterda
	m
GEO:52.3966283;4.8755183
LOCATION:Toekomstmuziek - Danzigerbocht 29\, 1013 AM Amsterdam
STATUS:CONFIRMED
CATEGORIES:westpoort,live music,minervahaven,pop,singer-songwriter,amsterda
	m-west,indie,live,soul
END:VEVENT
BEGIN:VEVENT
UID:19308@offbeat.amsterdam
SUMMARY:RAAF
DTSTAMP:20260419T223215Z
DTSTART:20260522T170000Z
URL:https://offbeat.amsterdam/event/animal-advocacy-forum
GEO:52.376857;4.9220756
LOCATION:Pakhuis de Zwijger - Piet Heinkade 179\, 1019 HC Amsterdam
STATUS:CONFIRMED
CATEGORIES:party,social,soul,vegan,techno,talk,activism,amsterdam-centrum,b
	ooks,community,dinner,eastern docklands,food,jazz,music,stories,plants
END:VEVENT
BEGIN:VEVENT
UID:18556@offbeat.amsterdam
SUMMARY:BLOOM presents Nectar Woode with NOTION
DTSTAMP:20260419T223215Z
DTSTART:20260523T170000Z
URL:https://offbeat.amsterdam/event/bloom-presents-nectar-woode-with-notion
GEO:52.36215535;4.883782439016489
LOCATION:Paradiso - Weteringschans 6\, 1017 SG Amsterdam
STATUS:CONFIRMED
CATEGORIES:performance,leidseplein,jazz,amsterdam-centrum,soul
END:VEVENT
BEGIN:VEVENT
UID:17640@offbeat.amsterdam
SUMMARY:The Soulful Sessions - TJ Taotua & Sonny Tennet
DTSTAMP:20260419T223215Z
DTSTART:20260524T180000Z
URL:https://offbeat.amsterdam/event/the-soulful-sessions-tj-taotua-and-sonn
	y-tennet
GEO:52.36215535;4.883782439016489
LOCATION:Paradiso - Weteringschans 6\, 1017 SG Amsterdam
STATUS:CONFIRMED
CATEGORIES:leidseplein,amsterdam-centrum,soul
END:VEVENT
BEGIN:VEVENT
UID:18669@offbeat.amsterdam
SUMMARY:JMSN
DTSTAMP:20260419T223215Z
DTSTART:20260527T173000Z
URL:https://offbeat.amsterdam/event/jmsn
GEO:52.3647777;4.881073026725959
LOCATION:Melkweg - Lijnbaansgracht 234A\, 1017 PH Amsterdam
STATUS:CONFIRMED
CATEGORIES:amsterdam-centrum,singer-songwriter,r&b,concert,soul,leidseplein
END:VEVENT
BEGIN:VEVENT
UID:20316@offbeat.amsterdam
SUMMARY:Contra invites: Georgia Cécile
DTSTAMP:20260419T223215Z
DTSTART:20260527T180000Z
DTEND:20260527T210000Z
URL:https://offbeat.amsterdam/event/contra-invites-georgia-cecile
GEO:52.3691458;4.8950558
LOCATION:Contra - Oudezijds Achterburgwal 235\, 1012 DL Amsterdam
STATUS:CONFIRMED
CATEGORIES:music,soul,amsterdam-centrum,blues,burgwallen,concert,storytelli
	ng,jazz,live,orchestra
END:VEVENT
BEGIN:VEVENT
UID:19218@offbeat.amsterdam
SUMMARY:Doka Live x CINDY w/ the Jagthorns
DTSTAMP:20260419T223215Z
DTSTART:20260528T183000Z
DTEND:20260528T220000Z
URL:https://offbeat.amsterdam/event/doka-live-x-cindy-with-the-jagthorns
GEO:52.353788;4.9119686
LOCATION:Doka - Wibautstraat 150\, 1091 GR Amsterdam
STATUS:CONFIRMED
CATEGORIES:funk,live,amsterdam-oost,soul,weesperzijde,music
END:VEVENT
BEGIN:VEVENT
UID:20855@offbeat.amsterdam
SUMMARY:OTION presents W.A.V.E
DTSTAMP:20260419T223215Z
DTSTART:20260529T180000Z
URL:https://offbeat.amsterdam/event/otion-presents-wave-1
GEO:52.3699902;4.884254
LOCATION:Felix Meritis - Keizersgracht 324\, 1016 EZ Amsterdam
STATUS:CONFIRMED
CATEGORIES:performance,storytelling,soul,queer,music,live,lecture,keizersgr
	acht,hip-hop,funk,film,documentary,dj,dance,concert,community,classes,amst
	erdam-centrum
END:VEVENT
BEGIN:VEVENT
UID:18007@offbeat.amsterdam
SUMMARY:Annahstasia
DTSTAMP:20260419T223215Z
DTSTART:20260530T183000Z
URL:https://offbeat.amsterdam/event/annahstasia-1
GEO:52.3830883;4.9030297
LOCATION:Tolhuistuin - IJpromenade 2\, 1031 KT Amsterdam
STATUS:CONFIRMED
CATEGORIES:live,soul,amsterdam-noord,buiksloterweg,music
END:VEVENT
BEGIN:VEVENT
UID:15370@offbeat.amsterdam
SUMMARY:Nana Benz du Togo
DTSTAMP:20260419T223215Z
DTSTART:20260601T183000Z
URL:https://offbeat.amsterdam/event/nana-benz-du-togo-1
GEO:52.3830883;4.9030297
LOCATION:Tolhuistuin - IJpromenade 2\, 1031 KT Amsterdam
STATUS:CONFIRMED
CATEGORIES:music,buiksloterweg,amsterdam-noord,soul
END:VEVENT
BEGIN:VEVENT
UID:18929@offbeat.amsterdam
SUMMARY:ivri
DTSTAMP:20260419T223215Z
DTSTART:20260604T173000Z
URL:https://offbeat.amsterdam/event/ivri
GEO:52.36215535;4.883782439016489
LOCATION:Paradiso - Weteringschans 6\, 1017 SG Amsterdam
STATUS:CONFIRMED
CATEGORIES:leidseplein,amsterdam-centrum,soul
END:VEVENT
BEGIN:VEVENT
UID:18427@offbeat.amsterdam
SUMMARY:The Dip
DTSTAMP:20260419T223215Z
DTSTART:20260604T183000Z
URL:https://offbeat.amsterdam/event/the-dip
GEO:52.3830883;4.9030297
LOCATION:Tolhuistuin - IJpromenade 2\, 1031 KT Amsterdam
STATUS:CONFIRMED
CATEGORIES:amsterdam-noord,soul,live,vinyl,buiksloterweg
END:VEVENT
BEGIN:VEVENT
UID:19114@offbeat.amsterdam
SUMMARY:GERSHWIN ON AIR
DTSTAMP:20260419T223215Z
DTSTART:20260605T183000Z
URL:https://offbeat.amsterdam/event/gershwin-on-air
GEO:52.3699078;4.9032848
LOCATION:Splendor - Nieuwe Uilenburgerstraat 116\, 1011 LX Amsterdam
STATUS:CONFIRMED
CATEGORIES:music,amsterdam-centrum,concert,jazz,improv,soul,nieuwmarkt/last
	age
END:VEVENT
BEGIN:VEVENT
UID:20250@offbeat.amsterdam
SUMMARY:Red Light Jazz: afternoon concert with the Søren Høst Quartet
DTSTAMP:20260419T223215Z
DTSTART:20260606T130000Z
DTEND:20260606T150000Z
URL:https://offbeat.amsterdam/event/red-light-jazz-afternoon-concert-with-t
	he-soren-host-quartet
GEO:52.3691458;4.8950558
LOCATION:Contra - Oudezijds Achterburgwal 235\, 1012 DL Amsterdam
STATUS:CONFIRMED
CATEGORIES:soul,music,jazz,concert,blues,burgwallen,amsterdam-centrum
END:VEVENT
BEGIN:VEVENT
UID:17395@offbeat.amsterdam
SUMMARY:Ntjam Rosie
DTSTAMP:20260419T223215Z
DTSTART:20260611T183000Z
URL:https://offbeat.amsterdam/event/ntjam-rosie
GEO:52.3830883;4.9030297
LOCATION:Tolhuistuin - IJpromenade 2\, 1031 KT Amsterdam
STATUS:CONFIRMED
CATEGORIES:amsterdam-noord,soul,rnb,music,jazz,buiksloterweg
END:VEVENT
BEGIN:VEVENT
UID:20378@offbeat.amsterdam
SUMMARY:Hits uit Afrika by Wendy Kimani & The Congo Beach Club
DTSTAMP:20260419T223215Z
DTSTART:20260613T180000Z
URL:https://offbeat.amsterdam/event/hits-uit-afrika-by-wendy-kimani-and-the
	-congo-beach-club
GEO:52.354291;4.8540331
LOCATION:Teatro Munganga - Schinkelhavenstraat 27 HS\, 1075 VP Amsterdam
STATUS:CONFIRMED
CATEGORIES:music,amsterdam-zuid,afro,soul,schinkelbuurt,rap
END:VEVENT
BEGIN:VEVENT
UID:19038@offbeat.amsterdam
SUMMARY:Don West
DTSTAMP:20260419T223215Z
DTSTART:20260615T170000Z
URL:https://offbeat.amsterdam/event/don-west-2
GEO:52.3647777;4.881073026725959
LOCATION:Melkweg - Lijnbaansgracht 234A\, 1017 PH Amsterdam
STATUS:CONFIRMED
CATEGORIES:concert,leidseplein,soul,amsterdam-centrum,cinematic
END:VEVENT
BEGIN:VEVENT
UID:18068@offbeat.amsterdam
SUMMARY:João Selva
DTSTAMP:20260419T223215Z
DTSTART:20260617T183000Z
URL:https://offbeat.amsterdam/event/joao-selva
GEO:52.3830883;4.9030297
LOCATION:Tolhuistuin - IJpromenade 2\, 1031 KT Amsterdam
STATUS:CONFIRMED
CATEGORIES:amsterdam-noord,buiksloterweg,dj,music,soul
END:VEVENT
BEGIN:VEVENT
UID:18324@offbeat.amsterdam
SUMMARY:Don West
DTSTAMP:20260419T223215Z
DTSTART:20260617T183000Z
URL:https://offbeat.amsterdam/event/don-west-1
GEO:52.36215535;4.883782439016489
LOCATION:Paradiso - Weteringschans 6\, 1017 SG Amsterdam
STATUS:CONFIRMED
CATEGORIES:leidseplein,amsterdam-centrum,soul
END:VEVENT
BEGIN:VEVENT
UID:19365@offbeat.amsterdam
SUMMARY:Jimothy Lacoste live in Amsterdam!
DTSTAMP:20260419T223215Z
DTSTART:20260618T170000Z
DTEND:20260623T210000Z
URL:https://offbeat.amsterdam/event/jimothy-lacoste-live-in-amsterdam
GEO:52.3966283;4.8755183
LOCATION:Toekomstmuziek - Danzigerbocht 29\, 1013 AM Amsterdam
STATUS:CONFIRMED
CATEGORIES:westpoort,rap,minervahaven,live music,live,amsterdam-west,bedroo
	m pop,electropop,soul
END:VEVENT
BEGIN:VEVENT
UID:14499@offbeat.amsterdam
SUMMARY:Celeste
DTSTAMP:20260419T223215Z
DTSTART:20260620T173000Z
URL:https://offbeat.amsterdam/event/celeste
GEO:52.36215535;4.883782439016489
LOCATION:Paradiso - Weteringschans 6\, 1017 SG Amsterdam
STATUS:CONFIRMED
CATEGORIES:soul,leidseplein,concert,amsterdam-centrum
END:VEVENT
BEGIN:VEVENT
UID:14500@offbeat.amsterdam
SUMMARY:Celeste
DTSTAMP:20260419T223215Z
DTSTART:20260621T173000Z
URL:https://offbeat.amsterdam/event/celeste-1
GEO:52.36215535;4.883782439016489
LOCATION:Paradiso - Weteringschans 6\, 1017 SG Amsterdam
STATUS:CONFIRMED
CATEGORIES:leidseplein,soul,amsterdam-centrum
END:VEVENT
BEGIN:VEVENT
UID:20385@offbeat.amsterdam
SUMMARY:Benjamin Sacks
DTSTAMP:20260419T223215Z
DTSTART:20260624T170000Z
URL:https://offbeat.amsterdam/event/benjamin-sacks
GEO:52.36215535;4.883782439016489
LOCATION:Paradiso - Weteringschans 6\, 1017 SG Amsterdam
STATUS:CONFIRMED
CATEGORIES:amsterdam-centrum,electronics,soul,funk,leidseplein
END:VEVENT
BEGIN:VEVENT
UID:20132@offbeat.amsterdam
SUMMARY:Bohemian Balkan Night ★ Nadara Gyspsy Wedding Band ♫
DTSTAMP:20260419T223215Z
DTSTART:20260627T190000Z
DTEND:20260627T230000Z
URL:https://offbeat.amsterdam/event/bohemian-balkan-night-star-nadara-gysps
	y-wedding-band-beamed-eighth-notes
GEO:52.3759775;4.9275458
LOCATION:Mezrab - Veemkade 576\, 1019 BL Amsterdam
STATUS:CONFIRMED
CATEGORIES:jazz,soul,film,eastern docklands,concert,amsterdam-oost
END:VEVENT
BEGIN:VEVENT
UID:20653@offbeat.amsterdam
SUMMARY:Discoteca Anita
DTSTAMP:20260419T223215Z
DTSTART:20260704T180000Z
DTEND:20260704T230000Z
URL:https://offbeat.amsterdam/event/discoteca-anita-1
GEO:52.374158;4.8726931
LOCATION:De Nieuwe Anita - Frederik Hendrikstraat 111\, 1052 HN Amsterdam
STATUS:CONFIRMED
CATEGORIES:punk,amsterdam-west,dance,dj,funk,live,music,rock 'n' roll,ska,s
	oul,vinyl,westerpark
END:VEVENT
BEGIN:VEVENT
UID:18618@offbeat.amsterdam
SUMMARY:Adrian Quesada
DTSTAMP:20260419T223215Z
DTSTART:20260705T183000Z
URL:https://offbeat.amsterdam/event/adrian-quesada
GEO:52.3830883;4.9030297
LOCATION:Tolhuistuin - IJpromenade 2\, 1031 KT Amsterdam
STATUS:CONFIRMED
CATEGORIES:soul,amsterdam-noord,buiksloterweg,funk,music
END:VEVENT
BEGIN:VEVENT
UID:20336@offbeat.amsterdam
SUMMARY:Yebba
DTSTAMP:20260419T223215Z
DTSTART:20260714T183000Z
URL:https://offbeat.amsterdam/event/yebba
GEO:52.36215535;4.883782439016489
LOCATION:Paradiso - Weteringschans 6\, 1017 SG Amsterdam
STATUS:CONFIRMED
CATEGORIES:concert,soul,music,leidseplein,jazz,gospel,amsterdam-centrum
END:VEVENT
BEGIN:VEVENT
UID:19706@offbeat.amsterdam
SUMMARY:Change
DTSTAMP:20260419T223215Z
DTSTART:20260804T183000Z
URL:https://offbeat.amsterdam/event/change
GEO:52.36215535;4.883782439016489
LOCATION:Paradiso - Weteringschans 6\, 1017 SG Amsterdam
STATUS:CONFIRMED
CATEGORIES:amsterdam-centrum,leidseplein,soul
END:VEVENT
BEGIN:VEVENT
UID:20633@offbeat.amsterdam
SUMMARY:Zeyne
DTSTAMP:20260419T223215Z
DTSTART:20260909T183000Z
URL:https://offbeat.amsterdam/event/zeyne
GEO:52.3830883;4.9030297
LOCATION:Tolhuistuin - IJpromenade 2\, 1031 KT Amsterdam
STATUS:CONFIRMED
CATEGORIES:amsterdam-noord,soul,buiksloterweg,rnb
END:VEVENT
BEGIN:VEVENT
UID:20131@offbeat.amsterdam
SUMMARY:Os Garotin
DTSTAMP:20260419T223215Z
DTSTART:20260917T173000Z
URL:https://offbeat.amsterdam/event/os-garotin
GEO:52.3647777;4.881073026725959
LOCATION:Melkweg - Lijnbaansgracht 234A\, 1017 PH Amsterdam
STATUS:CONFIRMED
CATEGORIES:soul,funk,r&b,leidseplein,amsterdam-centrum,concert
END:VEVENT
BEGIN:VEVENT
UID:19192@offbeat.amsterdam
SUMMARY:VIRAMUNDO por Carol Andrade e Alex Maia
DTSTAMP:20260419T223215Z
DTSTART:20260919T180000Z
URL:https://offbeat.amsterdam/event/viramundo-por-carol-andrade-e-alex-maia
GEO:52.354291;4.8540331
LOCATION:Teatro Munganga - Schinkelhavenstraat 27 HS\, 1075 VP Amsterdam
STATUS:CONFIRMED
CATEGORIES:party,performance,schinkelbuurt,soul,stories,amsterdam-zuid,conc
	ert,live,music
END:VEVENT
BEGIN:VEVENT
UID:20032@offbeat.amsterdam
SUMMARY:Nona
DTSTAMP:20260419T223215Z
DTSTART:20260920T173000Z
URL:https://offbeat.amsterdam/event/nona
GEO:52.3830883;4.9030297
LOCATION:Tolhuistuin - IJpromenade 2\, 1031 KT Amsterdam
STATUS:CONFIRMED
CATEGORIES:blues,music,soul,jazz,amsterdam-noord,live,buiksloterweg,festiva
	ls
END:VEVENT
BEGIN:VEVENT
UID:19500@offbeat.amsterdam
SUMMARY:Jalen Ngonda
DTSTAMP:20260419T223215Z
DTSTART:20261001T183000Z
URL:https://offbeat.amsterdam/event/jalen-ngonda-2
GEO:52.36215535;4.883782439016489
LOCATION:Paradiso - Weteringschans 6\, 1017 SG Amsterdam
STATUS:CONFIRMED
CATEGORIES:leidseplein,soul,amsterdam-centrum
END:VEVENT
BEGIN:VEVENT
UID:18858@offbeat.amsterdam
SUMMARY:Jalen Ngonda
DTSTAMP:20260419T223215Z
DTSTART:20261002T173000Z
URL:https://offbeat.amsterdam/event/jalen-ngonda-1
GEO:52.36215535;4.883782439016489
LOCATION:Paradiso - Weteringschans 6\, 1017 SG Amsterdam
STATUS:CONFIRMED
CATEGORIES:leidseplein,amsterdam-centrum,concert,soul
END:VEVENT
BEGIN:VEVENT
UID:16976@offbeat.amsterdam
SUMMARY:Mica Millar
DTSTAMP:20260419T223215Z
DTSTART:20261004T183000Z
URL:https://offbeat.amsterdam/event/mica-millar-1
GEO:52.3830883;4.9030297
LOCATION:Tolhuistuin - IJpromenade 2\, 1031 KT Amsterdam
STATUS:CONFIRMED
CATEGORIES:jazz,gospel,buiksloterweg,blues,amsterdam-noord,soul,rnb,music
END:VEVENT
BEGIN:VEVENT
UID:14536@offbeat.amsterdam
SUMMARY:Fat Freddy's Drop
DTSTAMP:20260419T223215Z
DTSTART:20261012T173000Z
URL:https://offbeat.amsterdam/event/fat-freddys-drop
GEO:52.36215535;4.883782439016489
LOCATION:Paradiso - Weteringschans 6\, 1017 SG Amsterdam
STATUS:CONFIRMED
CATEGORIES:jazz,reggae,soul,techno,leidseplein,amsterdam-centrum
END:VEVENT
BEGIN:VEVENT
UID:14537@offbeat.amsterdam
SUMMARY:Fat Freddy's Drop
DTSTAMP:20260419T223215Z
DTSTART:20261013T173000Z
URL:https://offbeat.amsterdam/event/fat-freddys-drop-1
GEO:52.36215535;4.883782439016489
LOCATION:Paradiso - Weteringschans 6\, 1017 SG Amsterdam
STATUS:CONFIRMED
CATEGORIES:reggae,amsterdam-centrum,jazz,techno,soul,leidseplein
END:VEVENT
BEGIN:VEVENT
UID:14538@offbeat.amsterdam
SUMMARY:Fat Freddy's Drop
DTSTAMP:20260419T223215Z
DTSTART:20261014T173000Z
URL:https://offbeat.amsterdam/event/fat-freddys-drop-2
GEO:52.36215535;4.883782439016489
LOCATION:Paradiso - Weteringschans 6\, 1017 SG Amsterdam
STATUS:CONFIRMED
CATEGORIES:jazz,soul,amsterdam-centrum,leidseplein,reggae,techno
END:VEVENT
BEGIN:VEVENT
UID:19326@offbeat.amsterdam
SUMMARY:Myles Sanko
DTSTAMP:20260419T223215Z
DTSTART:20261016T173000Z
URL:https://offbeat.amsterdam/event/myles-sanko
GEO:52.3647777;4.881073026725959
LOCATION:Melkweg - Lijnbaansgracht 234A\, 1017 PH Amsterdam
STATUS:CONFIRMED
CATEGORIES:jazz,leidseplein,concert,amsterdam-centrum,soul
END:VEVENT
BEGIN:VEVENT
UID:15664@offbeat.amsterdam
SUMMARY:The Meltdown
DTSTAMP:20260419T223215Z
DTSTART:20261102T193000Z
URL:https://offbeat.amsterdam/event/the-meltdown-1
GEO:52.3830883;4.9030297
LOCATION:Tolhuistuin - IJpromenade 2\, 1031 KT Amsterdam
STATUS:CONFIRMED
CATEGORIES:jazz,buiksloterweg,gospel,soul,music,amsterdam-noord,live
END:VEVENT
BEGIN:VEVENT
UID:15665@offbeat.amsterdam
SUMMARY:The Meltdown
DTSTAMP:20260419T223215Z
DTSTART:20261103T193000Z
URL:https://offbeat.amsterdam/event/the-meltdown-2
GEO:52.3830883;4.9030297
LOCATION:Tolhuistuin - IJpromenade 2\, 1031 KT Amsterdam
STATUS:CONFIRMED
CATEGORIES:live,gospel,buiksloterweg,amsterdam-noord,soul,music,jazz
END:VEVENT
BEGIN:VEVENT
UID:7322@offbeat.amsterdam
SUMMARY:Chris Kläfford
DTSTAMP:20260419T223215Z
DTSTART:20261113T183000Z
URL:https://offbeat.amsterdam/event/chris-klafford-1
GEO:52.3647777;4.881073026725959
LOCATION:Melkweg - Lijnbaansgracht 234A\, 1017 PH Amsterdam
STATUS:CONFIRMED
CATEGORIES:soul,amsterdam-centrum,acoustic,pop,concert,leidseplein
END:VEVENT
BEGIN:VEVENT
UID:20244@offbeat.amsterdam
SUMMARY:Bilal
DTSTAMP:20260419T223215Z
DTSTART:20261208T180000Z
URL:https://offbeat.amsterdam/event/bilal
GEO:52.3647777;4.881073026725959
LOCATION:Melkweg - Lijnbaansgracht 234A\, 1017 PH Amsterdam
STATUS:CONFIRMED
CATEGORIES:amsterdam-centrum,jazz,leidseplein,r&b,soul,concert
END:VEVENT
END:VCALENDAR
