BEGIN:VCALENDAR
VERSION:2.0
CALSCALE:GREGORIAN
PRODID:adamgibbons/ics
METHOD:PUBLISH
X-PUBLISHED-TTL:PT1H
BEGIN:VEVENT
UID:20691@offbeat.amsterdam
SUMMARY:Mij Wel Bellen voor Stamcellen
DTSTAMP:20260421T115349Z
DTSTART:20260423T160000Z
DTEND:20260423T200000Z
URL:https://offbeat.amsterdam/event/mij-wel-bellen-voor-stamcellen
GEO:52.3903578;4.8322542
LOCATION:De Sering - Rhôneweg 6\, 1043 AH Amsterdam
STATUS:CONFIRMED
CATEGORIES:sloterdijk,amsterdam-west,donor registration
END:VEVENT
BEGIN:VEVENT
UID:18912@offbeat.amsterdam
SUMMARY:DINA\, Mirella Kroes\, Woody92
DTSTAMP:20260421T115349Z
DTSTART:20260425T210000Z
DTEND:20260426T050000Z
URL:https://offbeat.amsterdam/event/dina-mirella-kroes-woody92
GEO:52.3913318;4.8310521
LOCATION:Club Raum - Humberweg 3\, 1043 AC Amsterdam
STATUS:CONFIRMED
CATEGORIES:sloterdijk,amsterdam-west
END:VEVENT
BEGIN:VEVENT
UID:18462@offbeat.amsterdam
SUMMARY:Lofi by Speedy J
DTSTAMP:20260421T115349Z
DTSTART:20260425T210000Z
DTEND:20260426T040000Z
URL:https://offbeat.amsterdam/event/lofi-by-speedy-j
GEO:52.3912546;4.8242219
LOCATION:Lofi - Basisweg 63\, 1043 AN Amsterdam
STATUS:CONFIRMED
CATEGORIES:sloterdijk,amsterdam-west
END:VEVENT
BEGIN:VEVENT
UID:20754@offbeat.amsterdam
SUMMARY:Queer Art Club
DTSTAMP:20260421T115349Z
DTSTART:20260426T123000Z
DTEND:20260426T153000Z
URL:https://offbeat.amsterdam/event/queer-art-club
GEO:52.3903578;4.8322542
LOCATION:De Sering - Rhôneweg 6\, 1043 AH Amsterdam
STATUS:CONFIRMED
CATEGORIES:queer,workshop,amsterdam-west,crafting,meetup,sloterdijk
END:VEVENT
BEGIN:VEVENT
UID:18354@offbeat.amsterdam
SUMMARY:Club Roto King’s Night
DTSTAMP:20260421T115349Z
DTSTART:20260426T200000Z
DTEND:20260427T030000Z
URL:https://offbeat.amsterdam/event/club-roto-kings-night-1
GEO:52.3912546;4.8242219
LOCATION:Lofi - Basisweg 63\, 1043 AN Amsterdam
STATUS:CONFIRMED
CATEGORIES:sloterdijk,amsterdam-west
END:VEVENT
BEGIN:VEVENT
UID:18913@offbeat.amsterdam
SUMMARY:RAUM 24HRS
DTSTAMP:20260421T115349Z
DTSTART:20260426T210000Z
DTEND:20260427T210000Z
URL:https://offbeat.amsterdam/event/raum-24hrs
GEO:52.3913318;4.8310521
LOCATION:Club Raum - Humberweg 3\, 1043 AC Amsterdam
STATUS:CONFIRMED
CATEGORIES:sloterdijk,amsterdam-west,dance,live
END:VEVENT
BEGIN:VEVENT
UID:18953@offbeat.amsterdam
SUMMARY:RAUM 24HRS
DTSTAMP:20260421T115349Z
DTSTART:20260426T220000Z
DTEND:20260427T210000Z
URL:https://offbeat.amsterdam/event/raum-24hrs-1
GEO:52.3913318;4.8310521
LOCATION:Club Raum - Humberweg 3\, 1043 AC Amsterdam
STATUS:CONFIRMED
CATEGORIES:amsterdam-west,dance,live,sloterdijk
END:VEVENT
BEGIN:VEVENT
UID:16996@offbeat.amsterdam
SUMMARY:FSTM King’s Day
DTSTAMP:20260421T115349Z
DTSTART:20260427T120000Z
DTEND:20260428T030000Z
URL:https://offbeat.amsterdam/event/fstm-kings-day
GEO:52.3912546;4.8242219
LOCATION:Lofi - Basisweg 63\, 1043 AN Amsterdam
STATUS:CONFIRMED
CATEGORIES:sloterdijk,amsterdam-west
END:VEVENT
BEGIN:VEVENT
UID:18979@offbeat.amsterdam
SUMMARY:VBX King's Day
DTSTAMP:20260421T115349Z
DTSTART:20260427T160000Z
DTEND:20260428T060000Z
URL:https://offbeat.amsterdam/event/vbx-kings-day
GEO:52.3898525;4.836764
LOCATION:Bret - Orlyplein 76\, 1043 DP Amsterdam
STATUS:CONFIRMED
CATEGORIES:amsterdam-west,sloterdijk
END:VEVENT
BEGIN:VEVENT
UID:20898@offbeat.amsterdam
SUMMARY:4WARD: Climate Careers Networking event
DTSTAMP:20260421T115349Z
DTSTART:20260430T163000Z
DTEND:20260430T193000Z
URL:https://offbeat.amsterdam/event/4ward-climate-careers-networking-event
GEO:52.3903578;4.8322542
LOCATION:De Sering - Rhôneweg 6\, 1043 AH Amsterdam
STATUS:CONFIRMED
CATEGORIES:sloterdijk,amsterdam-west,networking
END:VEVENT
BEGIN:VEVENT
UID:19699@offbeat.amsterdam
SUMMARY:TWIENA invites MUSA
DTSTAMP:20260421T115349Z
DTSTART:20260501T210000Z
DTEND:20260502T050000Z
URL:https://offbeat.amsterdam/event/twiena-invites-musa
GEO:52.3913318;4.8310521
LOCATION:Club Raum - Humberweg 3\, 1043 AC Amsterdam
STATUS:CONFIRMED
CATEGORIES:amsterdam-west,sloterdijk
END:VEVENT
BEGIN:VEVENT
UID:18988@offbeat.amsterdam
SUMMARY:Mind  Against – All Night Long
DTSTAMP:20260421T115349Z
DTSTART:20260501T210000Z
DTEND:20260502T040000Z
URL:https://offbeat.amsterdam/event/mind-against-all-night-long
GEO:52.3912546;4.8242219
LOCATION:Lofi - Basisweg 63\, 1043 AN Amsterdam
STATUS:CONFIRMED
CATEGORIES:amsterdam-west,sloterdijk
END:VEVENT
BEGIN:VEVENT
UID:19132@offbeat.amsterdam
SUMMARY:Patio – Courtyard Opening
DTSTAMP:20260421T115349Z
DTSTART:20260502T120000Z
DTEND:20260503T030000Z
URL:https://offbeat.amsterdam/event/patio-courtyard-opening-1
GEO:52.3912546;4.8242219
LOCATION:Lofi - Basisweg 63\, 1043 AN Amsterdam
STATUS:CONFIRMED
CATEGORIES:sloterdijk,amsterdam-west,live,opening
END:VEVENT
BEGIN:VEVENT
UID:20658@offbeat.amsterdam
SUMMARY:Mining in Peru: An Evening with 2 Peruvian Mining Activists
DTSTAMP:20260421T115349Z
DTSTART:20260502T140000Z
DTEND:20260502T180000Z
URL:https://offbeat.amsterdam/event/mining-in-peru-an-evening-with-2-peruvi
	an-mining-activists
GEO:52.3903578;4.8322542
LOCATION:De Sering - Rhôneweg 6\, 1043 AH Amsterdam
STATUS:CONFIRMED
CATEGORIES:screening,amsterdam-west,community,film,sloterdijk
END:VEVENT
BEGIN:VEVENT
UID:20351@offbeat.amsterdam
SUMMARY:DAYCARE x Lobster x TAFKAMP Weekender
DTSTAMP:20260421T115349Z
DTSTART:20260502T200000Z
DTEND:20260504T040000Z
URL:https://offbeat.amsterdam/event/daycare-x-lobster-x-tafkamp-weekender
GEO:52.3898525;4.836764
LOCATION:Bret - Orlyplein 76\, 1043 DP Amsterdam
STATUS:CONFIRMED
CATEGORIES:techno,amsterdam-west,house,sloterdijk
END:VEVENT
BEGIN:VEVENT
UID:19773@offbeat.amsterdam
SUMMARY:Kangding Ray\, Paula Koski\, Remma
DTSTAMP:20260421T115349Z
DTSTART:20260502T210000Z
DTEND:20260503T050000Z
URL:https://offbeat.amsterdam/event/kangding-ray-paula-koski-remma
GEO:52.3913318;4.8310521
LOCATION:Club Raum - Humberweg 3\, 1043 AC Amsterdam
STATUS:CONFIRMED
CATEGORIES:amsterdam-west,sloterdijk
END:VEVENT
BEGIN:VEVENT
UID:16997@offbeat.amsterdam
SUMMARY:Liberté Liberté
DTSTAMP:20260421T115349Z
DTSTART:20260505T120000Z
DTEND:20260505T210000Z
URL:https://offbeat.amsterdam/event/liberte-liberte-1
GEO:52.3912546;4.8242219
LOCATION:Lofi - Basisweg 63\, 1043 AN Amsterdam
STATUS:CONFIRMED
CATEGORIES:amsterdam-west,dj,sloterdijk
END:VEVENT
BEGIN:VEVENT
UID:19989@offbeat.amsterdam
SUMMARY:Klimaatborrel / Climate Drinks
DTSTAMP:20260421T115349Z
DTSTART:20260507T160000Z
DTEND:20260507T190000Z
URL:https://offbeat.amsterdam/event/klimaatborrel-climate-drinks-5
GEO:52.3903578;4.8322542
LOCATION:De Sering - Rhôneweg 6\, 1043 AH Amsterdam
STATUS:CONFIRMED
CATEGORIES:borrel,sloterdijk,amsterdam-west
END:VEVENT
BEGIN:VEVENT
UID:19733@offbeat.amsterdam
SUMMARY:Hot Since 82 [3hrs] + support
DTSTAMP:20260421T115349Z
DTSTART:20260508T200000Z
DTEND:20260509T030000Z
URL:https://offbeat.amsterdam/event/hot-since-82-3hrs-support
GEO:52.3912546;4.8242219
LOCATION:Lofi - Basisweg 63\, 1043 AN Amsterdam
STATUS:CONFIRMED
CATEGORIES:sloterdijk,amsterdam-west
END:VEVENT
BEGIN:VEVENT
UID:19943@offbeat.amsterdam
SUMMARY:ketia All Night Long
DTSTAMP:20260421T115349Z
DTSTART:20260508T210000Z
DTEND:20260509T050000Z
URL:https://offbeat.amsterdam/event/ketia-all-night-long
GEO:52.3913318;4.8310521
LOCATION:Club Raum - Humberweg 3\, 1043 AC Amsterdam
STATUS:CONFIRMED
CATEGORIES:amsterdam-west,party,sloterdijk,rave
END:VEVENT
BEGIN:VEVENT
UID:19277@offbeat.amsterdam
SUMMARY:Salsa Workshop
DTSTAMP:20260421T115349Z
DTSTART:20260509T130000Z
DTEND:20260509T140000Z
URL:https://offbeat.amsterdam/event/salsa-workshop
GEO:52.3903578;4.8322542
LOCATION:De Sering - Rhôneweg 6\, 1043 AH Amsterdam
STATUS:CONFIRMED
CATEGORIES:dance,sloterdijk,workshop,amsterdam-west,music
END:VEVENT
BEGIN:VEVENT
UID:17258@offbeat.amsterdam
SUMMARY:Sasha [extended set]
DTSTAMP:20260421T115349Z
DTSTART:20260509T200000Z
DTEND:20260510T030000Z
URL:https://offbeat.amsterdam/event/sasha-extended-set
GEO:52.3912546;4.8242219
LOCATION:Lofi - Basisweg 63\, 1043 AN Amsterdam
STATUS:CONFIRMED
CATEGORIES:amsterdam-west,sloterdijk
END:VEVENT
BEGIN:VEVENT
UID:20226@offbeat.amsterdam
SUMMARY:Amphia\, Jerrau\, OG Karin\, Parrish Smith\, Perc
DTSTAMP:20260421T115349Z
DTSTART:20260509T210000Z
DTEND:20260510T050000Z
URL:https://offbeat.amsterdam/event/amphia-jerrau-og-karin-parrish-smith-pe
	rc
GEO:52.3913318;4.8310521
LOCATION:Club Raum - Humberweg 3\, 1043 AC Amsterdam
STATUS:CONFIRMED
CATEGORIES:amsterdam-west,experimental,sloterdijk,techno
END:VEVENT
BEGIN:VEVENT
UID:20747@offbeat.amsterdam
SUMMARY:Afterjam - by Jamback
DTSTAMP:20260421T115349Z
DTSTART:20260510T160000Z
DTEND:20260511T040000Z
URL:https://offbeat.amsterdam/event/afterjam-by-jamback-1
GEO:52.3898525;4.836764
LOCATION:Bret - Orlyplein 76\, 1043 DP Amsterdam
STATUS:CONFIRMED
CATEGORIES:amsterdam-west,sloterdijk,house
END:VEVENT
BEGIN:VEVENT
UID:20932@offbeat.amsterdam
SUMMARY:PILOT with S.A.M. & Voigtmann
DTSTAMP:20260421T115349Z
DTSTART:20260515T200000Z
DTEND:20260516T040000Z
URL:https://offbeat.amsterdam/event/pilot-with-sam-and-voigtmann
GEO:52.3898525;4.836764
LOCATION:Bret - Orlyplein 76\, 1043 DP Amsterdam
STATUS:CONFIRMED
CATEGORIES:sloterdijk,amsterdam-west,house
END:VEVENT
BEGIN:VEVENT
UID:19698@offbeat.amsterdam
SUMMARY:RAUM invites ORPHIC
DTSTAMP:20260421T115349Z
DTSTART:20260515T210000Z
DTEND:20260516T050000Z
URL:https://offbeat.amsterdam/event/raum-invites-orphic-1
GEO:52.3913318;4.8310521
LOCATION:Club Raum - Humberweg 3\, 1043 AC Amsterdam
STATUS:CONFIRMED
CATEGORIES:amsterdam-west,exhibition,sloterdijk
END:VEVENT
BEGIN:VEVENT
UID:20801@offbeat.amsterdam
SUMMARY:Upclose x Vault Sessions – after hours
DTSTAMP:20260421T115349Z
DTSTART:20260516T210000Z
DTEND:20260517T050000Z
URL:https://offbeat.amsterdam/event/upclose-x-vault-sessions-after-hours
GEO:52.3912546;4.8242219
LOCATION:Lofi - Basisweg 63\, 1043 AN Amsterdam
STATUS:CONFIRMED
CATEGORIES:amsterdam-west,sloterdijk
END:VEVENT
BEGIN:VEVENT
UID:20785@offbeat.amsterdam
SUMMARY:Upclose 2026 - After Hours
DTSTAMP:20260421T115349Z
DTSTART:20260516T210000Z
DTEND:20260518T040000Z
URL:https://offbeat.amsterdam/event/upclose-2026-after-hours
GEO:52.3898525;4.836764
LOCATION:Bret - Orlyplein 76\, 1043 DP Amsterdam
STATUS:CONFIRMED
CATEGORIES:techno,party,sloterdijk,amsterdam-west
END:VEVENT
BEGIN:VEVENT
UID:20356@offbeat.amsterdam
SUMMARY:Raum invites Clone Records
DTSTAMP:20260421T115349Z
DTSTART:20260516T210000Z
DTEND:20260517T050000Z
URL:https://offbeat.amsterdam/event/raum-invites-clone-records
GEO:52.3913318;4.8310521
LOCATION:Club Raum - Humberweg 3\, 1043 AC Amsterdam
STATUS:CONFIRMED
CATEGORIES:amsterdam-west,sloterdijk
END:VEVENT
BEGIN:VEVENT
UID:20396@offbeat.amsterdam
SUMMARY:RÆZA invites Beatrice
DTSTAMP:20260421T115349Z
DTSTART:20260522T210000Z
DTEND:20260523T050000Z
URL:https://offbeat.amsterdam/event/raeza-invites-beatrice
GEO:52.3913318;4.8310521
LOCATION:Club Raum - Humberweg 3\, 1043 AC Amsterdam
STATUS:CONFIRMED
CATEGORIES:amsterdam-west,sloterdijk
END:VEVENT
BEGIN:VEVENT
UID:19968@offbeat.amsterdam
SUMMARY:Rainbow Disco Club [day & night]
DTSTAMP:20260421T115349Z
DTSTART:20260523T120000Z
DTEND:20260524T030000Z
URL:https://offbeat.amsterdam/event/rainbow-disco-club-day-and-night
GEO:52.3912546;4.8242219
LOCATION:Lofi - Basisweg 63\, 1043 AN Amsterdam
STATUS:CONFIRMED
CATEGORIES:amsterdam-west,sloterdijk,dj
END:VEVENT
BEGIN:VEVENT
UID:20751@offbeat.amsterdam
SUMMARY:Hitam\, LNR\, Sybil
DTSTAMP:20260421T115349Z
DTSTART:20260523T210000Z
DTEND:20260524T050000Z
URL:https://offbeat.amsterdam/event/hitam-lnr-sybil
GEO:52.3913318;4.8310521
LOCATION:Club Raum - Humberweg 3\, 1043 AC Amsterdam
STATUS:CONFIRMED
CATEGORIES:experimental,sloterdijk,amsterdam-west
END:VEVENT
BEGIN:VEVENT
UID:19657@offbeat.amsterdam
SUMMARY:SLPFNK 15 YEARS AMS TOUR - WEEKENDER - BRET
DTSTAMP:20260421T115349Z
DTSTART:20260525T040000Z
DTEND:20260526T040000Z
URL:https://offbeat.amsterdam/event/slpfnk-15-years-ams-tour-weekender-bret
GEO:52.3898525;4.836764
LOCATION:Bret - Orlyplein 76\, 1043 DP Amsterdam
STATUS:CONFIRMED
CATEGORIES:sloterdijk,amsterdam-west
END:VEVENT
BEGIN:VEVENT
UID:20606@offbeat.amsterdam
SUMMARY:SR9YR
DTSTAMP:20260421T115349Z
DTSTART:20260529T210000Z
DTEND:20260531T230000Z
URL:https://offbeat.amsterdam/event/sr9yr
GEO:52.3913318;4.8310521
LOCATION:Club Raum - Humberweg 3\, 1043 AC Amsterdam
STATUS:CONFIRMED
CATEGORIES:exhibition,party,sloterdijk,amsterdam-west
END:VEVENT
BEGIN:VEVENT
UID:20755@offbeat.amsterdam
SUMMARY:Queer Art Club Amsterdam
DTSTAMP:20260421T115349Z
DTSTART:20260531T123000Z
DTEND:20260531T153000Z
URL:https://offbeat.amsterdam/event/queer-art-club-amsterdam-6
GEO:52.3903578;4.8322542
LOCATION:De Sering - Rhôneweg 6\, 1043 AH Amsterdam
STATUS:CONFIRMED
CATEGORIES:queer,crafting,amsterdam-west,meetup,workshop,sloterdijk
END:VEVENT
BEGIN:VEVENT
UID:20352@offbeat.amsterdam
SUMMARY:SKDG - BRET
DTSTAMP:20260421T115349Z
DTSTART:20260531T130000Z
DTEND:20260601T010000Z
URL:https://offbeat.amsterdam/event/skdg-bret
GEO:52.3898525;4.836764
LOCATION:Bret - Orlyplein 76\, 1043 DP Amsterdam
STATUS:CONFIRMED
CATEGORIES:sloterdijk,house,garage,amsterdam-west
END:VEVENT
BEGIN:VEVENT
UID:20127@offbeat.amsterdam
SUMMARY:Klimaatborrel / Climate Drinks
DTSTAMP:20260421T115349Z
DTSTART:20260604T160000Z
DTEND:20260604T190000Z
URL:https://offbeat.amsterdam/event/klimaatborrel-climate-drinks-4
GEO:52.3903578;4.8322542
LOCATION:De Sering - Rhôneweg 6\, 1043 AH Amsterdam
STATUS:CONFIRMED
CATEGORIES:amsterdam-west,borrel,sloterdijk
END:VEVENT
BEGIN:VEVENT
UID:19497@offbeat.amsterdam
SUMMARY:VBX
DTSTAMP:20260421T115349Z
DTSTART:20260606T120000Z
DTEND:20260606T210000Z
URL:https://offbeat.amsterdam/event/vbx
GEO:52.3912546;4.8242219
LOCATION:Lofi - Basisweg 63\, 1043 AN Amsterdam
STATUS:CONFIRMED
CATEGORIES:amsterdam-west,sloterdijk
END:VEVENT
BEGIN:VEVENT
UID:20350@offbeat.amsterdam
SUMMARY:Cybersex All Day Long
DTSTAMP:20260421T115349Z
DTSTART:20260613T120000Z
DTEND:20260613T210000Z
URL:https://offbeat.amsterdam/event/cybersex-all-day-long
GEO:52.3898525;4.836764
LOCATION:Bret - Orlyplein 76\, 1043 DP Amsterdam
STATUS:CONFIRMED
CATEGORIES:techno,sloterdijk,amsterdam-west
END:VEVENT
BEGIN:VEVENT
UID:20363@offbeat.amsterdam
SUMMARY:Agents Of Time – all night long
DTSTAMP:20260421T115349Z
DTSTART:20260613T210000Z
DTEND:20260614T030000Z
URL:https://offbeat.amsterdam/event/agents-of-time-all-night-long
GEO:52.3912546;4.8242219
LOCATION:Lofi - Basisweg 63\, 1043 AN Amsterdam
STATUS:CONFIRMED
CATEGORIES:amsterdam-west,sloterdijk
END:VEVENT
BEGIN:VEVENT
UID:19805@offbeat.amsterdam
SUMMARY:Agrio Club x Ritmo Fatale
DTSTAMP:20260421T115349Z
DTSTART:20260620T180000Z
URL:https://offbeat.amsterdam/event/agrio-club-x-ritmo-fatale
GEO:52.3912546;4.8242219
LOCATION:Lofi - Basisweg 63\, 1043 AN Amsterdam
STATUS:CONFIRMED
CATEGORIES:amsterdam-west,sloterdijk,dj
END:VEVENT
BEGIN:VEVENT
UID:20741@offbeat.amsterdam
SUMMARY:PRNCPTL DOES AMSTERDAM – DAY & NIGHT
DTSTAMP:20260421T115349Z
DTSTART:20260704T120000Z
DTEND:20260705T040000Z
URL:https://offbeat.amsterdam/event/prncptl-does-amsterdam-day-and-night
GEO:52.3912546;4.8242219
LOCATION:Lofi - Basisweg 63\, 1043 AN Amsterdam
STATUS:CONFIRMED
CATEGORIES:amsterdam-west,sloterdijk,dj
END:VEVENT
BEGIN:VEVENT
UID:19696@offbeat.amsterdam
SUMMARY:Home Again Amsterdam
DTSTAMP:20260421T115349Z
DTSTART:20260704T210000Z
DTEND:20260705T040000Z
URL:https://offbeat.amsterdam/event/home-again-amsterdam-1
GEO:52.3898525;4.836764
LOCATION:Bret - Orlyplein 76\, 1043 DP Amsterdam
STATUS:CONFIRMED
CATEGORIES:amsterdam-west,sloterdijk
END:VEVENT
BEGIN:VEVENT
UID:20324@offbeat.amsterdam
SUMMARY:Palet Mini Festival
DTSTAMP:20260421T115349Z
DTSTART:20260718T130000Z
DTEND:20260719T040000Z
URL:https://offbeat.amsterdam/event/palet-mini-festival-2
GEO:52.3912546;4.8242219
LOCATION:Lofi - Basisweg 63\, 1043 AN Amsterdam
STATUS:CONFIRMED
CATEGORIES:festivals,sloterdijk,amsterdam-west
END:VEVENT
BEGIN:VEVENT
UID:18735@offbeat.amsterdam
SUMMARY:The Ghost x BRET
DTSTAMP:20260421T115349Z
DTSTART:20260718T200000Z
DTEND:20260719T040000Z
URL:https://offbeat.amsterdam/event/the-ghost-x-bret
GEO:52.3898525;4.836764
LOCATION:Bret - Orlyplein 76\, 1043 DP Amsterdam
STATUS:CONFIRMED
CATEGORIES:house,amsterdam-west,sloterdijk
END:VEVENT
BEGIN:VEVENT
UID:20858@offbeat.amsterdam
SUMMARY:De Binnenstad
DTSTAMP:20260421T115349Z
DTSTART:20260725T130000Z
DTEND:20260725T210000Z
URL:https://offbeat.amsterdam/event/de-binnenstad-3
GEO:52.3912546;4.8242219
LOCATION:Lofi - Basisweg 63\, 1043 AN Amsterdam
STATUS:CONFIRMED
CATEGORIES:live,sloterdijk,amsterdam-west
END:VEVENT
BEGIN:VEVENT
UID:20323@offbeat.amsterdam
SUMMARY:Everyday People
DTSTAMP:20260421T115349Z
DTSTART:20260808T130000Z
DTEND:20260808T203000Z
URL:https://offbeat.amsterdam/event/everyday-people
GEO:52.3912546;4.8242219
LOCATION:Lofi - Basisweg 63\, 1043 AN Amsterdam
STATUS:CONFIRMED
CATEGORIES:dj,sloterdijk,amsterdam-west,music
END:VEVENT
END:VCALENDAR
