BEGIN:VCALENDAR
VERSION:2.0
CALSCALE:GREGORIAN
PRODID:adamgibbons/ics
METHOD:PUBLISH
X-PUBLISHED-TTL:PT1H
BEGIN:VEVENT
UID:19201@offbeat.amsterdam
SUMMARY:LOS PALMS & FIREFRIEND - THE WORMHOLE CULT
DTSTAMP:20260420T063752Z
DTSTART:20260501T180000Z
DTEND:20260501T230000Z
URL:https://offbeat.amsterdam/event/los-palms-and-firefriend-the-wormhole-c
	ult
GEO:52.3852252;4.9236797
LOCATION:Oedipus Craft Space - Schaafstraat 21\, 1021 KD Amsterdam
STATUS:CONFIRMED
CATEGORIES:rock,shoegaze,music,hamerkwartier,psychedelic rock,dj,amsterdam-
	noord
END:VEVENT
BEGIN:VEVENT
UID:18681@offbeat.amsterdam
SUMMARY:Tzara the Machine + M.J.H. Thompson Volksorkest
DTSTAMP:20260420T063752Z
DTSTART:20260506T180000Z
URL:https://offbeat.amsterdam/event/tzara-the-machine-mjh-thompson-volksork
	est
GEO:52.3528265;4.906568
LOCATION:Cinetol - Tolstraat 182\, 1074 VM Amsterdam
STATUS:CONFIRMED
CATEGORIES:music,de pijp,experimental,shoegaze,indie,amsterdam-zuid
END:VEVENT
BEGIN:VEVENT
UID:19388@offbeat.amsterdam
SUMMARY:CANCELLED - The Wormhole Cult presents: Man of Moon + Skloss live i
	n Amsterdam - CANCELLED
DTSTAMP:20260420T063752Z
DTSTART:20260513T183000Z
URL:https://offbeat.amsterdam/event/the-wormhole-cult-presents-man-of-moon-
	skloss-live-in-amsterdam
GEO:52.3966283;4.8755183
LOCATION:Toekomstmuziek - Danzigerbocht 29\, 1013 AM Amsterdam
STATUS:CONFIRMED
CATEGORIES:post metal,westpoort,shoegaze,live,amsterdam-west,krautrock,live
	 music,minervahaven
END:VEVENT
BEGIN:VEVENT
UID:20807@offbeat.amsterdam
SUMMARY:Sad and Gazing II: Barren Sea + Crashing + Her Loving Aftertaste
DTSTAMP:20260420T063752Z
DTSTART:20260515T183000Z
URL:https://offbeat.amsterdam/event/sad-and-gazing-ii-barren-sea-crashing-h
	er-loving-aftertaste
GEO:52.354338;4.8553367
LOCATION:OCCII - Amstelveenseweg 134\, 1075 XL Amsterdam
STATUS:CONFIRMED
CATEGORIES:concert,slowcore,shoegaze,schinkelbuurt,rock,performance,music,l
	ive,dreampop,community,books,amsterdam-zuid
END:VEVENT
BEGIN:VEVENT
UID:16653@offbeat.amsterdam
SUMMARY:deary + resplandor | support: part garden
DTSTAMP:20260420T063752Z
DTSTART:20260522T180000Z
URL:https://offbeat.amsterdam/event/deary-resplandor-or-support-part-garden
GEO:52.3528265;4.906568
LOCATION:Cinetol - Tolstraat 182\, 1074 VM Amsterdam
STATUS:CONFIRMED
CATEGORIES:amsterdam-zuid,music,indie,festivals,de pijp,shoegaze,post-rock,
	postpunk,pop
END:VEVENT
BEGIN:VEVENT
UID:20348@offbeat.amsterdam
SUMMARY:Mother Johnson | ep release | supports: turmeric + her loving after
	taste
DTSTAMP:20260420T063752Z
DTSTART:20260523T180000Z
URL:https://offbeat.amsterdam/event/mother-johnson-or-ep-release
GEO:52.3528265;4.906568
LOCATION:Cinetol - Tolstraat 182\, 1074 VM Amsterdam
STATUS:CONFIRMED
CATEGORIES:de pijp,rock,shoegaze,amsterdam-zuid
END:VEVENT
BEGIN:VEVENT
UID:20900@offbeat.amsterdam
SUMMARY:Unfold
DTSTAMP:20260420T063752Z
DTSTART:20260526T153000Z
DTEND:20260526T210000Z
URL:https://offbeat.amsterdam/event/unfold
GEO:52.4102723;4.9353295
LOCATION:Het Machinegebouw - Buikslotermeerdijk 95\, 1027 GE Amsterdam
STATUS:CONFIRMED
CATEGORIES:shoegaze,amsterdam-noord,funk,indie,jazz,music,rnb
END:VEVENT
BEGIN:VEVENT
UID:18909@offbeat.amsterdam
SUMMARY:Clara Kimera
DTSTAMP:20260420T063752Z
DTSTART:20260527T180000Z
URL:https://offbeat.amsterdam/event/clara-kimera
GEO:52.3528265;4.906568
LOCATION:Cinetol - Tolstraat 182\, 1074 VM Amsterdam
STATUS:CONFIRMED
CATEGORIES:amsterdam-zuid,de pijp,experimental,multidisciplinair,shoegaze
END:VEVENT
BEGIN:VEVENT
UID:15382@offbeat.amsterdam
SUMMARY:World News | support: terra twin
DTSTAMP:20260420T063752Z
DTSTART:20260531T180000Z
URL:https://offbeat.amsterdam/event/world-news
GEO:52.3528265;4.906568
LOCATION:Cinetol - Tolstraat 182\, 1074 VM Amsterdam
STATUS:CONFIRMED
CATEGORIES:shoegaze,amsterdam-zuid,festivals,indie,postpunk,rock,de pijp
END:VEVENT
BEGIN:VEVENT
UID:19202@offbeat.amsterdam
SUMMARY:PINK BREATH OF HEAVEN & THE TOP LEFT CLUB - THE WORMHOLE CULT
DTSTAMP:20260420T063752Z
DTSTART:20260606T180000Z
DTEND:20260606T230000Z
URL:https://offbeat.amsterdam/event/pink-breath-of-heaven-and-the-top-left-
	club-the-wormhole-cult
GEO:52.3852252;4.9236797
LOCATION:Oedipus Craft Space - Schaafstraat 21\, 1021 KD Amsterdam
STATUS:CONFIRMED
CATEGORIES:shoegaze,psychedelic rock,music,hamerkwartier,amsterdam-noord,ro
	ck
END:VEVENT
BEGIN:VEVENT
UID:19362@offbeat.amsterdam
SUMMARY:Gotobeat and Epifoni presents: No Clear Mind live in Amsterdam!
DTSTAMP:20260420T063752Z
DTSTART:20260611T173000Z
DTEND:20260615T203000Z
URL:https://offbeat.amsterdam/event/gotobeat-and-epifoni-presents-no-clear-
	mind-live-in-amsterdam
GEO:52.3966283;4.8755183
LOCATION:Toekomstmuziek - Danzigerbocht 29\, 1013 AM Amsterdam
STATUS:CONFIRMED
CATEGORIES:post rock,amsterdam-west,electronics,experimental,live,live musi
	c,minervahaven,music,rock,shoegaze,westpoort
END:VEVENT
BEGIN:VEVENT
UID:17659@offbeat.amsterdam
SUMMARY:Phantogram
DTSTAMP:20260420T063752Z
DTSTART:20260619T173000Z
URL:https://offbeat.amsterdam/event/phantogram
GEO:52.3647777;4.881073026725959
LOCATION:Melkweg - Lijnbaansgracht 234A\, 1017 PH Amsterdam
STATUS:CONFIRMED
CATEGORIES:amsterdam-centrum,concert,electro pop,leidseplein,shoegaze,trip 
	hop
END:VEVENT
BEGIN:VEVENT
UID:19384@offbeat.amsterdam
SUMMARY:SHOEGAZE and POST-PUNK NIGHT - Mahogany (US) + Resplandor (NL) + Ma
	yflower Madame (NO) + DJ Dragnet
DTSTAMP:20260420T063752Z
DTSTART:20260917T173000Z
DTEND:20260917T223000Z
URL:https://offbeat.amsterdam/event/shoegaze-and-post-punk-night-mahogany-u
	s-resplandor-nl-mayflower-madame-no-dj-dragnet
GEO:52.3966283;4.8755183
LOCATION:Toekomstmuziek - Danzigerbocht 29\, 1013 AM Amsterdam
STATUS:CONFIRMED
CATEGORIES:post-punk,vinyl,westpoort,vegan,shoegaze,rock,punk,performance,p
	arty,opening,music,minervahaven,live music,live,indie,festivals,dj,amsterd
	am-west
END:VEVENT
BEGIN:VEVENT
UID:18934@offbeat.amsterdam
SUMMARY:LSD and the Search for God
DTSTAMP:20260420T063752Z
DTSTART:20260928T183000Z
URL:https://offbeat.amsterdam/event/lsd-and-the-search-for-god
GEO:52.3830883;4.9030297
LOCATION:Tolhuistuin - IJpromenade 2\, 1031 KT Amsterdam
STATUS:CONFIRMED
CATEGORIES:shoegaze,buiksloterweg,amsterdam-noord
END:VEVENT
BEGIN:VEVENT
UID:19980@offbeat.amsterdam
SUMMARY:Loveth Besamoh + I Love You Honey Bunny
DTSTAMP:20260420T063752Z
DTSTART:20261108T183000Z
URL:https://offbeat.amsterdam/event/loveth-besamoh-i-love-you-honey-bunny
GEO:52.3528265;4.906568
LOCATION:Cinetol - Tolstraat 182\, 1074 VM Amsterdam
STATUS:CONFIRMED
CATEGORIES:de pijp,amsterdam-zuid,afro,jazz,live,postpunk,rock,shoegaze,wav
	e,indie
END:VEVENT
BEGIN:VEVENT
UID:18476@offbeat.amsterdam
SUMMARY:Honey I'm Home
DTSTAMP:20260420T063752Z
DTSTART:20261230T193000Z
URL:https://offbeat.amsterdam/event/honey-im-home-1
GEO:52.3830883;4.9030297
LOCATION:Tolhuistuin - IJpromenade 2\, 1031 KT Amsterdam
STATUS:CONFIRMED
CATEGORIES:shoegaze,rock,emo,buiksloterweg,amsterdam-noord,indie
END:VEVENT
END:VCALENDAR
