BEGIN:VCALENDAR
VERSION:2.0
CALSCALE:GREGORIAN
PRODID:adamgibbons/ics
METHOD:PUBLISH
X-PUBLISHED-TTL:PT1H
BEGIN:VEVENT
UID:20658@offbeat.amsterdam
SUMMARY:Mining in Peru: An Evening with 2 Peruvian Mining Activists
DTSTAMP:20260421T174215Z
DTSTART:20260502T140000Z
DTEND:20260502T180000Z
URL:https://offbeat.amsterdam/event/mining-in-peru-an-evening-with-2-peruvi
	an-mining-activists
GEO:52.3903578;4.8322542
LOCATION:De Sering - Rhôneweg 6\, 1043 AH Amsterdam
STATUS:CONFIRMED
CATEGORIES:amsterdam-west,community,film,screening,sloterdijk
END:VEVENT
END:VCALENDAR
