BEGIN:VCALENDAR
VERSION:2.0
CALSCALE:GREGORIAN
PRODID:adamgibbons/ics
METHOD:PUBLISH
X-PUBLISHED-TTL:PT1H
BEGIN:VEVENT
UID:18836@offbeat.amsterdam
SUMMARY:Sissi's Friday w/ WOST\, TINS & Connection Art x A’dam House Dance 
	Community
DTSTAMP:20260419T221129Z
DTSTART:20260424T210000Z
DTEND:20260425T020000Z
URL:https://offbeat.amsterdam/event/sissis-friday-with-wost-tins-and-polipa
	nda
GEO:52.3448289;4.8425825
LOCATION:Sissi's - Anthony Fokkerweg 3\, 1059 CM Amsterdam
STATUS:CONFIRMED
CATEGORIES:dance,oud-zuid,schinkelterrein,community
END:VEVENT
BEGIN:VEVENT
UID:19130@offbeat.amsterdam
SUMMARY:Sissi's Friday Hosted by Locked-in
DTSTAMP:20260419T221129Z
DTSTART:20260425T200000Z
DTEND:20260426T020000Z
URL:https://offbeat.amsterdam/event/sissis-friday-hosted-by-locked-in
GEO:52.3448289;4.8425825
LOCATION:Sissi's - Anthony Fokkerweg 3\, 1059 CM Amsterdam
STATUS:CONFIRMED
CATEGORIES:oud-zuid,schinkelterrein
END:VEVENT
BEGIN:VEVENT
UID:18465@offbeat.amsterdam
SUMMARY:Pintai at Multipla
DTSTAMP:20260419T221129Z
DTSTART:20260426T110000Z
DTEND:20260426T230000Z
URL:https://offbeat.amsterdam/event/pintai-at-multipla
GEO:52.3420481;4.8437759
LOCATION:Bar Dancing Multipla - Valschermkade 16\, 1059 CD Amsterdam
STATUS:CONFIRMED
CATEGORIES:deep house,oud-zuid,schinkelterrein,minimal,community
END:VEVENT
BEGIN:VEVENT
UID:18969@offbeat.amsterdam
SUMMARY:Sissi's Kingsnight
DTSTAMP:20260419T221129Z
DTSTART:20260426T200000Z
DTEND:20260427T020000Z
URL:https://offbeat.amsterdam/event/sissis-kingsnight
GEO:52.3448289;4.8425825
LOCATION:Sissi's - Anthony Fokkerweg 3\, 1059 CM Amsterdam
STATUS:CONFIRMED
CATEGORIES:oud-zuid,schinkelterrein
END:VEVENT
BEGIN:VEVENT
UID:18968@offbeat.amsterdam
SUMMARY:Sissi's Kingsday block party
DTSTAMP:20260419T221129Z
DTSTART:20260427T140000Z
DTEND:20260428T010000Z
URL:https://offbeat.amsterdam/event/sissis-kingsday-block-party
GEO:52.3448289;4.8425825
LOCATION:Sissi's - Anthony Fokkerweg 3\, 1059 CM Amsterdam
STATUS:CONFIRMED
CATEGORIES:party,oud-zuid,schinkelterrein
END:VEVENT
BEGIN:VEVENT
UID:20104@offbeat.amsterdam
SUMMARY:PALET Kingsday - By Night
DTSTAMP:20260419T221129Z
DTSTART:20260427T180000Z
DTEND:20260428T010000Z
URL:https://offbeat.amsterdam/event/palet-kingsday-by-night
GEO:52.3420481;4.8437759
LOCATION:Bar Dancing Multipla - Valschermkade 16\, 1059 CD Amsterdam
STATUS:CONFIRMED
CATEGORIES:disco,schinkelterrein,oud-zuid,music,house
END:VEVENT
BEGIN:VEVENT
UID:20758@offbeat.amsterdam
SUMMARY:Bar Dancing with Arnold Ohrwurm & MOOR
DTSTAMP:20260419T221129Z
DTSTART:20260501T180000Z
DTEND:20260501T230000Z
URL:https://offbeat.amsterdam/event/bar-dancing-with-arnold-ohrwurm-and-moo
	r
GEO:52.3420481;4.8437759
LOCATION:Bar Dancing Multipla - Valschermkade 16\, 1059 CD Amsterdam
STATUS:CONFIRMED
CATEGORIES:dance,schinkelterrein,oud-zuid,dj,dinner
END:VEVENT
BEGIN:VEVENT
UID:20233@offbeat.amsterdam
SUMMARY:Sissi's Friday w/ EYCEE b2b Kaval\, Danny Dingen & ChewChew
DTSTAMP:20260419T221129Z
DTSTART:20260501T210000Z
DTEND:20260502T020000Z
URL:https://offbeat.amsterdam/event/sissis-friday-with-eycee-danny-dingen-a
	nd-chewchew
GEO:52.3448289;4.8425825
LOCATION:Sissi's - Anthony Fokkerweg 3\, 1059 CM Amsterdam
STATUS:CONFIRMED
CATEGORIES:schinkelterrein,oud-zuid
END:VEVENT
BEGIN:VEVENT
UID:20803@offbeat.amsterdam
SUMMARY:Bar Dancing with Caro
DTSTAMP:20260419T221129Z
DTSTART:20260502T180000Z
DTEND:20260502T230000Z
URL:https://offbeat.amsterdam/event/bar-dancing-with-caro
GEO:52.3420481;4.8437759
LOCATION:Bar Dancing Multipla - Valschermkade 16\, 1059 CD Amsterdam
STATUS:CONFIRMED
CATEGORIES:dinner,dj,schinkelterrein,dance,oud-zuid
END:VEVENT
BEGIN:VEVENT
UID:20716@offbeat.amsterdam
SUMMARY:Sissi's Saturday w/ Boris Coelman & Jazz Dalia
DTSTAMP:20260419T221129Z
DTSTART:20260502T210000Z
DTEND:20260503T020000Z
URL:https://offbeat.amsterdam/event/sissis-saturday-with-boris-coelman-and-
	jazz-dalia
GEO:52.3448289;4.8425825
LOCATION:Sissi's - Anthony Fokkerweg 3\, 1059 CM Amsterdam
STATUS:CONFIRMED
CATEGORIES:jazz,oud-zuid,schinkelterrein
END:VEVENT
BEGIN:VEVENT
UID:20804@offbeat.amsterdam
SUMMARY:Jonica presents Byron The Aquarius
DTSTAMP:20260419T221129Z
DTSTART:20260508T190000Z
DTEND:20260509T010000Z
URL:https://offbeat.amsterdam/event/jonica-presents-byron-the-aquarius
GEO:52.3420481;4.8437759
LOCATION:Bar Dancing Multipla - Valschermkade 16\, 1059 CD Amsterdam
STATUS:CONFIRMED
CATEGORIES:schinkelterrein,oud-zuid
END:VEVENT
BEGIN:VEVENT
UID:20552@offbeat.amsterdam
SUMMARY:Sissi's Friday w/ Koperblond b2b Freddi\, Leonce\, Wantigga & more
DTSTAMP:20260419T221129Z
DTSTART:20260508T210000Z
DTEND:20260509T020000Z
URL:https://offbeat.amsterdam/event/sissis-friday-with-koperblond-b2b-fredd
	i-leonce-wantigga-and-more
GEO:52.3448289;4.8425825
LOCATION:Sissi's - Anthony Fokkerweg 3\, 1059 CM Amsterdam
STATUS:CONFIRMED
CATEGORIES:schinkelterrein,oud-zuid
END:VEVENT
BEGIN:VEVENT
UID:20234@offbeat.amsterdam
SUMMARY:Sissi's Saturday w/ Berkan V8 & Spectral Bounce
DTSTAMP:20260419T221129Z
DTSTART:20260509T210000Z
DTEND:20260510T020000Z
URL:https://offbeat.amsterdam/event/sissis-saturday-with-berkan-v8-and-spec
	tral-bounce
GEO:52.3448289;4.8425825
LOCATION:Sissi's - Anthony Fokkerweg 3\, 1059 CM Amsterdam
STATUS:CONFIRMED
CATEGORIES:oud-zuid,schinkelterrein
END:VEVENT
BEGIN:VEVENT
UID:19893@offbeat.amsterdam
SUMMARY:Sissi's Friday w/ SENNES b2b Lieke TR\, Patone Papi & Fatpack fundr
	aiser for AZG
DTSTAMP:20260419T221129Z
DTSTART:20260515T210000Z
DTEND:20260516T020000Z
URL:https://offbeat.amsterdam/event/sissis-friday-fatback-fundraiser-for-az
	g
GEO:52.3448289;4.8425825
LOCATION:Sissi's - Anthony Fokkerweg 3\, 1059 CM Amsterdam
STATUS:CONFIRMED
CATEGORIES:oud-zuid,fundraiser,schinkelterrein
END:VEVENT
BEGIN:VEVENT
UID:20556@offbeat.amsterdam
SUMMARY:Sissi's Saturday w/ Unsilenced\, Ammé & AAT
DTSTAMP:20260419T221129Z
DTSTART:20260516T210000Z
DTEND:20260517T020000Z
URL:https://offbeat.amsterdam/event/sissis-saturday-with-unsilenced-amme-an
	d-aat
GEO:52.3448289;4.8425825
LOCATION:Sissi's - Anthony Fokkerweg 3\, 1059 CM Amsterdam
STATUS:CONFIRMED
CATEGORIES:oud-zuid,schinkelterrein
END:VEVENT
BEGIN:VEVENT
UID:19887@offbeat.amsterdam
SUMMARY:Toy Tonics Jam
DTSTAMP:20260419T221129Z
DTSTART:20260522T190000Z
DTEND:20260523T020000Z
URL:https://offbeat.amsterdam/event/toy-tonics-jam-2
GEO:52.3420481;4.8437759
LOCATION:Bar Dancing Multipla - Valschermkade 16\, 1059 CD Amsterdam
STATUS:CONFIRMED
CATEGORIES:oud-zuid,disco,schinkelterrein,house
END:VEVENT
BEGIN:VEVENT
UID:20555@offbeat.amsterdam
SUMMARY:Sissi's Saturday w/ Baile de Galecta
DTSTAMP:20260419T221129Z
DTSTART:20260523T210000Z
DTEND:20260524T020000Z
URL:https://offbeat.amsterdam/event/sissis-saturday-with-baile-de-galecta
GEO:52.3448289;4.8425825
LOCATION:Sissi's - Anthony Fokkerweg 3\, 1059 CM Amsterdam
STATUS:CONFIRMED
CATEGORIES:schinkelterrein,oud-zuid
END:VEVENT
BEGIN:VEVENT
UID:20553@offbeat.amsterdam
SUMMARY:Sissi's Friday w/ SWAY & AK Soundsystem
DTSTAMP:20260419T221129Z
DTSTART:20260529T210000Z
DTEND:20260530T020000Z
URL:https://offbeat.amsterdam/event/sissis-friday-with-sway-and-ak-soundsys
	tem
GEO:52.3448289;4.8425825
LOCATION:Sissi's - Anthony Fokkerweg 3\, 1059 CM Amsterdam
STATUS:CONFIRMED
CATEGORIES:schinkelterrein,oud-zuid
END:VEVENT
BEGIN:VEVENT
UID:20554@offbeat.amsterdam
SUMMARY:Sissi's Friday w/ Tonno Disko & more
DTSTAMP:20260419T221129Z
DTSTART:20260703T210000Z
DTEND:20260704T020000Z
URL:https://offbeat.amsterdam/event/sissis-friday-with-tonno-disko-and-more
GEO:52.3448289;4.8425825
LOCATION:Sissi's - Anthony Fokkerweg 3\, 1059 CM Amsterdam
STATUS:CONFIRMED
CATEGORIES:oud-zuid,schinkelterrein
END:VEVENT
END:VCALENDAR
