BEGIN:VCALENDAR
VERSION:2.0
CALSCALE:GREGORIAN
PRODID:adamgibbons/ics
METHOD:PUBLISH
X-PUBLISHED-TTL:PT1H
BEGIN:VEVENT
UID:20105@offbeat.amsterdam
SUMMARY:Spelen en Leren in de Stad
DTSTAMP:20260422T084728Z
DTSTART:20260423T173000Z
URL:https://offbeat.amsterdam/event/spelen-en-leren-in-de-stad
GEO:52.376857;4.9220756
LOCATION:Pakhuis de Zwijger - Piet Heinkade 179\, 1019 HC Amsterdam
STATUS:CONFIRMED
CATEGORIES:amsterdam-centrum,eastern docklands,ruimte
END:VEVENT
BEGIN:VEVENT
UID:20332@offbeat.amsterdam
SUMMARY:Architectuur waar meer dan de mens kan woekeren
DTSTAMP:20260422T084728Z
DTSTART:20260429T173000Z
URL:https://offbeat.amsterdam/event/architectuur-waar-meer-dan-de-mens-kan-
	woekeren
GEO:52.376857;4.9220756
LOCATION:Pakhuis de Zwijger - Piet Heinkade 179\, 1019 HC Amsterdam
STATUS:CONFIRMED
CATEGORIES:amsterdam-centrum,ruimte,eastern docklands
END:VEVENT
BEGIN:VEVENT
UID:20134@offbeat.amsterdam
SUMMARY:De kracht van de eenvoud
DTSTAMP:20260422T084728Z
DTSTART:20260430T173000Z
URL:https://offbeat.amsterdam/event/de-kracht-van-de-eenvoud
GEO:52.376857;4.9220756
LOCATION:Pakhuis de Zwijger - Piet Heinkade 179\, 1019 HC Amsterdam
STATUS:CONFIRMED
CATEGORIES:workshop,amsterdam-centrum,eastern docklands,ruimte
END:VEVENT
BEGIN:VEVENT
UID:20648@offbeat.amsterdam
SUMMARY:Samenwerken op kantoor
DTSTAMP:20260422T084728Z
DTSTART:20260512T180000Z
URL:https://offbeat.amsterdam/event/samenwerken-op-kantoor
GEO:52.376857;4.9220756
LOCATION:Pakhuis de Zwijger - Piet Heinkade 179\, 1019 HC Amsterdam
STATUS:CONFIRMED
CATEGORIES:amsterdam-centrum,eastern docklands,ruimte
END:VEVENT
BEGIN:VEVENT
UID:21040@offbeat.amsterdam
SUMMARY:Meer woningen op dezelfde grond
DTSTAMP:20260422T084728Z
DTSTART:20260518T173000Z
URL:https://offbeat.amsterdam/event/meer-woningen-op-dezelfde-grond
GEO:52.376857;4.9220756
LOCATION:Pakhuis de Zwijger - Piet Heinkade 179\, 1019 HC Amsterdam
STATUS:CONFIRMED
CATEGORIES:amsterdam-centrum,eastern docklands,ruimte
END:VEVENT
BEGIN:VEVENT
UID:20760@offbeat.amsterdam
SUMMARY:De stad als bouwterrein
DTSTAMP:20260422T084728Z
DTSTART:20260521T180000Z
URL:https://offbeat.amsterdam/event/de-stad-als-bouwterrein
GEO:52.376857;4.9220756
LOCATION:Pakhuis de Zwijger - Piet Heinkade 179\, 1019 HC Amsterdam
STATUS:CONFIRMED
CATEGORIES:amsterdam-centrum,eastern docklands,ruimte
END:VEVENT
BEGIN:VEVENT
UID:20989@offbeat.amsterdam
SUMMARY:Flexscapes
DTSTAMP:20260422T084728Z
DTSTART:20260527T173000Z
URL:https://offbeat.amsterdam/event/flexscapes
GEO:52.376857;4.9220756
LOCATION:Pakhuis de Zwijger - Piet Heinkade 179\, 1019 HC Amsterdam
STATUS:CONFIRMED
CATEGORIES:amsterdam-centrum,eastern docklands,ruimte,stories
END:VEVENT
BEGIN:VEVENT
UID:20136@offbeat.amsterdam
SUMMARY:Ontwerpen aan waardenrijke woongebouwen
DTSTAMP:20260422T084728Z
DTSTART:20260609T173000Z
URL:https://offbeat.amsterdam/event/ontwerpen-aan-waardenrijke-woongebouwen
GEO:52.376857;4.9220756
LOCATION:Pakhuis de Zwijger - Piet Heinkade 179\, 1019 HC Amsterdam
STATUS:CONFIRMED
CATEGORIES:eastern docklands,ruimte,amsterdam-centrum
END:VEVENT
END:VCALENDAR
