BEGIN:VCALENDAR
VERSION:2.0
CALSCALE:GREGORIAN
PRODID:adamgibbons/ics
METHOD:PUBLISH
X-PUBLISHED-TTL:PT1H
BEGIN:VEVENT
UID:16824@offbeat.amsterdam
SUMMARY:RAT CAGE (UK) + TRAUMATIZER + ABUSIVE FORMS
DTSTAMP:20260421T053726Z
DTSTART:20260424T183000Z
URL:https://offbeat.amsterdam/event/rat-cage-uk-traumatizer-abusive-forms
GEO:52.354338;4.8553367
LOCATION:OCCII - Amstelveenseweg 134\, 1075 XL Amsterdam
STATUS:CONFIRMED
CATEGORIES:amsterdam-zuid,books,community,fast,hc/punk,punk,raw,schinkelbuu
	rt
END:VEVENT
BEGIN:VEVENT
UID:19331@offbeat.amsterdam
SUMMARY:Wap Shoo Wap X Pretty Pissed Afterparty
DTSTAMP:20260421T053726Z
DTSTART:20260523T210000Z
URL:https://offbeat.amsterdam/event/wap-shoo-wap-x-pretty-pissed-afterparty
	-1
GEO:52.3647777;4.881073026725959
LOCATION:Melkweg - Lijnbaansgracht 234A\, 1017 PH Amsterdam
STATUS:CONFIRMED
CATEGORIES:after party,amsterdam-centrum,festival,leidseplein,punk,raw
END:VEVENT
END:VCALENDAR
