BEGIN:VCALENDAR
VERSION:2.0
CALSCALE:GREGORIAN
PRODID:adamgibbons/ics
METHOD:PUBLISH
X-PUBLISHED-TTL:PT1H
BEGIN:VEVENT
UID:19377@offbeat.amsterdam
SUMMARY:Nex Cassel Live in Amsterdam!
DTSTAMP:20260421T102742Z
DTSTART:20260423T180000Z
URL:https://offbeat.amsterdam/event/nex-cassel-live-in-amsterdam
GEO:52.3966283;4.8755183
LOCATION:Toekomstmuziek - Danzigerbocht 29\, 1013 AM Amsterdam
STATUS:CONFIRMED
CATEGORIES:live music,minervahaven,rap,westpoort,amsterdam-west,hip-hop,ita
	lian-rap,live
END:VEVENT
BEGIN:VEVENT
UID:19787@offbeat.amsterdam
SUMMARY:Rebetiko Night Sti Sofita
DTSTAMP:20260421T102742Z
DTSTART:20260424T180000Z
URL:https://offbeat.amsterdam/event/rebetiko-night-sti-sofita-2
GEO:52.3711125;4.8900771
LOCATION:Theater de Richel - Nieuwezijds Voorburgwal 282\, 1012 RT Amsterda
	m
STATUS:CONFIRMED
CATEGORIES:stories,spui,refugees,rap,amsterdam-centrum,community,concert,fo
	od,grieks,jazz,live,music,muziek
END:VEVENT
BEGIN:VEVENT
UID:18673@offbeat.amsterdam
SUMMARY:NAV
DTSTAMP:20260421T102742Z
DTSTART:20260504T170000Z
URL:https://offbeat.amsterdam/event/nav
GEO:52.3647777;4.881073026725959
LOCATION:Melkweg - Lijnbaansgracht 234A\, 1017 PH Amsterdam
STATUS:CONFIRMED
CATEGORIES:hip hop,concert,amsterdam-centrum,trap,rap,leidseplein
END:VEVENT
BEGIN:VEVENT
UID:16881@offbeat.amsterdam
SUMMARY:Atmosphere
DTSTAMP:20260421T102742Z
DTSTART:20260505T170000Z
URL:https://offbeat.amsterdam/event/atmosphere
GEO:52.3647777;4.881073026725959
LOCATION:Melkweg - Lijnbaansgracht 234A\, 1017 PH Amsterdam
STATUS:CONFIRMED
CATEGORIES:rap,amsterdam-centrum,concert,hip hop duo,leidseplein,undergroun
	d
END:VEVENT
BEGIN:VEVENT
UID:19351@offbeat.amsterdam
SUMMARY:"Swifty ‘Wat Nu’ Album Release & 10 Jarig Jubileum Party"
DTSTAMP:20260421T102742Z
DTSTART:20260508T170000Z
DTEND:20260508T230000Z
URL:https://offbeat.amsterdam/event/swifty-wat-nu-album-release-and-10-jari
	g-jubileum-party
GEO:52.3966283;4.8755183
LOCATION:Toekomstmuziek - Danzigerbocht 29\, 1013 AM Amsterdam
STATUS:CONFIRMED
CATEGORIES:live music,minervahaven,music,neder-pop,westpoort,swifty,rap,pop
	,party,amsterdam-west,festivals
END:VEVENT
BEGIN:VEVENT
UID:19788@offbeat.amsterdam
SUMMARY:Rebetiko Night Sti Sofita
DTSTAMP:20260421T102742Z
DTSTART:20260508T180000Z
URL:https://offbeat.amsterdam/event/rebetiko-night-sti-sofita-3
GEO:52.3711125;4.8900771
LOCATION:Theater de Richel - Nieuwezijds Voorburgwal 282\, 1012 RT Amsterda
	m
STATUS:CONFIRMED
CATEGORIES:stories,amsterdam-centrum,concert,food,grieks,jazz,live,music,mu
	ziek,rap,refugees,spui
END:VEVENT
BEGIN:VEVENT
UID:19813@offbeat.amsterdam
SUMMARY:Bex
DTSTAMP:20260421T102742Z
DTSTART:20260512T173000Z
URL:https://offbeat.amsterdam/event/bex
GEO:52.36215535;4.883782439016489
LOCATION:Paradiso - Weteringschans 6\, 1017 SG Amsterdam
STATUS:CONFIRMED
CATEGORIES:rnb,amsterdam-centrum,leidseplein,rap,indie
END:VEVENT
BEGIN:VEVENT
UID:16747@offbeat.amsterdam
SUMMARY:Joey Valence & Brae
DTSTAMP:20260421T102742Z
DTSTART:20260516T170000Z
URL:https://offbeat.amsterdam/event/joey-valence-and-brae
GEO:52.3647777;4.881073026725959
LOCATION:Melkweg - Lijnbaansgracht 234A\, 1017 PH Amsterdam
STATUS:CONFIRMED
CATEGORIES:punk,leidseplein,concert,amsterdam-centrum,alternative hip-hop,r
	ap
END:VEVENT
BEGIN:VEVENT
UID:18605@offbeat.amsterdam
SUMMARY:BBG PRESENTS: ECURIE D’ARGENT (CH) + TWINNINGL00M (NL) + VHS MIDNIG
	HT STYLE (UK)
DTSTAMP:20260421T102742Z
DTSTART:20260516T183000Z
URL:https://offbeat.amsterdam/event/bbg-presents-ecurie-dargent-ch-twinning
	l00m-nl-vhs-midnight-style-uk
GEO:52.354338;4.8553367
LOCATION:OCCII - Amstelveenseweg 134\, 1075 XL Amsterdam
STATUS:CONFIRMED
CATEGORIES:community,electronics,idm,music,online music,performance,rap,sch
	inkelbuurt,amsterdam-zuid,books,cloud/underground rap,electronic
END:VEVENT
BEGIN:VEVENT
UID:14579@offbeat.amsterdam
SUMMARY:Joey Valence & Brae - HYPERYOUTH
DTSTAMP:20260421T102742Z
DTSTART:20260519T183000Z
URL:https://offbeat.amsterdam/event/joey-valence-and-brae-hyperyouth
GEO:52.36215535;4.883782439016489
LOCATION:Paradiso - Weteringschans 6\, 1017 SG Amsterdam
STATUS:CONFIRMED
CATEGORIES:alternative,amsterdam-centrum,leidseplein,rap
END:VEVENT
BEGIN:VEVENT
UID:20933@offbeat.amsterdam
SUMMARY:YUNGMORPHEUS | support: theravada
DTSTAMP:20260421T102742Z
DTSTART:20260601T180000Z
URL:https://offbeat.amsterdam/event/yungmorpheus-or-support-theravada
GEO:52.3528265;4.906568
LOCATION:Cinetol - Tolstraat 182\, 1074 VM Amsterdam
STATUS:CONFIRMED
CATEGORIES:hip-hop,amsterdam-zuid,de pijp,rap,music
END:VEVENT
BEGIN:VEVENT
UID:19954@offbeat.amsterdam
SUMMARY:Buckshot
DTSTAMP:20260421T102742Z
DTSTART:20260603T173000Z
URL:https://offbeat.amsterdam/event/buckshot
GEO:52.36215535;4.883782439016489
LOCATION:Paradiso - Weteringschans 6\, 1017 SG Amsterdam
STATUS:CONFIRMED
CATEGORIES:leidseplein,concert,amsterdam-centrum,rap
END:VEVENT
BEGIN:VEVENT
UID:19739@offbeat.amsterdam
SUMMARY:Death Sells | support: ioana iorgu
DTSTAMP:20260421T102742Z
DTSTART:20260604T180000Z
URL:https://offbeat.amsterdam/event/death-sells
GEO:52.3528265;4.906568
LOCATION:Cinetol - Tolstraat 182\, 1074 VM Amsterdam
STATUS:CONFIRMED
CATEGORIES:live,amsterdam-zuid,rap,de pijp,festivals,garage,punk
END:VEVENT
BEGIN:VEVENT
UID:20378@offbeat.amsterdam
SUMMARY:Hits uit Afrika by Wendy Kimani & The Congo Beach Club
DTSTAMP:20260421T102742Z
DTSTART:20260613T180000Z
URL:https://offbeat.amsterdam/event/hits-uit-afrika-by-wendy-kimani-and-the
	-congo-beach-club
GEO:52.354291;4.8540331
LOCATION:Teatro Munganga - Schinkelhavenstraat 27 HS\, 1075 VP Amsterdam
STATUS:CONFIRMED
CATEGORIES:amsterdam-zuid,afro,music,rap,schinkelbuurt,soul
END:VEVENT
BEGIN:VEVENT
UID:19365@offbeat.amsterdam
SUMMARY:Jimothy Lacoste live in Amsterdam!
DTSTAMP:20260421T102742Z
DTSTART:20260618T170000Z
DTEND:20260623T210000Z
URL:https://offbeat.amsterdam/event/jimothy-lacoste-live-in-amsterdam
GEO:52.3966283;4.8755183
LOCATION:Toekomstmuziek - Danzigerbocht 29\, 1013 AM Amsterdam
STATUS:CONFIRMED
CATEGORIES:live music,minervahaven,rap,soul,westpoort,live,electropop,bedro
	om pop,amsterdam-west
END:VEVENT
BEGIN:VEVENT
UID:20987@offbeat.amsterdam
SUMMARY:TA2REEBAN – تقريبًا (LB\, BEIRUT) + EMIRHAN X + SUPERMARKT
DTSTAMP:20260421T102742Z
DTSTART:20260620T183000Z
URL:https://offbeat.amsterdam/event/ta2reeban-lb-beirut-emirhan-x-supermark
	t
GEO:52.354338;4.8553367
LOCATION:OCCII - Amstelveenseweg 134\, 1075 XL Amsterdam
STATUS:CONFIRMED
CATEGORIES:community,stories,schinkelbuurt,rock,rave,rap,punk,poetry,perfor
	mance,music,live,improv,hardcore,harami hc/punk,experimental,dance-punk,da
	nce,books,amsterdam-zuid
END:VEVENT
BEGIN:VEVENT
UID:16746@offbeat.amsterdam
SUMMARY:Baco Exu do Blues
DTSTAMP:20260421T102742Z
DTSTART:20260621T173000Z
URL:https://offbeat.amsterdam/event/baco-exu-do-blues
GEO:52.3647777;4.881073026725959
LOCATION:Melkweg - Lijnbaansgracht 234A\, 1017 PH Amsterdam
STATUS:CONFIRMED
CATEGORIES:samba,amsterdam-centrum,concert,leidseplein,mpb,rap
END:VEVENT
BEGIN:VEVENT
UID:19324@offbeat.amsterdam
SUMMARY:Molotov / Mala Rodríguez
DTSTAMP:20260421T102742Z
DTSTART:20260622T170000Z
URL:https://offbeat.amsterdam/event/molotov-mala-rodriguez
GEO:52.3647777;4.881073026725959
LOCATION:Melkweg - Lijnbaansgracht 234A\, 1017 PH Amsterdam
STATUS:CONFIRMED
CATEGORIES:rap,concert,latin rock,leidseplein,amsterdam-centrum
END:VEVENT
BEGIN:VEVENT
UID:18357@offbeat.amsterdam
SUMMARY:Lexa Gates
DTSTAMP:20260421T102742Z
DTSTART:20260626T173000Z
URL:https://offbeat.amsterdam/event/lexa-gates-1
GEO:52.3647777;4.881073026725959
LOCATION:Melkweg - Lijnbaansgracht 234A\, 1017 PH Amsterdam
STATUS:CONFIRMED
CATEGORIES:hip hop,r&b,rap,leidseplein,concert,amsterdam-centrum
END:VEVENT
BEGIN:VEVENT
UID:20603@offbeat.amsterdam
SUMMARY:Thaiboy Digital
DTSTAMP:20260421T102742Z
DTSTART:20260630T183000Z
URL:https://offbeat.amsterdam/event/thaiboy-digital
GEO:52.3830883;4.9030297
LOCATION:Tolhuistuin - IJpromenade 2\, 1031 KT Amsterdam
STATUS:CONFIRMED
CATEGORIES:amsterdam-noord,rap,music,edm,dj,buiksloterweg
END:VEVENT
BEGIN:VEVENT
UID:20003@offbeat.amsterdam
SUMMARY:Buckshot
DTSTAMP:20260421T102742Z
DTSTART:20260703T200000Z
URL:https://offbeat.amsterdam/event/buckshot-1
GEO:52.36215535;4.883782439016489
LOCATION:Paradiso - Weteringschans 6\, 1017 SG Amsterdam
STATUS:CONFIRMED
CATEGORIES:concert,leidseplein,rap,amsterdam-centrum
END:VEVENT
BEGIN:VEVENT
UID:20069@offbeat.amsterdam
SUMMARY:Che
DTSTAMP:20260421T102742Z
DTSTART:20260705T170000Z
URL:https://offbeat.amsterdam/event/che
GEO:52.3647777;4.881073026725959
LOCATION:Melkweg - Lijnbaansgracht 234A\, 1017 PH Amsterdam
STATUS:CONFIRMED
CATEGORIES:concert,leidseplein,rap,trap,underground,amsterdam-centrum
END:VEVENT
BEGIN:VEVENT
UID:20651@offbeat.amsterdam
SUMMARY:Nine Vicious
DTSTAMP:20260421T102742Z
DTSTART:20260709T173000Z
URL:https://offbeat.amsterdam/event/nine-vicious
GEO:52.3647777;4.881073026725959
LOCATION:Melkweg - Lijnbaansgracht 234A\, 1017 PH Amsterdam
STATUS:CONFIRMED
CATEGORIES:concert,amsterdam-centrum,leidseplein,rap,trap,underground
END:VEVENT
BEGIN:VEVENT
UID:17657@offbeat.amsterdam
SUMMARY:Mykki Blanco
DTSTAMP:20260421T102742Z
DTSTART:20260731T173000Z
URL:https://offbeat.amsterdam/event/mykki-blanco
GEO:52.3647777;4.881073026725959
LOCATION:Melkweg - Lijnbaansgracht 234A\, 1017 PH Amsterdam
STATUS:CONFIRMED
CATEGORIES:rap,amsterdam-centrum,alternative hip-hop,queer,leidseplein,conc
	ert
END:VEVENT
BEGIN:VEVENT
UID:19394@offbeat.amsterdam
SUMMARY:GZUZ
DTSTAMP:20260421T102742Z
DTSTART:20260903T170000Z
URL:https://offbeat.amsterdam/event/gzuz
GEO:52.3647777;4.881073026725959
LOCATION:Melkweg - Lijnbaansgracht 234A\, 1017 PH Amsterdam
STATUS:CONFIRMED
CATEGORIES:amsterdam-centrum,concert,hip hop,leidseplein,rap
END:VEVENT
BEGIN:VEVENT
UID:19193@offbeat.amsterdam
SUMMARY:Feng
DTSTAMP:20260421T102742Z
DTSTART:20260914T173000Z
URL:https://offbeat.amsterdam/event/feng
GEO:52.3830883;4.9030297
LOCATION:Tolhuistuin - IJpromenade 2\, 1031 KT Amsterdam
STATUS:CONFIRMED
CATEGORIES:buiksloterweg,rap,music,amsterdam-noord
END:VEVENT
BEGIN:VEVENT
UID:16930@offbeat.amsterdam
SUMMARY:Nnelg
DTSTAMP:20260421T102742Z
DTSTART:20260918T173000Z
URL:https://offbeat.amsterdam/event/nnelg-1
GEO:52.3647777;4.881073026725959
LOCATION:Melkweg - Lijnbaansgracht 234A\, 1017 PH Amsterdam
STATUS:CONFIRMED
CATEGORIES:rap,leidseplein,hip hop,gospel,concert,amsterdam-centrum
END:VEVENT
BEGIN:VEVENT
UID:19502@offbeat.amsterdam
SUMMARY:Slayyyter WOR$T GIRL IN THE WORLD TOUR
DTSTAMP:20260421T102742Z
DTSTART:20261019T173000Z
URL:https://offbeat.amsterdam/event/slayyyter-wordollart-girl-in-the-world-
	tour
GEO:52.36215535;4.883782439016489
LOCATION:Paradiso - Weteringschans 6\, 1017 SG Amsterdam
STATUS:CONFIRMED
CATEGORIES:amsterdam-centrum,leidseplein,punk,rap
END:VEVENT
BEGIN:VEVENT
UID:19303@offbeat.amsterdam
SUMMARY:Dave East
DTSTAMP:20260421T102742Z
DTSTART:20261019T183000Z
URL:https://offbeat.amsterdam/event/dave-east
GEO:52.3830883;4.9030297
LOCATION:Tolhuistuin - IJpromenade 2\, 1031 KT Amsterdam
STATUS:CONFIRMED
CATEGORIES:amsterdam-noord,rap,classes,buiksloterweg
END:VEVENT
BEGIN:VEVENT
UID:18906@offbeat.amsterdam
SUMMARY:Salmo
DTSTAMP:20260421T102742Z
DTSTART:20261119T183000Z
URL:https://offbeat.amsterdam/event/salmo
GEO:52.3647777;4.881073026725959
LOCATION:Melkweg - Lijnbaansgracht 234A\, 1017 PH Amsterdam
STATUS:CONFIRMED
CATEGORIES:concert,amsterdam-centrum,rap,loud,leidseplein,genre-bending
END:VEVENT
END:VCALENDAR
