BEGIN:VCALENDAR
VERSION:2.0
CALSCALE:GREGORIAN
PRODID:adamgibbons/ics
METHOD:PUBLISH
X-PUBLISHED-TTL:PT1H
BEGIN:VEVENT
UID:19390@offbeat.amsterdam
SUMMARY:Tropical Nomads Amsterdam presents: Burn in Noise
DTSTAMP:20260422T115626Z
DTSTART:20260529T160000Z
DTEND:20260530T010000Z
URL:https://offbeat.amsterdam/event/tropical-nomads-amsterdam-presents-burn
	-in-noise
GEO:52.3966283;4.8755183
LOCATION:Toekomstmuziek - Danzigerbocht 29\, 1013 AM Amsterdam
STATUS:CONFIRMED
CATEGORIES:westpoort,community,electronic,festivals,minervahaven,music,psyt
	rance,amsterdam-west
END:VEVENT
BEGIN:VEVENT
UID:13300@offbeat.amsterdam
SUMMARY:Hilight Tribe
DTSTAMP:20260422T115626Z
DTSTART:20261121T180000Z
URL:https://offbeat.amsterdam/event/hilight-tribe-1
GEO:52.3647777;4.881073026725959
LOCATION:Melkweg - Lijnbaansgracht 234A\, 1017 PH Amsterdam
STATUS:CONFIRMED
CATEGORIES:amsterdam-centrum,concert,leidseplein,live,psytrance,acoustic
END:VEVENT
END:VCALENDAR
