BEGIN:VCALENDAR
VERSION:2.0
CALSCALE:GREGORIAN
PRODID:adamgibbons/ics
METHOD:PUBLISH
X-PUBLISHED-TTL:PT1H
BEGIN:VEVENT
UID:20819@offbeat.amsterdam
SUMMARY:Lowly Dog + The Pheromones
DTSTAMP:20260419T223052Z
DTSTART:20260420T160000Z
URL:https://offbeat.amsterdam/event/lowly-dog-the-pheromones
GEO:52.3830202;4.8780599
LOCATION:Zaal 100 - De Wittenstraat 100\, 1052 BA Amsterdam
STATUS:CONFIRMED
CATEGORIES:concert,blues,amsterdam-west,staatsliedenbuurt,rock,pride,music,
	live
END:VEVENT
BEGIN:VEVENT
UID:18940@offbeat.amsterdam
SUMMARY:PARLOUR Presents... Signe Dø and Anna Soleil
DTSTAMP:20260419T223052Z
DTSTART:20260425T170000Z
DTEND:20260425T203000Z
URL:https://offbeat.amsterdam/event/parlour-presents-signe-do-and-anna-sole
	il
GEO:52.3504671;4.8912837
LOCATION:Parlour - Cornelis Troostplein 23\, 1072 JJ Amsterdam
STATUS:CONFIRMED
CATEGORIES:piano,pride,stories,theater,amsterdam-zuid,concert,de pijp,elect
	ronics,festivals,live,music,performance
END:VEVENT
BEGIN:VEVENT
UID:20309@offbeat.amsterdam
SUMMARY:ArtiShock #24 Lino Workshop
DTSTAMP:20260419T223052Z
DTSTART:20260430T143000Z
DTEND:20260430T163000Z
URL:https://offbeat.amsterdam/event/artishock-24-lino-workshop
GEO:52.3690637;4.894763
LOCATION:VOX-POP - Binnengasthuisstraat 9\, 1012 ZA Amsterdam
STATUS:CONFIRMED
CATEGORIES:dj,classes,burgwallen,amsterdam-centrum,workshop,queer,pride,gen
	der,community
END:VEVENT
BEGIN:VEVENT
UID:18831@offbeat.amsterdam
SUMMARY:Pretty//Ugly: Ryan Cassata and the Top Surgeons
DTSTAMP:20260419T223053Z
DTSTART:20260503T180000Z
URL:https://offbeat.amsterdam/event/prettyugly-ryan-cassata-and-the-top-sur
	geons
GEO:52.354338;4.8553367
LOCATION:OCCII - Amstelveenseweg 134\, 1075 XL Amsterdam
STATUS:CONFIRMED
CATEGORIES:rock,community,dance,jazz,live,music,performance,pride,queer,ams
	terdam-zuid,schinkelbuurt,stories
END:VEVENT
BEGIN:VEVENT
UID:19144@offbeat.amsterdam
SUMMARY:Männerbund
DTSTAMP:20260419T223053Z
DTSTART:20260504T183000Z
DTEND:20260504T193000Z
URL:https://offbeat.amsterdam/event/mannerbund
GEO:52.3608907;4.9138063
LOCATION:Plein Theater - Sajetplein 39\, 1091 DB Amsterdam
STATUS:CONFIRMED
CATEGORIES:festivals,oosterparkbuurt,pride,queer,theater,amsterdam-oost,com
	munity,theatre
END:VEVENT
BEGIN:VEVENT
UID:19751@offbeat.amsterdam
SUMMARY:Bou di Watapana #7: Queer Caribbean Voices
DTSTAMP:20260419T223053Z
DTSTART:20260513T173000Z
URL:https://offbeat.amsterdam/event/bou-di-watapana-7-queer-caribbean-voice
	s
GEO:52.376857;4.9220756
LOCATION:Pakhuis de Zwijger - Piet Heinkade 179\, 1019 HC Amsterdam
STATUS:CONFIRMED
CATEGORIES:sociaal,theater,amsterdam-centrum,afro,comedy,community,eastern 
	docklands,festivals,mental health,performance,pride,queer
END:VEVENT
BEGIN:VEVENT
UID:18976@offbeat.amsterdam
SUMMARY:Karen Mastique + Stemin
DTSTAMP:20260419T223053Z
DTSTART:20260614T173000Z
URL:https://offbeat.amsterdam/event/karen-mastique-stemin
GEO:52.3528265;4.906568
LOCATION:Cinetol - Tolstraat 182\, 1074 VM Amsterdam
STATUS:CONFIRMED
CATEGORIES:de pijp,music,amsterdam-zuid,rock,queer,pride,pop
END:VEVENT
BEGIN:VEVENT
UID:20303@offbeat.amsterdam
SUMMARY:WORLD PRIDE | Queer Nature Photography Awards
DTSTAMP:20260419T223053Z
DTSTART:20260729T170000Z
URL:https://offbeat.amsterdam/event/world-pride-or-queer-nature-photography
	-awards
GEO:52.3830883;4.9030297
LOCATION:Tolhuistuin - IJpromenade 2\, 1031 KT Amsterdam
STATUS:CONFIRMED
CATEGORIES:talk,queer,pride,gender,exhibition,buiksloterweg,amsterdam-noord
END:VEVENT
BEGIN:VEVENT
UID:20809@offbeat.amsterdam
SUMMARY:Sam Bettens (solo)
DTSTAMP:20260419T223053Z
DTSTART:20260729T183000Z
URL:https://offbeat.amsterdam/event/sam-bettens-solo
GEO:52.36215535;4.883782439016489
LOCATION:Paradiso - Weteringschans 6\, 1017 SG Amsterdam
STATUS:CONFIRMED
CATEGORIES:pride,leidseplein,amsterdam-centrum
END:VEVENT
END:VCALENDAR
