BEGIN:VCALENDAR
VERSION:2.0
CALSCALE:GREGORIAN
PRODID:adamgibbons/ics
METHOD:PUBLISH
X-PUBLISHED-TTL:PT1H
BEGIN:VEVENT
UID:15089@offbeat.amsterdam
SUMMARY:ARIES
DTSTAMP:20260420T113420Z
DTSTART:20260420T170000Z
URL:https://offbeat.amsterdam/event/aries
GEO:52.3647777;4.881073026725959
LOCATION:Melkweg - Lijnbaansgracht 234A\, 1017 PH Amsterdam
STATUS:CONFIRMED
CATEGORIES:rap,alternative hip-hop,amsterdam-centrum,concert,leidseplein,po
	p
END:VEVENT
BEGIN:VEVENT
UID:9407@offbeat.amsterdam
SUMMARY:Krezip
DTSTAMP:20260420T113420Z
DTSTART:20260424T170000Z
URL:https://offbeat.amsterdam/event/krezip
GEO:52.3647777;4.881073026725959
LOCATION:Melkweg - Lijnbaansgracht 234A\, 1017 PH Amsterdam
STATUS:CONFIRMED
CATEGORIES:concert,dutch pop,leidseplein,pop,amsterdam-centrum
END:VEVENT
BEGIN:VEVENT
UID:13239@offbeat.amsterdam
SUMMARY:Skye Newman
DTSTAMP:20260420T113420Z
DTSTART:20260425T170000Z
URL:https://offbeat.amsterdam/event/skye-newman
GEO:52.3647777;4.881073026725959
LOCATION:Melkweg - Lijnbaansgracht 234A\, 1017 PH Amsterdam
STATUS:CONFIRMED
CATEGORIES:concert,leidseplein,amsterdam-centrum,soul,r&b,pop
END:VEVENT
BEGIN:VEVENT
UID:18109@offbeat.amsterdam
SUMMARY:Kingsday Club Festival
DTSTAMP:20260420T113420Z
DTSTART:20260427T180000Z
URL:https://offbeat.amsterdam/event/kingsday-club-festival
GEO:52.3647777;4.881073026725959
LOCATION:Melkweg - Lijnbaansgracht 234A\, 1017 PH Amsterdam
STATUS:CONFIRMED
CATEGORIES:amsterdam-centrum,latin,r&b,pop,leidseplein,club
END:VEVENT
BEGIN:VEVENT
UID:18301@offbeat.amsterdam
SUMMARY:REBE | support: swimming pool
DTSTAMP:20260420T113420Z
DTSTART:20260430T180000Z
URL:https://offbeat.amsterdam/event/rebe
GEO:52.3528265;4.906568
LOCATION:Cinetol - Tolstraat 182\, 1074 VM Amsterdam
STATUS:CONFIRMED
CATEGORIES:indie,de pijp,amsterdam-zuid,pop
END:VEVENT
BEGIN:VEVENT
UID:18827@offbeat.amsterdam
SUMMARY:xCelia | ep release | support: desma
DTSTAMP:20260420T113420Z
DTSTART:20260501T184500Z
URL:https://offbeat.amsterdam/event/xcelia-or-ep-release-or-support-desma
GEO:52.3528265;4.906568
LOCATION:Cinetol - Tolstraat 182\, 1074 VM Amsterdam
STATUS:CONFIRMED
CATEGORIES:elektronisch,indie,live,pop,amsterdam-zuid,de pijp
END:VEVENT
BEGIN:VEVENT
UID:4652@offbeat.amsterdam
SUMMARY:Louane
DTSTAMP:20260420T113420Z
DTSTART:20260502T170000Z
URL:https://offbeat.amsterdam/event/louane
GEO:52.3647777;4.881073026725959
LOCATION:Melkweg - Lijnbaansgracht 234A\, 1017 PH Amsterdam
STATUS:CONFIRMED
CATEGORIES:concert,amsterdam-centrum,eurovision song contest,leidseplein,po
	p
END:VEVENT
BEGIN:VEVENT
UID:15209@offbeat.amsterdam
SUMMARY:TUL8TE
DTSTAMP:20260420T113420Z
DTSTART:20260503T170000Z
URL:https://offbeat.amsterdam/event/tul8te
GEO:52.3647777;4.881073026725959
LOCATION:Melkweg - Lijnbaansgracht 234A\, 1017 PH Amsterdam
STATUS:CONFIRMED
CATEGORIES:bossa nova,amsterdam-centrum,concert,leidseplein,pop,psychedelic
END:VEVENT
BEGIN:VEVENT
UID:19938@offbeat.amsterdam
SUMMARY:Palina
DTSTAMP:20260420T113420Z
DTSTART:20260503T173000Z
URL:https://offbeat.amsterdam/event/palina
GEO:52.3528265;4.906568
LOCATION:Cinetol - Tolstraat 182\, 1074 VM Amsterdam
STATUS:CONFIRMED
CATEGORIES:pop,amsterdam-zuid,de pijp
END:VEVENT
BEGIN:VEVENT
UID:18108@offbeat.amsterdam
SUMMARY:Jessica Baio
DTSTAMP:20260420T113420Z
DTSTART:20260506T173000Z
URL:https://offbeat.amsterdam/event/jessica-baio
GEO:52.3647777;4.881073026725959
LOCATION:Melkweg - Lijnbaansgracht 234A\, 1017 PH Amsterdam
STATUS:CONFIRMED
CATEGORIES:singer-songwriter,pop,concert,leidseplein,teen pop,amsterdam-cen
	trum
END:VEVENT
BEGIN:VEVENT
UID:19351@offbeat.amsterdam
SUMMARY:"Swifty ‘Wat Nu’ Album Release & 10 Jarig Jubileum Party"
DTSTAMP:20260420T113420Z
DTSTART:20260508T170000Z
DTEND:20260508T230000Z
URL:https://offbeat.amsterdam/event/swifty-wat-nu-album-release-and-10-jari
	g-jubileum-party
GEO:52.3966283;4.8755183
LOCATION:Toekomstmuziek - Danzigerbocht 29\, 1013 AM Amsterdam
STATUS:CONFIRMED
CATEGORIES:swifty,amsterdam-west,festivals,live music,minervahaven,music,ne
	der-pop,party,pop,rap,westpoort
END:VEVENT
BEGIN:VEVENT
UID:18300@offbeat.amsterdam
SUMMARY:Oliver Aron | support: sophie van hasselt
DTSTAMP:20260420T113420Z
DTSTART:20260509T180000Z
URL:https://offbeat.amsterdam/event/oliver-aron
GEO:52.3528265;4.906568
LOCATION:Cinetol - Tolstraat 182\, 1074 VM Amsterdam
STATUS:CONFIRMED
CATEGORIES:pop,amsterdam-zuid,de pijp,indie
END:VEVENT
BEGIN:VEVENT
UID:18442@offbeat.amsterdam
SUMMARY:Else Lena – Verlangen en Verliezen
DTSTAMP:20260420T113420Z
DTSTART:20260514T180000Z
URL:https://offbeat.amsterdam/event/else-lena-verlangen-en-verliezen
GEO:52.3711125;4.8900771
LOCATION:Theater de Richel - Nieuwezijds Voorburgwal 282\, 1012 RT Amsterda
	m
STATUS:CONFIRMED
CATEGORIES:pop,piano,muziek,live,kleinkunst,amsterdam-centrum,spui
END:VEVENT
BEGIN:VEVENT
UID:18254@offbeat.amsterdam
SUMMARY:Clinton Kane
DTSTAMP:20260420T113420Z
DTSTART:20260517T173000Z
URL:https://offbeat.amsterdam/event/clinton-kane
GEO:52.3647777;4.881073026725959
LOCATION:Melkweg - Lijnbaansgracht 234A\, 1017 PH Amsterdam
STATUS:CONFIRMED
CATEGORIES:leidseplein,singer-songwriter,tiktok sensation,amsterdam-centrum
	,concert,pop
END:VEVENT
BEGIN:VEVENT
UID:19934@offbeat.amsterdam
SUMMARY:Lara | ep release
DTSTAMP:20260420T113420Z
DTSTART:20260517T180000Z
URL:https://offbeat.amsterdam/event/lara-or-ep-release
GEO:52.3528265;4.906568
LOCATION:Cinetol - Tolstraat 182\, 1074 VM Amsterdam
STATUS:CONFIRMED
CATEGORIES:live,amsterdam-zuid,de pijp,folk,pop
END:VEVENT
BEGIN:VEVENT
UID:19376@offbeat.amsterdam
SUMMARY:Murdo Mitchell + Support Live in Amsterdam!
DTSTAMP:20260420T113420Z
DTSTART:20260521T170000Z
DTEND:20260521T210000Z
URL:https://offbeat.amsterdam/event/murdo-mitchell-support-live-in-amsterda
	m
GEO:52.3966283;4.8755183
LOCATION:Toekomstmuziek - Danzigerbocht 29\, 1013 AM Amsterdam
STATUS:CONFIRMED
CATEGORIES:pop,minervahaven,live music,live,amsterdam-west,indie,westpoort,
	soul,singer-songwriter
END:VEVENT
BEGIN:VEVENT
UID:16653@offbeat.amsterdam
SUMMARY:deary + resplandor | support: part garden
DTSTAMP:20260420T113420Z
DTSTART:20260522T180000Z
URL:https://offbeat.amsterdam/event/deary-resplandor-or-support-part-garden
GEO:52.3528265;4.906568
LOCATION:Cinetol - Tolstraat 182\, 1074 VM Amsterdam
STATUS:CONFIRMED
CATEGORIES:pop,music,indie,festivals,de pijp,amsterdam-zuid,shoegaze,post-r
	ock,postpunk
END:VEVENT
BEGIN:VEVENT
UID:19380@offbeat.amsterdam
SUMMARY:Paradiso Indiestad presents: The Itch + Support
DTSTAMP:20260420T113420Z
DTSTART:20260526T170000Z
URL:https://offbeat.amsterdam/event/paradiso-indiestad-presents-the-itch-su
	pport
GEO:52.3966283;4.8755183
LOCATION:Toekomstmuziek - Danzigerbocht 29\, 1013 AM Amsterdam
STATUS:CONFIRMED
CATEGORIES:live music,westpoort,punk,pop,open mic,minervahaven,electroclash
	,dancepunk,dance,concert,amsterdam-west
END:VEVENT
BEGIN:VEVENT
UID:19794@offbeat.amsterdam
SUMMARY:Darcie Haven
DTSTAMP:20260420T113420Z
DTSTART:20260526T180000Z
URL:https://offbeat.amsterdam/event/darcie-haven
GEO:52.3528265;4.906568
LOCATION:Cinetol - Tolstraat 182\, 1074 VM Amsterdam
STATUS:CONFIRMED
CATEGORIES:indie,music,pop,amsterdam-zuid,de pijp
END:VEVENT
BEGIN:VEVENT
UID:17918@offbeat.amsterdam
SUMMARY:Berber & YRSA
DTSTAMP:20260420T113420Z
DTSTART:20260528T184500Z
URL:https://offbeat.amsterdam/event/berber-and-yrsa
GEO:52.3528265;4.906568
LOCATION:Cinetol - Tolstraat 182\, 1074 VM Amsterdam
STATUS:CONFIRMED
CATEGORIES:pop,de pijp,indie,live,amsterdam-zuid
END:VEVENT
BEGIN:VEVENT
UID:17970@offbeat.amsterdam
SUMMARY:Hachiku | support: luka
DTSTAMP:20260420T113420Z
DTSTART:20260529T184500Z
URL:https://offbeat.amsterdam/event/hachiku
GEO:52.3528265;4.906568
LOCATION:Cinetol - Tolstraat 182\, 1074 VM Amsterdam
STATUS:CONFIRMED
CATEGORIES:queer,pop,orchestra,indie,de pijp,amsterdam-zuid
END:VEVENT
BEGIN:VEVENT
UID:14959@offbeat.amsterdam
SUMMARY:Mari Froes
DTSTAMP:20260420T113420Z
DTSTART:20260530T170000Z
URL:https://offbeat.amsterdam/event/mari-froes
GEO:52.3647777;4.881073026725959
LOCATION:Melkweg - Lijnbaansgracht 234A\, 1017 PH Amsterdam
STATUS:CONFIRMED
CATEGORIES:concert,pop,mpb,leidseplein,amsterdam-centrum
END:VEVENT
BEGIN:VEVENT
UID:19948@offbeat.amsterdam
SUMMARY:East Africa Conekt x Jollove
DTSTAMP:20260420T113420Z
DTSTART:20260530T215900Z
URL:https://offbeat.amsterdam/event/east-africa-conekt-x-jollove
GEO:52.3647777;4.881073026725959
LOCATION:Melkweg - Lijnbaansgracht 234A\, 1017 PH Amsterdam
STATUS:CONFIRMED
CATEGORIES:pop,leidseplein,afro,club,amsterdam-centrum
END:VEVENT
BEGIN:VEVENT
UID:20496@offbeat.amsterdam
SUMMARY:COTI
DTSTAMP:20260420T113420Z
DTSTART:20260608T173000Z
URL:https://offbeat.amsterdam/event/coti
GEO:52.3528265;4.906568
LOCATION:Cinetol - Tolstraat 182\, 1074 VM Amsterdam
STATUS:CONFIRMED
CATEGORIES:rock,music,de pijp,amsterdam-zuid,pop
END:VEVENT
BEGIN:VEVENT
UID:18976@offbeat.amsterdam
SUMMARY:Karen Mastique + Stemin
DTSTAMP:20260420T113420Z
DTSTART:20260614T173000Z
URL:https://offbeat.amsterdam/event/karen-mastique-stemin
GEO:52.3528265;4.906568
LOCATION:Cinetol - Tolstraat 182\, 1074 VM Amsterdam
STATUS:CONFIRMED
CATEGORIES:queer,rock,amsterdam-zuid,de pijp,music,pop,pride
END:VEVENT
BEGIN:VEVENT
UID:19694@offbeat.amsterdam
SUMMARY:Good Flying Birds
DTSTAMP:20260420T113420Z
DTSTART:20260615T180000Z
URL:https://offbeat.amsterdam/event/good-flying-birds
GEO:52.3528265;4.906568
LOCATION:Cinetol - Tolstraat 182\, 1074 VM Amsterdam
STATUS:CONFIRMED
CATEGORIES:amsterdam-zuid,de pijp,garage,pop,vinyl
END:VEVENT
BEGIN:VEVENT
UID:20600@offbeat.amsterdam
SUMMARY:Zory Luna | graduation show | support: rey
DTSTAMP:20260420T113420Z
DTSTART:20260617T180000Z
URL:https://offbeat.amsterdam/event/zory-luna-or-graduation-show-or-support
	-rey
GEO:52.3528265;4.906568
LOCATION:Cinetol - Tolstraat 182\, 1074 VM Amsterdam
STATUS:CONFIRMED
CATEGORIES:amsterdam-zuid,music,pop,de pijp,elektronisch,live
END:VEVENT
BEGIN:VEVENT
UID:19831@offbeat.amsterdam
SUMMARY:80's Verantwoord
DTSTAMP:20260420T113420Z
DTSTART:20260619T170000Z
URL:https://offbeat.amsterdam/event/80s-verantwoord-3
GEO:52.3647777;4.881073026725959
LOCATION:Melkweg - Lijnbaansgracht 234A\, 1017 PH Amsterdam
STATUS:CONFIRMED
CATEGORIES:hits,80's,amsterdam-centrum,club,pop,leidseplein
END:VEVENT
BEGIN:VEVENT
UID:18074@offbeat.amsterdam
SUMMARY:Felix Ross
DTSTAMP:20260420T113420Z
DTSTART:20260619T173000Z
URL:https://offbeat.amsterdam/event/felix-ross
GEO:52.3528265;4.906568
LOCATION:Cinetol - Tolstraat 182\, 1074 VM Amsterdam
STATUS:CONFIRMED
CATEGORIES:indie,pop,amsterdam-zuid,de pijp
END:VEVENT
BEGIN:VEVENT
UID:17262@offbeat.amsterdam
SUMMARY:Camilo
DTSTAMP:20260420T113420Z
DTSTART:20260624T170000Z
URL:https://offbeat.amsterdam/event/camilo
GEO:52.3647777;4.881073026725959
LOCATION:Melkweg - Lijnbaansgracht 234A\, 1017 PH Amsterdam
STATUS:CONFIRMED
CATEGORIES:leidseplein,amsterdam-centrum,concert,latin,pop
END:VEVENT
BEGIN:VEVENT
UID:20078@offbeat.amsterdam
SUMMARY:Pedro Sampaio
DTSTAMP:20260420T113420Z
DTSTART:20260701T170000Z
URL:https://offbeat.amsterdam/event/pedro-sampaio
GEO:52.3647777;4.881073026725959
LOCATION:Melkweg - Lijnbaansgracht 234A\, 1017 PH Amsterdam
STATUS:CONFIRMED
CATEGORIES:leidseplein,pop,danceable,concert,baile funk,amsterdam-centrum
END:VEVENT
BEGIN:VEVENT
UID:17658@offbeat.amsterdam
SUMMARY:Pabllo Vittar
DTSTAMP:20260420T113420Z
DTSTART:20260725T170000Z
URL:https://offbeat.amsterdam/event/pabllo-vittar
GEO:52.3647777;4.881073026725959
LOCATION:Melkweg - Lijnbaansgracht 234A\, 1017 PH Amsterdam
STATUS:CONFIRMED
CATEGORIES:lgbtqia+,concert,drag,leidseplein,pop,amsterdam-centrum
END:VEVENT
BEGIN:VEVENT
UID:19327@offbeat.amsterdam
SUMMARY:Peaches
DTSTAMP:20260420T113420Z
DTSTART:20260807T170000Z
URL:https://offbeat.amsterdam/event/peaches
GEO:52.3647777;4.881073026725959
LOCATION:Melkweg - Lijnbaansgracht 234A\, 1017 PH Amsterdam
STATUS:CONFIRMED
CATEGORIES:amsterdam-centrum,pop,lgbtqia+,leidseplein,electro pop,concert
END:VEVENT
BEGIN:VEVENT
UID:20599@offbeat.amsterdam
SUMMARY:Rachel Rhea + Mary Ember + Leonoor
DTSTAMP:20260420T113420Z
DTSTART:20260825T180000Z
URL:https://offbeat.amsterdam/event/rachel-rhea-mary-ember-leonoor
GEO:52.3528265;4.906568
LOCATION:Cinetol - Tolstraat 182\, 1074 VM Amsterdam
STATUS:CONFIRMED
CATEGORIES:pop,blues,de pijp,amsterdam-zuid,music,alternative,indie,concert
END:VEVENT
BEGIN:VEVENT
UID:20645@offbeat.amsterdam
SUMMARY:John Moods
DTSTAMP:20260420T113420Z
DTSTART:20260903T180000Z
URL:https://offbeat.amsterdam/event/john-moods
GEO:52.3528265;4.906568
LOCATION:Cinetol - Tolstraat 182\, 1074 VM Amsterdam
STATUS:CONFIRMED
CATEGORIES:pop,indie,de pijp,amsterdam-zuid
END:VEVENT
BEGIN:VEVENT
UID:18675@offbeat.amsterdam
SUMMARY:OGENE
DTSTAMP:20260420T113420Z
DTSTART:20260905T173000Z
URL:https://offbeat.amsterdam/event/ogene
GEO:52.3647777;4.881073026725959
LOCATION:Melkweg - Lijnbaansgracht 234A\, 1017 PH Amsterdam
STATUS:CONFIRMED
CATEGORIES:amsterdam-centrum,r&b,pop,leidseplein,dutch,concert
END:VEVENT
BEGIN:VEVENT
UID:18111@offbeat.amsterdam
SUMMARY:Vanessa Paradis
DTSTAMP:20260420T113420Z
DTSTART:20260923T170000Z
URL:https://offbeat.amsterdam/event/vanessa-paradis
GEO:52.3647777;4.881073026725959
LOCATION:Melkweg - Lijnbaansgracht 234A\, 1017 PH Amsterdam
STATUS:CONFIRMED
CATEGORIES:french,french chanson,leidseplein,pop,concert,amsterdam-centrum
END:VEVENT
BEGIN:VEVENT
UID:18194@offbeat.amsterdam
SUMMARY:Alceu Valença
DTSTAMP:20260420T113420Z
DTSTART:20261105T180000Z
URL:https://offbeat.amsterdam/event/alceu-valenca
GEO:52.3647777;4.881073026725959
LOCATION:Melkweg - Lijnbaansgracht 234A\, 1017 PH Amsterdam
STATUS:CONFIRMED
CATEGORIES:concert,pop,local influences,traditional,amsterdam-centrum,leids
	eplein
END:VEVENT
BEGIN:VEVENT
UID:17064@offbeat.amsterdam
SUMMARY:Liedfett
DTSTAMP:20260420T113420Z
DTSTART:20261105T183000Z
URL:https://offbeat.amsterdam/event/liedfett
GEO:52.3528265;4.906568
LOCATION:Cinetol - Tolstraat 182\, 1074 VM Amsterdam
STATUS:CONFIRMED
CATEGORIES:de pijp,punk,pop,music,live,amsterdam-zuid
END:VEVENT
BEGIN:VEVENT
UID:10407@offbeat.amsterdam
SUMMARY:The Hardkiss
DTSTAMP:20260420T113420Z
DTSTART:20261110T180000Z
URL:https://offbeat.amsterdam/event/the-hardkiss
GEO:52.3647777;4.881073026725959
LOCATION:Melkweg - Lijnbaansgracht 234A\, 1017 PH Amsterdam
STATUS:CONFIRMED
CATEGORIES:alternative rock,concert,amsterdam-centrum,pop,leidseplein,elect
	ronic
END:VEVENT
BEGIN:VEVENT
UID:18036@offbeat.amsterdam
SUMMARY:Gavin James
DTSTAMP:20260420T113420Z
DTSTART:20261111T180000Z
URL:https://offbeat.amsterdam/event/gavin-james-1
GEO:52.3647777;4.881073026725959
LOCATION:Melkweg - Lijnbaansgracht 234A\, 1017 PH Amsterdam
STATUS:CONFIRMED
CATEGORIES:indie,leidseplein,pop,folk,concert,amsterdam-centrum
END:VEVENT
BEGIN:VEVENT
UID:7322@offbeat.amsterdam
SUMMARY:Chris Kläfford
DTSTAMP:20260420T113420Z
DTSTART:20261113T183000Z
URL:https://offbeat.amsterdam/event/chris-klafford-1
GEO:52.3647777;4.881073026725959
LOCATION:Melkweg - Lijnbaansgracht 234A\, 1017 PH Amsterdam
STATUS:CONFIRMED
CATEGORIES:amsterdam-centrum,acoustic,concert,soul,pop,leidseplein
END:VEVENT
BEGIN:VEVENT
UID:20939@offbeat.amsterdam
SUMMARY:NAPA
DTSTAMP:20260420T113420Z
DTSTART:20261115T183000Z
URL:https://offbeat.amsterdam/event/napa
GEO:52.3647777;4.881073026725959
LOCATION:Melkweg - Lijnbaansgracht 234A\, 1017 PH Amsterdam
STATUS:CONFIRMED
CATEGORIES:leidseplein,indie rock,eurovision song contest,pop,amsterdam-cen
	trum,concert
END:VEVENT
BEGIN:VEVENT
UID:20925@offbeat.amsterdam
SUMMARY:Maite Hontelé & La Novia
DTSTAMP:20260420T113420Z
DTSTART:20261204T180000Z
URL:https://offbeat.amsterdam/event/maite-hontele-and-la-novia
GEO:52.3647777;4.881073026725959
LOCATION:Melkweg - Lijnbaansgracht 234A\, 1017 PH Amsterdam
STATUS:CONFIRMED
CATEGORIES:amsterdam-centrum,latin,leidseplein,pop,jazz,concert
END:VEVENT
BEGIN:VEVENT
UID:20650@offbeat.amsterdam
SUMMARY:Artemas
DTSTAMP:20260420T113420Z
DTSTART:20261205T180000Z
URL:https://offbeat.amsterdam/event/artemas-1
GEO:52.3647777;4.881073026725959
LOCATION:Melkweg - Lijnbaansgracht 234A\, 1017 PH Amsterdam
STATUS:CONFIRMED
CATEGORIES:amsterdam-centrum,alternative,leidseplein,concert,pop,r&b
END:VEVENT
BEGIN:VEVENT
UID:20364@offbeat.amsterdam
SUMMARY:Artemas
DTSTAMP:20260420T113420Z
DTSTART:20261207T180000Z
URL:https://offbeat.amsterdam/event/artemas
GEO:52.3647777;4.881073026725959
LOCATION:Melkweg - Lijnbaansgracht 234A\, 1017 PH Amsterdam
STATUS:CONFIRMED
CATEGORIES:amsterdam-centrum,alternative,r&b,pop,leidseplein,concert
END:VEVENT
END:VCALENDAR
