BEGIN:VCALENDAR
VERSION:2.0
CALSCALE:GREGORIAN
PRODID:adamgibbons/ics
METHOD:PUBLISH
X-PUBLISHED-TTL:PT1H
BEGIN:VEVENT
UID:17736@offbeat.amsterdam
SUMMARY:WTF Queer Wednesday Fruitfilia Presents Nocturnal Diarrhea
DTSTAMP:20260419T223213Z
DTSTART:20260422T173000Z
DTEND:20260422T220000Z
URL:https://offbeat.amsterdam/event/wtf-queer-wednesday-42
GEO:52.3716913;4.8892221
LOCATION:Vrankrijk - Spuistraat 216\, 1012 VT Amsterdam
STATUS:CONFIRMED
CATEGORIES:live,music,performance,poetry,queer,social,spui,vegan,voku,amste
	rdam-centrum,benefit,food
END:VEVENT
BEGIN:VEVENT
UID:13872@offbeat.amsterdam
SUMMARY:Talma\, Lotterman en Dee
DTSTAMP:20260419T223213Z
DTSTART:20260423T180000Z
URL:https://offbeat.amsterdam/event/talma-lotterman-en-dee
GEO:52.374158;4.8726931
LOCATION:De Nieuwe Anita - Frederik Hendrikstraat 111\, 1052 HN Amsterdam
STATUS:CONFIRMED
CATEGORIES:food,live,amsterdam-west,music,poetry,westerpark
END:VEVENT
BEGIN:VEVENT
UID:19804@offbeat.amsterdam
SUMMARY:🎬 De Spelende Mens + nagesprek met filmmakers en Eric Duivenvoorden
DTSTAMP:20260419T223213Z
DTSTART:20260423T183000Z
URL:https://offbeat.amsterdam/event/de-spelende-mens-nagesprek-met-filmmake
	rs-en-eric-duivenvoorden
GEO:52.381974;4.8703107
LOCATION:Filmhuis Cavia - Van Hallstraat 52-1\, 1051 HH Amsterdam
STATUS:CONFIRMED
CATEGORIES:amsterdam-west,staatsliedenbuurt,poetry,music,film
END:VEVENT
BEGIN:VEVENT
UID:17812@offbeat.amsterdam
SUMMARY:RASA: Fado and Kathak Dance: An Emotional Journey Across Cultures b
	y Casa de Fado & Art Uncurated
DTSTAMP:20260419T223213Z
DTSTART:20260426T140000Z
URL:https://offbeat.amsterdam/event/rasa-fado-and-kathak-dance-an-emotional
	-journey-across-cultures-by-casa-de-fado-and-art-uncurated
GEO:52.354291;4.8540331
LOCATION:Teatro Munganga - Schinkelhavenstraat 27 HS\, 1075 VP Amsterdam
STATUS:CONFIRMED
CATEGORIES:dance,jazz,lecture,music,performance,poetry,schinkelbuurt,soul,s
	torytelling,amsterdam-zuid,classes,community,concert,festivals
END:VEVENT
BEGIN:VEVENT
UID:20347@offbeat.amsterdam
SUMMARY:K+PEREN – KONINGSNACHT ’26
DTSTAMP:20260419T223213Z
DTSTART:20260426T203000Z
URL:https://offbeat.amsterdam/event/kperen-koningsnacht-26
GEO:52.3651201;4.9359245
LOCATION:Studio K - Timorplein 62\, 1094 CC Amsterdam
STATUS:CONFIRMED
CATEGORIES:punk,rock,poetry,live,indische buurt,electronics,electroclash,am
	sterdam-oost
END:VEVENT
BEGIN:VEVENT
UID:18183@offbeat.amsterdam
SUMMARY:Queer Poetry Night
DTSTAMP:20260419T223213Z
DTSTART:20260428T170000Z
URL:https://offbeat.amsterdam/event/queer-poetry-night-7
GEO:52.376857;4.9220756
LOCATION:Pakhuis de Zwijger - Piet Heinkade 179\, 1019 HC Amsterdam
STATUS:CONFIRMED
CATEGORIES:workshop,amsterdam-centrum,community,eastern docklands,improv,mu
	sic,open mic,performance,poetry,queer,refugees,social,stories,storytelling
END:VEVENT
BEGIN:VEVENT
UID:19798@offbeat.amsterdam
SUMMARY:Astrid H. Roemer: over de gekte van een vrouw
DTSTAMP:20260419T223213Z
DTSTART:20260429T180000Z
URL:https://offbeat.amsterdam/event/astrid-h-roemer-over-de-gekte-van-een-v
	rouw
GEO:52.3630433;4.8828596
LOCATION:De Balie - Kleine-Gartmanplantsoen 10\, 1017 RR Amsterdam
STATUS:CONFIRMED
CATEGORIES:amsterdam-centrum,idee & verbeelding,leidseplein,poetry
END:VEVENT
BEGIN:VEVENT
UID:15179@offbeat.amsterdam
SUMMARY:HAJAJ
DTSTAMP:20260419T223213Z
DTSTART:20260429T183000Z
URL:https://offbeat.amsterdam/event/hajaj
GEO:52.3830883;4.9030297
LOCATION:Tolhuistuin - IJpromenade 2\, 1031 KT Amsterdam
STATUS:CONFIRMED
CATEGORIES:amsterdam-noord,poetry,music,buiksloterweg
END:VEVENT
BEGIN:VEVENT
UID:19914@offbeat.amsterdam
SUMMARY:Literanita
DTSTAMP:20260419T223213Z
DTSTART:20260430T183000Z
DTEND:20260430T210000Z
URL:https://offbeat.amsterdam/event/literanita-10
GEO:52.374158;4.8726931
LOCATION:De Nieuwe Anita - Frederik Hendrikstraat 111\, 1052 HN Amsterdam
STATUS:CONFIRMED
CATEGORIES:performance,music,food,amsterdam-west,westerpark,theater,poetry
END:VEVENT
BEGIN:VEVENT
UID:19888@offbeat.amsterdam
SUMMARY:FACE/LESS by DAR
DTSTAMP:20260419T223213Z
DTSTART:20260501T200000Z
DTEND:20260502T010000Z
URL:https://offbeat.amsterdam/event/faceless-by-dar
GEO:52.3601403;4.8656923
LOCATION:OT301 - Overtoom 301\, 1054 HW Amsterdam
STATUS:CONFIRMED
CATEGORIES:vondelparkbuurt,soul,post-club,funk,gabber,hardcore,high-bpm hyb
	rids,live,music,performance,poetry,deconstructed club,amsterdam-west,dubst
	ep,dj,electronics,dance,emo,experimental,experimental electronic,festivals
END:VEVENT
BEGIN:VEVENT
UID:20884@offbeat.amsterdam
SUMMARY:Vrijheid verweven
DTSTAMP:20260419T223213Z
DTSTART:20260505T090000Z
URL:https://offbeat.amsterdam/event/vrijheid-verweven
GEO:52.3685931;4.8896879
LOCATION:SPUI25 - Spui 25-27\, 1012 WX Amsterdam
STATUS:CONFIRMED
CATEGORIES:talk,workshop,stories,spui,poetry,amsterdam-centrum
END:VEVENT
BEGIN:VEVENT
UID:20888@offbeat.amsterdam
SUMMARY:Woven freedom
DTSTAMP:20260419T223213Z
DTSTART:20260505T090000Z
DTEND:20260505T140000Z
URL:https://offbeat.amsterdam/event/woven-freedom
GEO:52.3690637;4.894763
LOCATION:VOX-POP - Binnengasthuisstraat 9\, 1012 ZA Amsterdam
STATUS:CONFIRMED
CATEGORIES:workshop,talk,stories,soul,poetry,exhibition,burgwallen,amsterda
	m-centrum
END:VEVENT
BEGIN:VEVENT
UID:20435@offbeat.amsterdam
SUMMARY:Tafel van Oost
DTSTAMP:20260419T223213Z
DTSTART:20260505T130000Z
DTEND:20260505T190000Z
URL:https://offbeat.amsterdam/event/tafel-van-oost
GEO:52.3608907;4.9138063
LOCATION:Plein Theater - Sajetplein 39\, 1091 DB Amsterdam
STATUS:CONFIRMED
CATEGORIES:workshop,theater,poetry,performance,oosterparkbuurt,music,market
	,festivals,amsterdam-oost
END:VEVENT
BEGIN:VEVENT
UID:20091@offbeat.amsterdam
SUMMARY:European Literature Night: Transformation
DTSTAMP:20260419T223213Z
DTSTART:20260509T173000Z
URL:https://offbeat.amsterdam/event/european-literature-night-transformatio
	n
GEO:52.3630433;4.8828596
LOCATION:De Balie - Kleine-Gartmanplantsoen 10\, 1017 RR Amsterdam
STATUS:CONFIRMED
CATEGORIES:refugees,stories,theater,amsterdam-centrum,books,idee & verbeeld
	ing,leidseplein,poetry
END:VEVENT
BEGIN:VEVENT
UID:15447@offbeat.amsterdam
SUMMARY:GenZ Voice Recitals: The Female Voice / Corde e canto / Songs witho
	ut Shores
DTSTAMP:20260419T223213Z
DTSTART:20260509T180000Z
URL:https://offbeat.amsterdam/event/genz-voice-recitals-the-female-voice-co
	rde-e-canto-songs-without-shores
GEO:52.3699078;4.9032848
LOCATION:Splendor - Nieuwe Uilenburgerstraat 116\, 1011 LX Amsterdam
STATUS:CONFIRMED
CATEGORIES:improv,stories,poetry,orchestra,opening,nieuwmarkt/lastage,music
	,amsterdam-centrum,gender,jazz
END:VEVENT
BEGIN:VEVENT
UID:20184@offbeat.amsterdam
SUMMARY:OCCII POËZIE @ WILLEM DE ZWIJGERKERK w/ Vlada Darenkova + Nora Muld
	er + Sjeng Scheijen + Walter Bart + Han van der Vegt + Tsead Bruinja + ZEA
	 + Harald Austbø + Mischa Andriessen
DTSTAMP:20260419T223213Z
DTSTART:20260510T180000Z
URL:https://offbeat.amsterdam/event/occii-poezie-willem-de-zwijgerkerk-with
	-vlada-darenkova-nora-mulder-sjeng-scheijen-walter-bart-han-van-der-vegt-t
	sead-bruinja-zea-harald-austbo-mischa-andriessen
GEO:52.354338;4.8553367
LOCATION:OCCII - Amstelveenseweg 134\, 1075 XL Amsterdam
STATUS:CONFIRMED
CATEGORIES:amsterdam-zuid,schinkelbuurt,poetry,olympiaweg 14],occii poetry 
	[on tour @ willem de zwijgerkerk
END:VEVENT
BEGIN:VEVENT
UID:20882@offbeat.amsterdam
SUMMARY:Afwezig in de kunsten
DTSTAMP:20260419T223213Z
DTSTART:20260513T180000Z
URL:https://offbeat.amsterdam/event/afwezig-in-de-kunsten
GEO:52.3685931;4.8896879
LOCATION:SPUI25 - Spui 25-27\, 1012 WX Amsterdam
STATUS:CONFIRMED
CATEGORIES:poetry,spui,amsterdam-centrum
END:VEVENT
BEGIN:VEVENT
UID:20957@offbeat.amsterdam
SUMMARY:In the Mouth of the Room
DTSTAMP:20260419T223213Z
DTSTART:20260515T180000Z
DTEND:20260515T191500Z
URL:https://offbeat.amsterdam/event/in-the-mouth-of-the-room
GEO:52.3608907;4.9138063
LOCATION:Plein Theater - Sajetplein 39\, 1091 DB Amsterdam
STATUS:CONFIRMED
CATEGORIES:queer,amsterdam-oost,documentary,electronics,literature,live,mus
	ic,oosterparkbuurt,performance,poetry,theater,reading
END:VEVENT
BEGIN:VEVENT
UID:20501@offbeat.amsterdam
SUMMARY:DRIFT Philosophy Festival // Between Dream and Deed
DTSTAMP:20260419T223213Z
DTSTART:20260516T170000Z
DTEND:20260517T010000Z
URL:https://offbeat.amsterdam/event/drift-philosophy-festival-between-dream
	-and-deed
GEO:52.3930912;4.9096685
LOCATION:De Ceuvel - Korte Papaverweg 2\, 1032 KB Amsterdam
STATUS:CONFIRMED
CATEGORIES:books,amsterdam-noord,poetry,gender,performance,festivals,democr
	acy,buiksloterham
END:VEVENT
BEGIN:VEVENT
UID:20498@offbeat.amsterdam
SUMMARY:Voorleesmiddag: Mir en de Muusjes (+4)
DTSTAMP:20260419T223213Z
DTSTART:20260517T110000Z
URL:https://offbeat.amsterdam/event/voorleesmiddag-mir-en-de-muusjes-4
GEO:52.3697802;4.8715839
LOCATION:De Nieuwe Liefde - Da Costakade 102\, 1053 WP Amsterdam
STATUS:CONFIRMED
CATEGORIES:oud-west,amsterdam-west,slam,poetry,de-baarsjes
END:VEVENT
BEGIN:VEVENT
UID:20791@offbeat.amsterdam
SUMMARY:Echa Kuenta: A Small Place
DTSTAMP:20260419T223213Z
DTSTART:20260517T140000Z
URL:https://offbeat.amsterdam/event/echa-kuenta-a-small-place
GEO:52.3697802;4.8715839
LOCATION:De Nieuwe Liefde - Da Costakade 102\, 1053 WP Amsterdam
STATUS:CONFIRMED
CATEGORIES:community,amsterdam-west,afro,music,oud-west,poetry,reggae,theat
	er,jazz,festivals,de-baarsjes
END:VEVENT
BEGIN:VEVENT
UID:20918@offbeat.amsterdam
SUMMARY:Splendor Muziek Talkshow: Het Paloma Project
DTSTAMP:20260419T223213Z
DTSTART:20260518T181500Z
URL:https://offbeat.amsterdam/event/splendor-muziek-talkshow-het-paloma-pro
	ject
GEO:52.3699078;4.9032848
LOCATION:Splendor - Nieuwe Uilenburgerstraat 116\, 1011 LX Amsterdam
STATUS:CONFIRMED
CATEGORIES:concert,music,piano,nieuwmarkt/lastage,poetry,amsterdam-centrum
END:VEVENT
BEGIN:VEVENT
UID:18184@offbeat.amsterdam
SUMMARY:Queer Poetry Night
DTSTAMP:20260419T223213Z
DTSTART:20260526T170000Z
URL:https://offbeat.amsterdam/event/queer-poetry-night-8
GEO:52.376857;4.9220756
LOCATION:Pakhuis de Zwijger - Piet Heinkade 179\, 1019 HC Amsterdam
STATUS:CONFIRMED
CATEGORIES:social,refugees,queer,poetry,performance,open mic,music,communit
	y,amsterdam-centrum,eastern docklands,workshop,improv,storytelling,stories
END:VEVENT
BEGIN:VEVENT
UID:20806@offbeat.amsterdam
SUMMARY:fiber festival at murmur // trois-quarts taxi system (live) & xenia
	 reaper (live)
DTSTAMP:20260419T223213Z
DTSTART:20260528T160000Z
URL:https://offbeat.amsterdam/event/fiber-festival-at-murmur-trois-quarts-t
	axi-system-live-and-xenia-reaper-live
GEO:52.3854298;4.9279805
LOCATION:murmur - Aambeeldstraat 60\, 1021 KB Amsterdam
STATUS:CONFIRMED
CATEGORIES:hamerkwartier,amsterdam-noord,dj,dnb,experimental,festivals,live
	,music,opening,poetry,techno
END:VEVENT
BEGIN:VEVENT
UID:20854@offbeat.amsterdam
SUMMARY:Images In Action
DTSTAMP:20260419T223213Z
DTSTART:20260528T173000Z
URL:https://offbeat.amsterdam/event/images-in-action
GEO:52.3699902;4.884254
LOCATION:Felix Meritis - Keizersgracht 324\, 1016 EZ Amsterdam
STATUS:CONFIRMED
CATEGORIES:queer,amsterdam-centrum,classes,documentary,festivals,film,hip-h
	op,keizersgracht,poetry
END:VEVENT
BEGIN:VEVENT
UID:19915@offbeat.amsterdam
SUMMARY:Literanita
DTSTAMP:20260419T223213Z
DTSTART:20260528T183000Z
DTEND:20260528T210000Z
URL:https://offbeat.amsterdam/event/literanita-11
GEO:52.374158;4.8726931
LOCATION:De Nieuwe Anita - Frederik Hendrikstraat 111\, 1052 HN Amsterdam
STATUS:CONFIRMED
CATEGORIES:performance,westerpark,theater,poetry,music,food,amsterdam-west
END:VEVENT
BEGIN:VEVENT
UID:20300@offbeat.amsterdam
SUMMARY:Explodium Outdoors
DTSTAMP:20260419T223213Z
DTSTART:20260530T140000Z
URL:https://offbeat.amsterdam/event/explodium-outdoors
GEO:52.3830883;4.9030297
LOCATION:Tolhuistuin - IJpromenade 2\, 1031 KT Amsterdam
STATUS:CONFIRMED
CATEGORIES:buiksloterweg,community,dance,documentary,stories,talk,theater,f
	estivals,feminism,performance,poetry,amsterdam-noord,music
END:VEVENT
BEGIN:VEVENT
UID:20422@offbeat.amsterdam
SUMMARY:ROEKOE! Een literaire verkenning van de duif als stadgenoot
DTSTAMP:20260419T223213Z
DTSTART:20260603T173000Z
URL:https://offbeat.amsterdam/event/roekoe-een-literaire-verkenning-van-de-
	duif-als-stadgenoot
GEO:52.3830883;4.9030297
LOCATION:Tolhuistuin - IJpromenade 2\, 1031 KT Amsterdam
STATUS:CONFIRMED
CATEGORIES:amsterdam-noord,poetry,buiksloterweg
END:VEVENT
BEGIN:VEVENT
UID:19762@offbeat.amsterdam
SUMMARY:Fade Out
DTSTAMP:20260419T223213Z
DTSTART:20260604T180000Z
DTEND:20260604T190000Z
URL:https://offbeat.amsterdam/event/fade-out
GEO:52.3608907;4.9138063
LOCATION:Plein Theater - Sajetplein 39\, 1091 DB Amsterdam
STATUS:CONFIRMED
CATEGORIES:oosterparkbuurt,theater,poetry,festivals,dance performance,dance
	,amsterdam-oost
END:VEVENT
BEGIN:VEVENT
UID:18770@offbeat.amsterdam
SUMMARY:La Bande-son Imaginaire | + special guest
DTSTAMP:20260419T223213Z
DTSTART:20260605T180000Z
URL:https://offbeat.amsterdam/event/la-bande-son-imaginaire-or-special-gues
	t
GEO:52.3528265;4.906568
LOCATION:Cinetol - Tolstraat 182\, 1074 VM Amsterdam
STATUS:CONFIRMED
CATEGORIES:theater,amsterdam-zuid,dance,elektronisch,de pijp,film,music,poe
	try,wave
END:VEVENT
BEGIN:VEVENT
UID:20683@offbeat.amsterdam
SUMMARY:Arti Bookclub #4 | Dorien de Wit
DTSTAMP:20260419T223213Z
DTSTART:20260607T123000Z
DTEND:20260607T140000Z
URL:https://offbeat.amsterdam/event/arti-bookclub-4-or-dorien-de-wit
GEO:52.3688806;4.891799
LOCATION:Arti et Amicitiae - Rokin 112\, 1012 LB Amsterdam
STATUS:CONFIRMED
CATEGORIES:amsterdam-centrum,stories,rokin,poetry,books,live
END:VEVENT
BEGIN:VEVENT
UID:19163@offbeat.amsterdam
SUMMARY:Dolf Jansen – Oudejaars 2026
DTSTAMP:20260419T223213Z
DTSTART:20260609T180000Z
URL:https://offbeat.amsterdam/event/dolf-janssen-oudejaars-2026
GEO:52.3711125;4.8900771
LOCATION:Theater de Richel - Nieuwezijds Voorburgwal 282\, 1012 RT Amsterda
	m
STATUS:CONFIRMED
CATEGORIES:poetry,theater,amsterdam-centrum,cabaret,spui
END:VEVENT
BEGIN:VEVENT
UID:19663@offbeat.amsterdam
SUMMARY:Artist to Artist: Ali Chahrour
DTSTAMP:20260419T223213Z
DTSTART:20260613T133000Z
URL:https://offbeat.amsterdam/event/artist-to-artist-ali-chahrour
GEO:52.3699902;4.884254
LOCATION:Felix Meritis - Keizersgracht 324\, 1016 EZ Amsterdam
STATUS:CONFIRMED
CATEGORIES:festivals,poetry,music,keizersgracht,amsterdam-centrum
END:VEVENT
BEGIN:VEVENT
UID:18185@offbeat.amsterdam
SUMMARY:Queer Poetry Night
DTSTAMP:20260419T223213Z
DTSTART:20260623T170000Z
URL:https://offbeat.amsterdam/event/queer-poetry-night-9
GEO:52.376857;4.9220756
LOCATION:Pakhuis de Zwijger - Piet Heinkade 179\, 1019 HC Amsterdam
STATUS:CONFIRMED
CATEGORIES:social,refugees,queer,poetry,performance,open mic,music,improv,e
	astern docklands,community,amsterdam-centrum,workshop,storytelling,stories
END:VEVENT
BEGIN:VEVENT
UID:19786@offbeat.amsterdam
SUMMARY:Het Zomerfestival van de Troost
DTSTAMP:20260419T223213Z
DTSTART:20260624T180000Z
URL:https://offbeat.amsterdam/event/het-zomerfestival-van-de-troost
GEO:52.3711125;4.8900771
LOCATION:Theater de Richel - Nieuwezijds Voorburgwal 282\, 1012 RT Amsterda
	m
STATUS:CONFIRMED
CATEGORIES:spui,poezie,kleinkunst,music,muziek,poetry,festivals,cabaret,ams
	terdam-centrum,theater
END:VEVENT
BEGIN:VEVENT
UID:20627@offbeat.amsterdam
SUMMARY:Amanecer contigo by Duo Estér y Alain
DTSTAMP:20260419T223213Z
DTSTART:20260625T180000Z
URL:https://offbeat.amsterdam/event/amanecer-contigo-by-duo-ester-y-alain
GEO:52.354291;4.8540331
LOCATION:Teatro Munganga - Schinkelhavenstraat 27 HS\, 1075 VP Amsterdam
STATUS:CONFIRMED
CATEGORIES:blues,gospel,music,poetry,rock,schinkelbuurt,amsterdam-zuid
END:VEVENT
BEGIN:VEVENT
UID:19916@offbeat.amsterdam
SUMMARY:Literanita
DTSTAMP:20260419T223213Z
DTSTART:20260625T183000Z
DTEND:20260625T210000Z
URL:https://offbeat.amsterdam/event/literanita-12
GEO:52.374158;4.8726931
LOCATION:De Nieuwe Anita - Frederik Hendrikstraat 111\, 1052 HN Amsterdam
STATUS:CONFIRMED
CATEGORIES:theater,westerpark,amsterdam-west,food,performance,music,poetry
END:VEVENT
BEGIN:VEVENT
UID:20904@offbeat.amsterdam
SUMMARY:Girls to the Front
DTSTAMP:20260419T223213Z
DTSTART:20260626T183000Z
URL:https://offbeat.amsterdam/event/girls-to-the-front
GEO:52.36215535;4.883782439016489
LOCATION:Paradiso - Weteringschans 6\, 1017 SG Amsterdam
STATUS:CONFIRMED
CATEGORIES:vinyl,talk,punk,leidseplein,film,experimental,dj,community,amste
	rdam-centrum,poetry,music
END:VEVENT
BEGIN:VEVENT
UID:20952@offbeat.amsterdam
SUMMARY:Nikki Szofia
DTSTAMP:20260419T223213Z
DTSTART:20260905T173000Z
URL:https://offbeat.amsterdam/event/nikki-szofia
GEO:52.3528265;4.906568
LOCATION:Cinetol - Tolstraat 182\, 1074 VM Amsterdam
STATUS:CONFIRMED
CATEGORIES:music,poetry,amsterdam-zuid,indie,folk,de pijp
END:VEVENT
END:VCALENDAR
