BEGIN:VCALENDAR
VERSION:2.0
CALSCALE:GREGORIAN
PRODID:adamgibbons/ics
METHOD:PUBLISH
X-PUBLISHED-TTL:PT1H
BEGIN:VEVENT
UID:14020@offbeat.amsterdam
SUMMARY:Ben Caplan
DTSTAMP:20260420T054028Z
DTSTART:20260423T173000Z
URL:https://offbeat.amsterdam/event/ben-caplan
GEO:52.3647777;4.881073026725959
LOCATION:Melkweg - Lijnbaansgracht 234A\, 1017 PH Amsterdam
STATUS:CONFIRMED
CATEGORIES:amsterdam-centrum,concert,folk,leidseplein,poetic
END:VEVENT
END:VCALENDAR
