BEGIN:VCALENDAR
VERSION:2.0
CALSCALE:GREGORIAN
PRODID:adamgibbons/ics
METHOD:PUBLISH
X-PUBLISHED-TTL:PT1H
BEGIN:VEVENT
UID:19768@offbeat.amsterdam
SUMMARY:Elisabeth Harnik comes to Town!
DTSTAMP:20260419T223213Z
DTSTART:20260420T180000Z
URL:https://offbeat.amsterdam/event/elisabeth-harnik-comes-to-town
GEO:52.3699078;4.9032848
LOCATION:Splendor - Nieuwe Uilenburgerstraat 116\, 1011 LX Amsterdam
STATUS:CONFIRMED
CATEGORIES:performance,piano,amsterdam-centrum,concert,electronics,music,ni
	euwmarkt/lastage
END:VEVENT
BEGIN:VEVENT
UID:20713@offbeat.amsterdam
SUMMARY:SubWaves #19
DTSTAMP:20260419T223213Z
DTSTART:20260421T180000Z
DTEND:20260421T210000Z
URL:https://offbeat.amsterdam/event/subwaves-19
GEO:52.3601403;4.8656923
LOCATION:OT301 - Overtoom 301\, 1054 HW Amsterdam
STATUS:CONFIRMED
CATEGORIES:film,concert,blues,amsterdam-west,performance,piano,vondelparkbu
	urt,opening,improv
END:VEVENT
BEGIN:VEVENT
UID:19063@offbeat.amsterdam
SUMMARY:Witte Gei’t? met LLouise\, LifeLoan\, Sven Ross en Levi Boon
DTSTAMP:20260419T223213Z
DTSTART:20260421T183000Z
DTEND:20260421T210000Z
URL:https://offbeat.amsterdam/event/witte-geit-timm-knipt-6
GEO:52.374158;4.8726931
LOCATION:De Nieuwe Anita - Frederik Hendrikstraat 111\, 1052 HN Amsterdam
STATUS:CONFIRMED
CATEGORIES:music,piano,westerpark,acoustic act,amsterdam-west,community,foo
	d,indie
END:VEVENT
BEGIN:VEVENT
UID:18940@offbeat.amsterdam
SUMMARY:PARLOUR Presents... Signe Dø and Anna Soleil
DTSTAMP:20260419T223213Z
DTSTART:20260425T170000Z
DTEND:20260425T203000Z
URL:https://offbeat.amsterdam/event/parlour-presents-signe-do-and-anna-sole
	il
GEO:52.3504671;4.8912837
LOCATION:Parlour - Cornelis Troostplein 23\, 1072 JJ Amsterdam
STATUS:CONFIRMED
CATEGORIES:pride,theater,amsterdam-zuid,concert,de pijp,electronics,festiva
	ls,live,music,performance,piano,stories
END:VEVENT
BEGIN:VEVENT
UID:20207@offbeat.amsterdam
SUMMARY:TryTone presenteert TONE SERIES
DTSTAMP:20260419T223213Z
DTSTART:20260426T180000Z
URL:https://offbeat.amsterdam/event/trytone-presenteert-tone-series-12
GEO:52.3830202;4.8780599
LOCATION:Zaal 100 - De Wittenstraat 100\, 1052 BA Amsterdam
STATUS:CONFIRMED
CATEGORIES:amsterdam-west,concert,piano,staatsliedenbuurt
END:VEVENT
BEGIN:VEVENT
UID:18600@offbeat.amsterdam
SUMMARY:Stijn de Groot
DTSTAMP:20260419T223213Z
DTSTART:20260428T180000Z
URL:https://offbeat.amsterdam/event/stijn-de-groot
GEO:52.3711125;4.8900771
LOCATION:Theater de Richel - Nieuwezijds Voorburgwal 282\, 1012 RT Amsterda
	m
STATUS:CONFIRMED
CATEGORIES:piano,singer-songwriter,spui,amsterdam-centrum,music,muziek
END:VEVENT
BEGIN:VEVENT
UID:20145@offbeat.amsterdam
SUMMARY:Jazzcafé All Ellington!
DTSTAMP:20260419T223213Z
DTSTART:20260428T190000Z
URL:https://offbeat.amsterdam/event/jazzcafe-all-ellington
GEO:52.3830202;4.8780599
LOCATION:Zaal 100 - De Wittenstraat 100\, 1052 BA Amsterdam
STATUS:CONFIRMED
CATEGORIES:music,staatsliedenbuurt,amsterdam-west,piano
END:VEVENT
BEGIN:VEVENT
UID:20223@offbeat.amsterdam
SUMMARY:Jazz on Wednesday: Olivier Frere Group
DTSTAMP:20260419T223213Z
DTSTART:20260429T170000Z
DTEND:20260429T200000Z
URL:https://offbeat.amsterdam/event/jazz-on-wednesday-olivier-frere-group
GEO:52.3691458;4.8950558
LOCATION:Contra - Oudezijds Achterburgwal 235\, 1012 DL Amsterdam
STATUS:CONFIRMED
CATEGORIES:music,live,amsterdam-centrum,jazz,burgwallen,soul,piano,performa
	nce
END:VEVENT
BEGIN:VEVENT
UID:18528@offbeat.amsterdam
SUMMARY:Mike del Ferro meets Jambo Trio (Brazil)
DTSTAMP:20260419T223213Z
DTSTART:20260501T183000Z
URL:https://offbeat.amsterdam/event/mike-del-ferro-meets-jambo-trio-brazil
GEO:52.3699078;4.9032848
LOCATION:Splendor - Nieuwe Uilenburgerstraat 116\, 1011 LX Amsterdam
STATUS:CONFIRMED
CATEGORIES:concert,amsterdam-centrum,nieuwmarkt/lastage,piano
END:VEVENT
BEGIN:VEVENT
UID:20495@offbeat.amsterdam
SUMMARY:LOOT
DTSTAMP:20260419T223213Z
DTSTART:20260501T183000Z
DTEND:20260501T210000Z
URL:https://offbeat.amsterdam/event/loot
GEO:52.3688806;4.891799
LOCATION:Arti et Amicitiae - Rokin 112\, 1012 LB Amsterdam
STATUS:CONFIRMED
CATEGORIES:improv,jazz,music,piano,rokin,amsterdam-centrum
END:VEVENT
BEGIN:VEVENT
UID:17444@offbeat.amsterdam
SUMMARY:Amsterdams Allooi – In Gelul kun je niet wonen
DTSTAMP:20260419T223213Z
DTSTART:20260502T180000Z
URL:https://offbeat.amsterdam/event/amsterdams-allooi-in-gelul-kun-je-niet-
	wonen
GEO:52.3711125;4.8900771
LOCATION:Theater de Richel - Nieuwezijds Voorburgwal 282\, 1012 RT Amsterda
	m
STATUS:CONFIRMED
CATEGORIES:cabaret,amsterdam-centrum,spui,piano
END:VEVENT
BEGIN:VEVENT
UID:18545@offbeat.amsterdam
SUMMARY:Mike del Ferro meets Jambo Trio (Brazil)
DTSTAMP:20260419T223213Z
DTSTART:20260502T183000Z
URL:https://offbeat.amsterdam/event/mike-del-ferro-meets-jambo-trio-brazil-
	1
GEO:52.3699078;4.9032848
LOCATION:Splendor - Nieuwe Uilenburgerstraat 116\, 1011 LX Amsterdam
STATUS:CONFIRMED
CATEGORIES:nieuwmarkt/lastage,piano,concert,amsterdam-centrum
END:VEVENT
BEGIN:VEVENT
UID:18617@offbeat.amsterdam
SUMMARY:Schumanns Dichterliebe en Liederkreis
DTSTAMP:20260419T223213Z
DTSTART:20260503T130000Z
URL:https://offbeat.amsterdam/event/schumanns-dichterliebe-en-liederkreis
GEO:52.3699078;4.9032848
LOCATION:Splendor - Nieuwe Uilenburgerstraat 116\, 1011 LX Amsterdam
STATUS:CONFIRMED
CATEGORIES:music,lecture,piano,amsterdam-centrum,nieuwmarkt/lastage,concert
END:VEVENT
BEGIN:VEVENT
UID:18821@offbeat.amsterdam
SUMMARY:Freedom Meal
DTSTAMP:20260419T223213Z
DTSTART:20260505T103000Z
DTEND:20260505T123000Z
URL:https://offbeat.amsterdam/event/freedom-meal
GEO:52.3688806;4.891799
LOCATION:Arti et Amicitiae - Rokin 112\, 1012 LB Amsterdam
STATUS:CONFIRMED
CATEGORIES:amsterdam-centrum,music,piano,rokin,stories,exhibition
END:VEVENT
BEGIN:VEVENT
UID:20291@offbeat.amsterdam
SUMMARY:FREEDOM
DTSTAMP:20260419T223213Z
DTSTART:20260505T170000Z
URL:https://offbeat.amsterdam/event/freedom-1
GEO:52.3699078;4.9032848
LOCATION:Splendor - Nieuwe Uilenburgerstraat 116\, 1011 LX Amsterdam
STATUS:CONFIRMED
CATEGORIES:nieuwmarkt/lastage,meditation,food,concert,amsterdam-centrum,sou
	l,piano,opening,music
END:VEVENT
BEGIN:VEVENT
UID:20947@offbeat.amsterdam
SUMMARY:Songcycle for a Sad Clown
DTSTAMP:20260419T223213Z
DTSTART:20260506T183000Z
URL:https://offbeat.amsterdam/event/songcycle-for-a-sad-clown
GEO:52.3699078;4.9032848
LOCATION:Splendor - Nieuwe Uilenburgerstraat 116\, 1011 LX Amsterdam
STATUS:CONFIRMED
CATEGORIES:theater,piano,performance,experimental,nieuwmarkt/lastage,music,
	festivals,alternative,amsterdam-centrum,cabaret,concert
END:VEVENT
BEGIN:VEVENT
UID:20628@offbeat.amsterdam
SUMMARY:I Am The Joker by Fee Aaij 4tet
DTSTAMP:20260419T223213Z
DTSTART:20260507T180000Z
URL:https://offbeat.amsterdam/event/i-am-the-joker-by-fee-aaij-4tet
GEO:52.354291;4.8540331
LOCATION:Teatro Munganga - Schinkelhavenstraat 27 HS\, 1075 VP Amsterdam
STATUS:CONFIRMED
CATEGORIES:piano,theater,schinkelbuurt,punk,orchestra,music,live,jazz,amste
	rdam-zuid
END:VEVENT
BEGIN:VEVENT
UID:20948@offbeat.amsterdam
SUMMARY:Songcycle for a Sad Clown
DTSTAMP:20260419T223213Z
DTSTART:20260507T183000Z
URL:https://offbeat.amsterdam/event/songcycle-for-a-sad-clown-1
GEO:52.3699078;4.9032848
LOCATION:Splendor - Nieuwe Uilenburgerstraat 116\, 1011 LX Amsterdam
STATUS:CONFIRMED
CATEGORIES:amsterdam-centrum,theater,piano,performance,cabaret,alternative,
	music,nieuwmarkt/lastage,festivals,experimental,concert
END:VEVENT
BEGIN:VEVENT
UID:20719@offbeat.amsterdam
SUMMARY:Gafieira Social Club by Cabaret Brasil
DTSTAMP:20260419T223213Z
DTSTART:20260508T180000Z
URL:https://offbeat.amsterdam/event/gafieira-social-club-by-cabaret-brasil-
	8
GEO:52.354291;4.8540331
LOCATION:Teatro Munganga - Schinkelhavenstraat 27 HS\, 1075 VP Amsterdam
STATUS:CONFIRMED
CATEGORIES:schinkelbuurt,dance,piano,amsterdam-zuid,cabaret
END:VEVENT
BEGIN:VEVENT
UID:17442@offbeat.amsterdam
SUMMARY:Mountaineer + The Amelie Spinks trio + DJ Barry Stiletto
DTSTAMP:20260419T223213Z
DTSTART:20260508T190000Z
DTEND:20260508T230000Z
URL:https://offbeat.amsterdam/event/mountaineer
GEO:52.374158;4.8726931
LOCATION:De Nieuwe Anita - Frederik Hendrikstraat 111\, 1052 HN Amsterdam
STATUS:CONFIRMED
CATEGORIES:music,westerpark,piano,live,jazz,indie,dj,amsterdam-west
END:VEVENT
BEGIN:VEVENT
UID:18349@offbeat.amsterdam
SUMMARY:Club Duif ft NAUSYQA – ZAZOU een jazzy punkverhaal over jong zijn i
	n een turbulente tijd
DTSTAMP:20260419T223213Z
DTSTART:20260509T173000Z
URL:https://offbeat.amsterdam/event/club-duif-ft-nausyqa-zazou-een-jazzy-pu
	nkverhaal-over-jong-zijn-in-een-turbulente-tijd
GEO:52.3711125;4.8900771
LOCATION:Theater de Richel - Nieuwezijds Voorburgwal 282\, 1012 RT Amsterda
	m
STATUS:CONFIRMED
CATEGORIES:post-rock,punk,rock,spui,amsterdam-centrum,indie,jazz,music,muzi
	ek,piano,theater
END:VEVENT
BEGIN:VEVENT
UID:19009@offbeat.amsterdam
SUMMARY:Frederic Voorn Plays! From Scarlatti to Original Compositions
DTSTAMP:20260419T223213Z
DTSTART:20260510T130000Z
DTEND:20260510T150000Z
URL:https://offbeat.amsterdam/event/frederic-voorn-plays-from-scarlatti-to-
	original-compositions
GEO:52.3688806;4.891799
LOCATION:Arti et Amicitiae - Rokin 112\, 1012 LB Amsterdam
STATUS:CONFIRMED
CATEGORIES:orchestra,music,concert,amsterdam-centrum,rokin,piano
END:VEVENT
BEGIN:VEVENT
UID:10022@offbeat.amsterdam
SUMMARY:Ledenconcert Antonii Baryshevskyi
DTSTAMP:20260419T223213Z
DTSTART:20260510T150000Z
URL:https://offbeat.amsterdam/event/ledenconcert-antonii-baryshevskyi
GEO:52.3699078;4.9032848
LOCATION:Splendor - Nieuwe Uilenburgerstraat 116\, 1011 LX Amsterdam
STATUS:CONFIRMED
CATEGORIES:amsterdam-centrum,concert,music,nieuwmarkt/lastage,piano
END:VEVENT
BEGIN:VEVENT
UID:15456@offbeat.amsterdam
SUMMARY:The MezJam
DTSTAMP:20260419T223213Z
DTSTART:20260510T180000Z
DTEND:20260510T203000Z
URL:https://offbeat.amsterdam/event/the-mezjam-14
GEO:52.3759775;4.9275458
LOCATION:Mezrab - Veemkade 576\, 1019 BL Amsterdam
STATUS:CONFIRMED
CATEGORIES:piano,amsterdam-oost,eastern docklands,music
END:VEVENT
BEGIN:VEVENT
UID:20778@offbeat.amsterdam
SUMMARY:Jeong Lim Yang's Synchronicity
DTSTAMP:20260419T223213Z
DTSTART:20260511T181500Z
URL:https://offbeat.amsterdam/event/jeong-lim-yangs-synchronicity
GEO:52.3699078;4.9032848
LOCATION:Splendor - Nieuwe Uilenburgerstraat 116\, 1011 LX Amsterdam
STATUS:CONFIRMED
CATEGORIES:amsterdam-centrum,improv,jazz,nieuwmarkt/lastage,piano,music
END:VEVENT
BEGIN:VEVENT
UID:18442@offbeat.amsterdam
SUMMARY:Else Lena – Verlangen en Verliezen
DTSTAMP:20260419T223213Z
DTSTART:20260514T180000Z
URL:https://offbeat.amsterdam/event/else-lena-verlangen-en-verliezen
GEO:52.3711125;4.8900771
LOCATION:Theater de Richel - Nieuwezijds Voorburgwal 282\, 1012 RT Amsterda
	m
STATUS:CONFIRMED
CATEGORIES:amsterdam-centrum,live,muziek,piano,pop,spui,kleinkunst
END:VEVENT
BEGIN:VEVENT
UID:20382@offbeat.amsterdam
SUMMARY:TROUPIRILAMP Family show
DTSTAMP:20260419T223213Z
DTSTART:20260517T090000Z
URL:https://offbeat.amsterdam/event/troupirilamp-family-show
GEO:52.354291;4.8540331
LOCATION:Teatro Munganga - Schinkelhavenstraat 27 HS\, 1075 VP Amsterdam
STATUS:CONFIRMED
CATEGORIES:schinkelbuurt,amsterdam-zuid,piano
END:VEVENT
BEGIN:VEVENT
UID:20918@offbeat.amsterdam
SUMMARY:Splendor Muziek Talkshow: Het Paloma Project
DTSTAMP:20260419T223213Z
DTSTART:20260518T181500Z
URL:https://offbeat.amsterdam/event/splendor-muziek-talkshow-het-paloma-pro
	ject
GEO:52.3699078;4.9032848
LOCATION:Splendor - Nieuwe Uilenburgerstraat 116\, 1011 LX Amsterdam
STATUS:CONFIRMED
CATEGORIES:amsterdam-centrum,piano,poetry,concert,music,nieuwmarkt/lastage
END:VEVENT
BEGIN:VEVENT
UID:19922@offbeat.amsterdam
SUMMARY:Witte Gei’t? met Nina Sampermans + Liberty Corbett + Līva Dumpe
DTSTAMP:20260419T223213Z
DTSTART:20260519T180000Z
DTEND:20260519T210000Z
URL:https://offbeat.amsterdam/event/witte-geit-timm-knipt-7
GEO:52.374158;4.8726931
LOCATION:De Nieuwe Anita - Frederik Hendrikstraat 111\, 1052 HN Amsterdam
STATUS:CONFIRMED
CATEGORIES:acoustic act,jazz,improv,food,westerpark,stories,piano,music,ams
	terdam-west
END:VEVENT
BEGIN:VEVENT
UID:20384@offbeat.amsterdam
SUMMARY:Bartolomeo Fortino-Shields
DTSTAMP:20260419T223213Z
DTSTART:20260521T180000Z
URL:https://offbeat.amsterdam/event/bartolomeo-fortino-shields
GEO:52.3699078;4.9032848
LOCATION:Splendor - Nieuwe Uilenburgerstraat 116\, 1011 LX Amsterdam
STATUS:CONFIRMED
CATEGORIES:festivals,amsterdam-centrum,classes,music,nieuwmarkt/lastage,orc
	hestra,performance,piano
END:VEVENT
BEGIN:VEVENT
UID:20560@offbeat.amsterdam
SUMMARY:Nuala McKenna & Antonii Baryshevskyi
DTSTAMP:20260419T223213Z
DTSTART:20260522T180000Z
URL:https://offbeat.amsterdam/event/nuala-mckenna-and-antonii-baryshevskyi
GEO:52.3699078;4.9032848
LOCATION:Splendor - Nieuwe Uilenburgerstraat 116\, 1011 LX Amsterdam
STATUS:CONFIRMED
CATEGORIES:amsterdam-centrum,piano,nieuwmarkt/lastage
END:VEVENT
BEGIN:VEVENT
UID:20340@offbeat.amsterdam
SUMMARY:Koen Visser & Roman Willems
DTSTAMP:20260419T223213Z
DTSTART:20260524T180000Z
URL:https://offbeat.amsterdam/event/koen-visser-and-roman-willems
GEO:52.3699078;4.9032848
LOCATION:Splendor - Nieuwe Uilenburgerstraat 116\, 1011 LX Amsterdam
STATUS:CONFIRMED
CATEGORIES:concert,amsterdam-centrum,piano,nieuwmarkt/lastage,music,improv,
	electronics
END:VEVENT
BEGIN:VEVENT
UID:20562@offbeat.amsterdam
SUMMARY:True Love Song Cycle
DTSTAMP:20260419T223213Z
DTSTART:20260529T181500Z
URL:https://offbeat.amsterdam/event/true-love-song-cycle
GEO:52.3699078;4.9032848
LOCATION:Splendor - Nieuwe Uilenburgerstraat 116\, 1011 LX Amsterdam
STATUS:CONFIRMED
CATEGORIES:amsterdam-centrum,stories,music,nieuwmarkt/lastage,piano
END:VEVENT
BEGIN:VEVENT
UID:20561@offbeat.amsterdam
SUMMARY:Tales and Mutability (sneak preview)
DTSTAMP:20260419T223213Z
DTSTART:20260530T180000Z
URL:https://offbeat.amsterdam/event/tales-and-mutability-sneak-preview
GEO:52.3699078;4.9032848
LOCATION:Splendor - Nieuwe Uilenburgerstraat 116\, 1011 LX Amsterdam
STATUS:CONFIRMED
CATEGORIES:piano,q&a,stories,talk,theater,amsterdam-centrum,live,music,nieu
	wmarkt/lastage,performance
END:VEVENT
BEGIN:VEVENT
UID:20720@offbeat.amsterdam
SUMMARY:Muziek uit Noordoost van Brazilië met Elizabeth Fadel Floor Polder 
	Henriketa Melcher en Maripepa Contreras
DTSTAMP:20260419T223213Z
DTSTART:20260530T180000Z
URL:https://offbeat.amsterdam/event/muziek-uit-noordoost-van-brazilie-met-e
	lizabeth-fadel-floor-polder-henriketa-melcher-en-maripepa-contreras
GEO:52.354291;4.8540331
LOCATION:Teatro Munganga - Schinkelhavenstraat 27 HS\, 1075 VP Amsterdam
STATUS:CONFIRMED
CATEGORIES:amsterdam-zuid,schinkelbuurt,piano,music
END:VEVENT
BEGIN:VEVENT
UID:20527@offbeat.amsterdam
SUMMARY:Felbm
DTSTAMP:20260419T223213Z
DTSTART:20260605T181500Z
URL:https://offbeat.amsterdam/event/felbm
GEO:52.3830883;4.9030297
LOCATION:Tolhuistuin - IJpromenade 2\, 1031 KT Amsterdam
STATUS:CONFIRMED
CATEGORIES:music,amsterdam-noord,buiksloterweg,live,piano
END:VEVENT
BEGIN:VEVENT
UID:19011@offbeat.amsterdam
SUMMARY:Red Light Jazz Festival
DTSTAMP:20260419T223213Z
DTSTART:20260605T183000Z
DTEND:20260605T211500Z
URL:https://offbeat.amsterdam/event/red-light-jazz-festival
GEO:52.3688806;4.891799
LOCATION:Arti et Amicitiae - Rokin 112\, 1012 LB Amsterdam
STATUS:CONFIRMED
CATEGORIES:film,jazz,amsterdam-centrum,festivals,live,music,piano,rokin
END:VEVENT
BEGIN:VEVENT
UID:18009@offbeat.amsterdam
SUMMARY:Humbe
DTSTAMP:20260419T223213Z
DTSTART:20260606T173000Z
URL:https://offbeat.amsterdam/event/humbe
GEO:52.3830883;4.9030297
LOCATION:Tolhuistuin - IJpromenade 2\, 1031 KT Amsterdam
STATUS:CONFIRMED
CATEGORIES:rnb,piano,buiksloterweg,amsterdam-noord
END:VEVENT
BEGIN:VEVENT
UID:20739@offbeat.amsterdam
SUMMARY:Trio Voilà speelt Kurt Weil – Maggie the Knife
DTSTAMP:20260419T223213Z
DTSTART:20260606T183000Z
URL:https://offbeat.amsterdam/event/trio-voila-speelt-kurt-weil-maggie-the-
	knife
GEO:52.3711125;4.8900771
LOCATION:Theater de Richel - Nieuwezijds Voorburgwal 282\, 1012 RT Amsterda
	m
STATUS:CONFIRMED
CATEGORIES:muziek,amsterdam-centrum,music,muziektheater,piano,spui,theater
END:VEVENT
BEGIN:VEVENT
UID:20718@offbeat.amsterdam
SUMMARY:Een magisch pianoconcert voor kinderen!
DTSTAMP:20260419T223213Z
DTSTART:20260607T090000Z
URL:https://offbeat.amsterdam/event/een-magisch-pianoconcert-voor-kinderen
GEO:52.354291;4.8540331
LOCATION:Teatro Munganga - Schinkelhavenstraat 27 HS\, 1075 VP Amsterdam
STATUS:CONFIRMED
CATEGORIES:amsterdam-zuid,concert,dance,food,music,piano,schinkelbuurt,talk
END:VEVENT
BEGIN:VEVENT
UID:20251@offbeat.amsterdam
SUMMARY:Red Light Jazz: dinner concert with Bout du Monde
DTSTAMP:20260419T223213Z
DTSTART:20260607T180000Z
DTEND:20260607T200000Z
URL:https://offbeat.amsterdam/event/red-light-jazz-dinner-concert-with-bout
	-du-monde
GEO:52.3691458;4.8950558
LOCATION:Contra - Oudezijds Achterburgwal 235\, 1012 DL Amsterdam
STATUS:CONFIRMED
CATEGORIES:blues,jazz,amsterdam-centrum,dinner,live,concert,music,orchestra
	,piano,burgwallen
END:VEVENT
BEGIN:VEVENT
UID:20736@offbeat.amsterdam
SUMMARY:Yoràn Vroom
DTSTAMP:20260419T223213Z
DTSTART:20260609T180000Z
URL:https://offbeat.amsterdam/event/yoran-vroom
GEO:52.3528265;4.906568
LOCATION:Cinetol - Tolstraat 182\, 1074 VM Amsterdam
STATUS:CONFIRMED
CATEGORIES:de pijp,piano,music,afro,amsterdam-zuid,jazz
END:VEVENT
BEGIN:VEVENT
UID:18837@offbeat.amsterdam
SUMMARY:Folk Cabaret
DTSTAMP:20260419T223213Z
DTSTART:20260611T180000Z
URL:https://offbeat.amsterdam/event/folk-cabaret
GEO:52.3699078;4.9032848
LOCATION:Splendor - Nieuwe Uilenburgerstraat 116\, 1011 LX Amsterdam
STATUS:CONFIRMED
CATEGORIES:cabaret,music,nieuwmarkt/lastage,piano,amsterdam-centrum
END:VEVENT
BEGIN:VEVENT
UID:17674@offbeat.amsterdam
SUMMARY:The MezJam
DTSTAMP:20260419T223213Z
DTSTART:20260614T180000Z
DTEND:20260614T203000Z
URL:https://offbeat.amsterdam/event/the-mezjam-15
GEO:52.3759775;4.9275458
LOCATION:Mezrab - Veemkade 576\, 1019 BL Amsterdam
STATUS:CONFIRMED
CATEGORIES:eastern docklands,music,piano,amsterdam-oost
END:VEVENT
BEGIN:VEVENT
UID:20958@offbeat.amsterdam
SUMMARY:Cinema: In Spring
DTSTAMP:20260419T223213Z
DTSTART:20260616T180000Z
URL:https://offbeat.amsterdam/event/cinema-in-spring
GEO:52.3699078;4.9032848
LOCATION:Splendor - Nieuwe Uilenburgerstraat 116\, 1011 LX Amsterdam
STATUS:CONFIRMED
CATEGORIES:nieuwmarkt/lastage,amsterdam-centrum,film,live,music,piano
END:VEVENT
BEGIN:VEVENT
UID:20677@offbeat.amsterdam
SUMMARY:Roda de Choro Special Edition by Daniel Montes Elizabeth Fadel Mari
	pepa Contreras Marijn Van Der Linden Luis Mascaro Wagner Vasconcelos
DTSTAMP:20260419T223213Z
DTSTART:20260618T180000Z
URL:https://offbeat.amsterdam/event/roda-de-choro-special-edition-by-daniel
	-montes-elizabeth-fadel-maripepa-contreras-marijn-van-der-linden-luis-masc
	aro-wagner-vasconcelos-1
GEO:52.354291;4.8540331
LOCATION:Teatro Munganga - Schinkelhavenstraat 27 HS\, 1075 VP Amsterdam
STATUS:CONFIRMED
CATEGORIES:music,dance,amsterdam-zuid,piano,schinkelbuurt
END:VEVENT
BEGIN:VEVENT
UID:20730@offbeat.amsterdam
SUMMARY:Basement Membrane
DTSTAMP:20260419T223213Z
DTSTART:20260623T173000Z
URL:https://offbeat.amsterdam/event/basement-membrane-project
GEO:52.36215535;4.883782439016489
LOCATION:Paradiso - Weteringschans 6\, 1017 SG Amsterdam
STATUS:CONFIRMED
CATEGORIES:live,dj,concert,punk,piano,amsterdam-centrum,leidseplein,jazz,fu
	nk,electronics,eclectic
END:VEVENT
BEGIN:VEVENT
UID:19348@offbeat.amsterdam
SUMMARY:Svyatoslav Lunyov. Portrait of the composer
DTSTAMP:20260419T223213Z
DTSTART:20260624T181500Z
URL:https://offbeat.amsterdam/event/svyatoslav-lunyov-portrait-of-the-compo
	ser
GEO:52.3699078;4.9032848
LOCATION:Splendor - Nieuwe Uilenburgerstraat 116\, 1011 LX Amsterdam
STATUS:CONFIRMED
CATEGORIES:music,nieuwmarkt/lastage,piano,amsterdam-centrum,lecture
END:VEVENT
BEGIN:VEVENT
UID:20684@offbeat.amsterdam
SUMMARY:Ingrid Vermeulen | Opera and Operetta Evening
DTSTAMP:20260419T223213Z
DTSTART:20260626T180000Z
DTEND:20260626T210000Z
URL:https://offbeat.amsterdam/event/ingrid-vermeulen-or-opera-and-operetta-
	evening-1
GEO:52.3688806;4.891799
LOCATION:Arti et Amicitiae - Rokin 112\, 1012 LB Amsterdam
STATUS:CONFIRMED
CATEGORIES:opening,concert,music,classes,piano,rokin,amsterdam-centrum
END:VEVENT
BEGIN:VEVENT
UID:18972@offbeat.amsterdam
SUMMARY:Enoch Arden
DTSTAMP:20260419T223213Z
DTSTART:20260629T181500Z
URL:https://offbeat.amsterdam/event/enoch-arden
GEO:52.3699078;4.9032848
LOCATION:Splendor - Nieuwe Uilenburgerstraat 116\, 1011 LX Amsterdam
STATUS:CONFIRMED
CATEGORIES:performance,music,jazz,improv,amsterdam-centrum,theater,piano,ni
	euwmarkt/lastage
END:VEVENT
BEGIN:VEVENT
UID:20380@offbeat.amsterdam
SUMMARY:Nita Aartsen Trio
DTSTAMP:20260419T223213Z
DTSTART:20260703T180000Z
URL:https://offbeat.amsterdam/event/nita-aartsen-trio
GEO:52.354291;4.8540331
LOCATION:Teatro Munganga - Schinkelhavenstraat 27 HS\, 1075 VP Amsterdam
STATUS:CONFIRMED
CATEGORIES:festivals,jazz,music,piano,schinkelbuurt,afro,amsterdam-zuid,con
	cert
END:VEVENT
END:VCALENDAR
