BEGIN:VCALENDAR
VERSION:2.0
CALSCALE:GREGORIAN
PRODID:adamgibbons/ics
METHOD:PUBLISH
X-PUBLISHED-TTL:PT1H
BEGIN:VEVENT
UID:20021@offbeat.amsterdam
SUMMARY:RAKISTAMSTERDAM presents: ORANGE & LEMONS live Amsterdam
DTSTAMP:20260423T003141Z
DTSTART:20260605T160000Z
DTEND:20260605T230000Z
URL:https://offbeat.amsterdam/event/rakistamsterdam-presents-orange-and-lem
	ons-live-amsterdam
GEO:52.3966283;4.8755183
LOCATION:Toekomstmuziek - Danzigerbocht 29\, 1013 AM Amsterdam
STATUS:CONFIRMED
CATEGORIES:amsterdam-west,concert,culture,dance,dj,djs,live,live music,mine
	rvahaven,music,party,philippines,rock,westpoort
END:VEVENT
END:VCALENDAR
