BEGIN:VCALENDAR
VERSION:2.0
CALSCALE:GREGORIAN
PRODID:adamgibbons/ics
METHOD:PUBLISH
X-PUBLISHED-TTL:PT1H
BEGIN:VEVENT
UID:20431@offbeat.amsterdam
SUMMARY:Girly Pop! presents The First Wives Club (1996) incl. introduction
DTSTAMP:20260422T085011Z
DTSTART:20260424T170000Z
URL:https://offbeat.amsterdam/event/girly-pop-presents-the-first-wives-club
	-1996-incl-introduction
GEO:52.3637259;4.8676321
LOCATION:LAB111 - Arie Biemondstraat 111\, 1054 PD Amsterdam
STATUS:CONFIRMED
CATEGORIES:patriarchy,film,oud-west,overtoombuurt,stories,amsterdam-west,co
	medy
END:VEVENT
BEGIN:VEVENT
UID:20266@offbeat.amsterdam
SUMMARY:Straight To Video presents Invasion U.S.A. (1985) incl. pre-show
DTSTAMP:20260422T085011Z
DTSTART:20260425T190000Z
URL:https://offbeat.amsterdam/event/straight-to-video-presents-invasion-usa
	-1985-incl-pre-show
GEO:52.3637259;4.8676321
LOCATION:LAB111 - Arie Biemondstraat 111\, 1054 PD Amsterdam
STATUS:CONFIRMED
CATEGORIES:overtoombuurt,oud-west,film,amsterdam-west
END:VEVENT
BEGIN:VEVENT
UID:20414@offbeat.amsterdam
SUMMARY:IQMF: Shorts program
DTSTAMP:20260422T085011Z
DTSTART:20260501T150000Z
URL:https://offbeat.amsterdam/event/iqmf-shorts-program
GEO:52.3637259;4.8676321
LOCATION:LAB111 - Arie Biemondstraat 111\, 1054 PD Amsterdam
STATUS:CONFIRMED
CATEGORIES:amsterdam-west,stories,shorts,queer,overtoombuurt,oud-west,film,
	festivals,exhibition,dj,alternative
END:VEVENT
BEGIN:VEVENT
UID:20411@offbeat.amsterdam
SUMMARY:IQMF: Dreams In Nightmares
DTSTAMP:20260422T085011Z
DTSTART:20260501T165000Z
URL:https://offbeat.amsterdam/event/iqmf-dreams-in-nightmares
GEO:52.3637259;4.8676321
LOCATION:LAB111 - Arie Biemondstraat 111\, 1054 PD Amsterdam
STATUS:CONFIRMED
CATEGORIES:alternative,queer,overtoombuurt,oud-west,film,festivals,exhibiti
	on,dj,stories,amsterdam-west
END:VEVENT
BEGIN:VEVENT
UID:20733@offbeat.amsterdam
SUMMARY:IQMF x Schmutz Cinema: Viva la Prostitucion!
DTSTAMP:20260422T085011Z
DTSTART:20260501T191500Z
URL:https://offbeat.amsterdam/event/iqmf-x-schmutz-cinema-viva-la-prostituc
	ion
GEO:52.3637259;4.8676321
LOCATION:LAB111 - Arie Biemondstraat 111\, 1054 PD Amsterdam
STATUS:CONFIRMED
CATEGORIES:dj,amsterdam-west,alternative,exhibition,festivals,film,oud-west
	,overtoombuurt,queer,stories
END:VEVENT
BEGIN:VEVENT
UID:20409@offbeat.amsterdam
SUMMARY:IQMF: Chinese Queer Feminist Day Shorts 1 - Oh\, Dream Maker
DTSTAMP:20260422T085011Z
DTSTART:20260502T110000Z
URL:https://offbeat.amsterdam/event/iqmf-chinese-queer-feminist-day-shorts-
	1-oh-dream-maker
GEO:52.3637259;4.8676321
LOCATION:LAB111 - Arie Biemondstraat 111\, 1054 PD Amsterdam
STATUS:CONFIRMED
CATEGORIES:shorts,alternative,amsterdam-west,dj,exhibition,festivals,film,o
	ud-west,overtoombuurt,queer,stories
END:VEVENT
BEGIN:VEVENT
UID:20407@offbeat.amsterdam
SUMMARY:IQMF: Chinese Queer Feminist Day - Love Bound
DTSTAMP:20260422T085011Z
DTSTART:20260502T130000Z
URL:https://offbeat.amsterdam/event/iqmf-chinese-queer-feminist-day-love-bo
	und
GEO:52.3637259;4.8676321
LOCATION:LAB111 - Arie Biemondstraat 111\, 1054 PD Amsterdam
STATUS:CONFIRMED
CATEGORIES:stories,alternative,amsterdam-west,dj,exhibition,festivals,film,
	oud-west,overtoombuurt,queer
END:VEVENT
BEGIN:VEVENT
UID:20402@offbeat.amsterdam
SUMMARY:IQMF x Las Americas Festival: I Am Going to Miss You
DTSTAMP:20260422T085011Z
DTSTART:20260502T130000Z
URL:https://offbeat.amsterdam/event/iqmf-x-las-americas-festival-i-am-going
	-to-miss-you
GEO:52.3637259;4.8676321
LOCATION:LAB111 - Arie Biemondstraat 111\, 1054 PD Amsterdam
STATUS:CONFIRMED
CATEGORIES:queer,alternative,overtoombuurt,oud-west,film,festivals,exhibiti
	on,dj,amsterdam-west,stories
END:VEVENT
BEGIN:VEVENT
UID:20410@offbeat.amsterdam
SUMMARY:IQMF: Chinese Queer Feminist Day Shorts 2 - Waving On The Road
DTSTAMP:20260422T085011Z
DTSTART:20260502T144500Z
URL:https://offbeat.amsterdam/event/iqmf-chinese-queer-feminist-day-shorts-
	2-waving-on-the-road
GEO:52.3637259;4.8676321
LOCATION:LAB111 - Arie Biemondstraat 111\, 1054 PD Amsterdam
STATUS:CONFIRMED
CATEGORIES:overtoombuurt,alternative,amsterdam-west,dj,exhibition,festivals
	,film,oud-west,queer,shorts,stories
END:VEVENT
BEGIN:VEVENT
UID:21039@offbeat.amsterdam
SUMMARY:IQMF: Shorts program
DTSTAMP:20260422T085011Z
DTSTART:20260502T150000Z
URL:https://offbeat.amsterdam/event/iqmf-shorts-program-1
GEO:52.3637259;4.8676321
LOCATION:LAB111 - Arie Biemondstraat 111\, 1054 PD Amsterdam
STATUS:CONFIRMED
CATEGORIES:amsterdam-west,stories,shorts,queer,overtoombuurt,alternative,ou
	d-west,film,festivals,exhibition,dj
END:VEVENT
BEGIN:VEVENT
UID:20535@offbeat.amsterdam
SUMMARY:IQMF: Chinese Queer Feminist Day - Where Comes Mulan incl. Q&A
DTSTAMP:20260422T085011Z
DTSTART:20260502T170000Z
URL:https://offbeat.amsterdam/event/iqmf-chinese-queer-feminist-day-where-c
	omes-mulan-incl-qanda
GEO:52.3637259;4.8676321
LOCATION:LAB111 - Arie Biemondstraat 111\, 1054 PD Amsterdam
STATUS:CONFIRMED
CATEGORIES:exhibition,festivals,film,oud-west,overtoombuurt,q&a,queer,stori
	es,alternative,amsterdam-west,dj
END:VEVENT
BEGIN:VEVENT
UID:20413@offbeat.amsterdam
SUMMARY:IQMF: Passion According To GHB
DTSTAMP:20260422T085011Z
DTSTART:20260502T173000Z
URL:https://offbeat.amsterdam/event/iqmf-passion-according-to-ghb
GEO:52.3637259;4.8676321
LOCATION:LAB111 - Arie Biemondstraat 111\, 1054 PD Amsterdam
STATUS:CONFIRMED
CATEGORIES:alternative,amsterdam-west,dj,exhibition,festivals,film,oud-west
	,overtoombuurt,queer,stories
END:VEVENT
BEGIN:VEVENT
UID:20923@offbeat.amsterdam
SUMMARY:IQMF: Chinese Queer Feminist Day - China Town Cha Cha
DTSTAMP:20260422T085011Z
DTSTART:20260502T191500Z
URL:https://offbeat.amsterdam/event/iqmf-chinese-queer-feminist-day-china-t
	own-cha-cha
GEO:52.3637259;4.8676321
LOCATION:LAB111 - Arie Biemondstraat 111\, 1054 PD Amsterdam
STATUS:CONFIRMED
CATEGORIES:alternative,stories,queer,overtoombuurt,oud-west,film,festivals,
	exhibition,dj,amsterdam-west
END:VEVENT
BEGIN:VEVENT
UID:20734@offbeat.amsterdam
SUMMARY:IQMF x Schmutz: Parque de Diversões
DTSTAMP:20260422T085011Z
DTSTART:20260502T191500Z
URL:https://offbeat.amsterdam/event/iqmf-x-schmutz-parque-de-diversoes
GEO:52.3637259;4.8676321
LOCATION:LAB111 - Arie Biemondstraat 111\, 1054 PD Amsterdam
STATUS:CONFIRMED
CATEGORIES:queer,overtoombuurt,oud-west,film,festivals,exhibition,dj,amster
	dam-west,alternative,stories
END:VEVENT
BEGIN:VEVENT
UID:20405@offbeat.amsterdam
SUMMARY:IQMF: 10s Across Borders
DTSTAMP:20260422T085011Z
DTSTART:20260503T110000Z
URL:https://offbeat.amsterdam/event/iqmf-10s-across-borders
GEO:52.3637259;4.8676321
LOCATION:LAB111 - Arie Biemondstraat 111\, 1054 PD Amsterdam
STATUS:CONFIRMED
CATEGORIES:festivals,stories,queer,overtoombuurt,oud-west,film,exhibition,d
	j,amsterdam-west,alternative
END:VEVENT
BEGIN:VEVENT
UID:20412@offbeat.amsterdam
SUMMARY:IQMF: Dreams In Nightmares
DTSTAMP:20260422T085011Z
DTSTART:20260503T130000Z
URL:https://offbeat.amsterdam/event/iqmf-dreams-in-nightmares-1
GEO:52.3637259;4.8676321
LOCATION:LAB111 - Arie Biemondstraat 111\, 1054 PD Amsterdam
STATUS:CONFIRMED
CATEGORIES:dj,exhibition,festivals,film,oud-west,overtoombuurt,queer,storie
	s,alternative,amsterdam-west
END:VEVENT
BEGIN:VEVENT
UID:20545@offbeat.amsterdam
SUMMARY:Film Lecture: My Film Is Vietnam – How Apocalypse Now Shaped Our Un
	derstanding Of War
DTSTAMP:20260422T085011Z
DTSTART:20260512T170000Z
URL:https://offbeat.amsterdam/event/film-lecture-my-film-is-vietnam-how-apo
	calypse-now-shaped-our-understanding-of-war
GEO:52.3637259;4.8676321
LOCATION:LAB111 - Arie Biemondstraat 111\, 1054 PD Amsterdam
STATUS:CONFIRMED
CATEGORIES:overtoombuurt,oud-west,lecture,film,amsterdam-west
END:VEVENT
BEGIN:VEVENT
UID:20544@offbeat.amsterdam
SUMMARY:Apocalypse Now: Final Cut (4K Restoration)
DTSTAMP:20260422T085011Z
DTSTART:20260512T183000Z
URL:https://offbeat.amsterdam/event/apocalypse-now-final-cut-4k-restoration
GEO:52.3637259;4.8676321
LOCATION:LAB111 - Arie Biemondstraat 111\, 1054 PD Amsterdam
STATUS:CONFIRMED
CATEGORIES:film,overtoombuurt,oud-west,amsterdam-west,lecture
END:VEVENT
BEGIN:VEVENT
UID:15604@offbeat.amsterdam
SUMMARY:HUMP! Film Festival: Spring Lineup
DTSTAMP:20260422T085011Z
DTSTART:20260523T170000Z
URL:https://offbeat.amsterdam/event/hump-film-festival-spring-lineup
GEO:52.3637259;4.8676321
LOCATION:LAB111 - Arie Biemondstraat 111\, 1054 PD Amsterdam
STATUS:CONFIRMED
CATEGORIES:indie,storytelling,shorts,overtoombuurt,oud-west,theater,gender,
	film,festivals,amsterdam-west
END:VEVENT
BEGIN:VEVENT
UID:15605@offbeat.amsterdam
SUMMARY:HUMP! Film Festival: Spring Lineup
DTSTAMP:20260422T085011Z
DTSTART:20260523T190000Z
URL:https://offbeat.amsterdam/event/hump-film-festival-spring-lineup-1
GEO:52.3637259;4.8676321
LOCATION:LAB111 - Arie Biemondstraat 111\, 1054 PD Amsterdam
STATUS:CONFIRMED
CATEGORIES:overtoombuurt,storytelling,theater,amsterdam-west,oud-west,indie
	,gender,film,festivals,shorts
END:VEVENT
BEGIN:VEVENT
UID:20857@offbeat.amsterdam
SUMMARY:Africadelic & Caribbean Creativity present Fanon (2024)
DTSTAMP:20260422T085011Z
DTSTART:20260525T163000Z
URL:https://offbeat.amsterdam/event/africadelic-and-caribbean-creativity-pr
	esent-fanon-2024-1
GEO:52.3637259;4.8676321
LOCATION:LAB111 - Arie Biemondstraat 111\, 1054 PD Amsterdam
STATUS:CONFIRMED
CATEGORIES:oud-west,festivals,amsterdam-west,overtoombuurt
END:VEVENT
END:VCALENDAR
