BEGIN:VCALENDAR
VERSION:2.0
CALSCALE:GREGORIAN
PRODID:adamgibbons/ics
METHOD:PUBLISH
X-PUBLISHED-TTL:PT1H
BEGIN:VEVENT
UID:20165@offbeat.amsterdam
SUMMARY:Fabricademy show
DTSTAMP:20260421T053725Z
DTSTART:20260417T100000Z
DTEND:20260424T150000Z
URL:https://offbeat.amsterdam/event/fabricademy-show-1
GEO:52.3727735;4.9003436
LOCATION:Waag - Nieuwmarkt 4\, 1012 CR Amsterdam
STATUS:CONFIRMED
CATEGORIES:lecture,nieuwmarkt/lastage,opening,alternative,amsterdam-centrum
END:VEVENT
BEGIN:VEVENT
UID:20871@offbeat.amsterdam
SUMMARY:Exhibition 'In Touch'
DTSTAMP:20260421T053725Z
DTSTART:20260421T100000Z
DTEND:20260421T150000Z
URL:https://offbeat.amsterdam/event/exhibition-in-touch-1
GEO:52.3608907;4.9138063
LOCATION:Plein Theater - Sajetplein 39\, 1091 DB Amsterdam
STATUS:CONFIRMED
CATEGORIES:queer,amsterdam-oost,art,exhibition,oosterparkbuurt,opening
END:VEVENT
BEGIN:VEVENT
UID:20713@offbeat.amsterdam
SUMMARY:SubWaves #19
DTSTAMP:20260421T053725Z
DTSTART:20260421T180000Z
DTEND:20260421T210000Z
URL:https://offbeat.amsterdam/event/subwaves-19
GEO:52.3601403;4.8656923
LOCATION:OT301 - Overtoom 301\, 1054 HW Amsterdam
STATUS:CONFIRMED
CATEGORIES:blues,performance,opening,improv,film,concert,amsterdam-west,von
	delparkbuurt,piano
END:VEVENT
BEGIN:VEVENT
UID:20874@offbeat.amsterdam
SUMMARY:Exhibition 'In Touch'
DTSTAMP:20260421T053725Z
DTSTART:20260422T100000Z
DTEND:20260422T150000Z
URL:https://offbeat.amsterdam/event/exhibition-in-touch-4
GEO:52.3608907;4.9138063
LOCATION:Plein Theater - Sajetplein 39\, 1091 DB Amsterdam
STATUS:CONFIRMED
CATEGORIES:amsterdam-oost,art,opening,oosterparkbuurt,exhibition,queer
END:VEVENT
BEGIN:VEVENT
UID:20875@offbeat.amsterdam
SUMMARY:Exhibition 'In Touch'
DTSTAMP:20260421T053725Z
DTSTART:20260423T100000Z
DTEND:20260423T150000Z
URL:https://offbeat.amsterdam/event/exhibition-in-touch-5
GEO:52.3608907;4.9138063
LOCATION:Plein Theater - Sajetplein 39\, 1091 DB Amsterdam
STATUS:CONFIRMED
CATEGORIES:oosterparkbuurt,amsterdam-oost,art,exhibition,opening,queer
END:VEVENT
BEGIN:VEVENT
UID:16951@offbeat.amsterdam
SUMMARY:Dok Night – Dokhuis AiR presents: Human. VPN/someplace_else
DTSTAMP:20260421T053725Z
DTSTART:20260423T160000Z
DTEND:20260423T210000Z
URL:https://offbeat.amsterdam/event/dok-night-46
GEO:52.368298;4.911167641156702
LOCATION:Plantage Dok - Plantage Doklaan 8-12\, 1018 CM
STATUS:CONFIRMED
CATEGORIES:activism,stories,plantage,performance,opening,music,live,games,f
	ood,film,exhibition,dinner,amsterdam-centrum,vegan
END:VEVENT
BEGIN:VEVENT
UID:20473@offbeat.amsterdam
SUMMARY:Opening flour\, water\, soil
DTSTAMP:20260421T053725Z
DTSTART:20260424T170000Z
DTEND:20260424T200000Z
URL:https://offbeat.amsterdam/event/opening-flour-water-soil
GEO:52.3737514;4.8959885
LOCATION:W139 - Warmoesstraat 139\, 1012 JB Amsterdam
STATUS:CONFIRMED
CATEGORIES:improv,live,music,opening,oude kerk,performance,repair,stories,e
	xhibition,community,amsterdam-centrum,festivals
END:VEVENT
BEGIN:VEVENT
UID:19743@offbeat.amsterdam
SUMMARY:Living Room Session 10
DTSTAMP:20260421T053725Z
DTSTART:20260424T180000Z
URL:https://offbeat.amsterdam/event/living-room-session
GEO:52.3699902;4.884254
LOCATION:Felix Meritis - Keizersgracht 324\, 1016 EZ Amsterdam
STATUS:CONFIRMED
CATEGORIES:lecture,jazz,hip-hop,film,exhibition,dj,dance,amsterdam-centrum,
	afrobeats,afro,theater,stories,soul,rnb,performance,opening,music,meditati
	on,live,keizersgracht
END:VEVENT
BEGIN:VEVENT
UID:20876@offbeat.amsterdam
SUMMARY:Exhibition 'In Touch'
DTSTAMP:20260421T053725Z
DTSTART:20260428T100000Z
DTEND:20260428T150000Z
URL:https://offbeat.amsterdam/event/exhibition-in-touch-6
GEO:52.3608907;4.9138063
LOCATION:Plein Theater - Sajetplein 39\, 1091 DB Amsterdam
STATUS:CONFIRMED
CATEGORIES:queer,exhibition,art,amsterdam-oost,oosterparkbuurt,opening
END:VEVENT
BEGIN:VEVENT
UID:20877@offbeat.amsterdam
SUMMARY:Exhibition 'In Touch'
DTSTAMP:20260421T053725Z
DTSTART:20260429T100000Z
DTEND:20260429T150000Z
URL:https://offbeat.amsterdam/event/exhibition-in-touch-7
GEO:52.3608907;4.9138063
LOCATION:Plein Theater - Sajetplein 39\, 1091 DB Amsterdam
STATUS:CONFIRMED
CATEGORIES:exhibition,oosterparkbuurt,opening,queer,art,amsterdam-oost
END:VEVENT
BEGIN:VEVENT
UID:20878@offbeat.amsterdam
SUMMARY:Exhibition 'In Touch'
DTSTAMP:20260421T053725Z
DTSTART:20260430T100000Z
DTEND:20260430T150000Z
URL:https://offbeat.amsterdam/event/exhibition-in-touch-8
GEO:52.3608907;4.9138063
LOCATION:Plein Theater - Sajetplein 39\, 1091 DB Amsterdam
STATUS:CONFIRMED
CATEGORIES:queer,opening,oosterparkbuurt,exhibition,art,amsterdam-oost
END:VEVENT
BEGIN:VEVENT
UID:16952@offbeat.amsterdam
SUMMARY:Dok Night- Benefit dinner by Het Laatste Avondmaal
DTSTAMP:20260421T053725Z
DTSTART:20260430T160000Z
DTEND:20260430T210000Z
URL:https://offbeat.amsterdam/event/dok-night-47
GEO:52.368298;4.911167641156702
LOCATION:Plantage Dok - Plantage Doklaan 8-12\, 1018 CM
STATUS:CONFIRMED
CATEGORIES:food,stories,plantage,performance,opening,music,live,games,activ
	ism,amsterdam-centrum,dinner,exhibition,film,vegan
END:VEVENT
BEGIN:VEVENT
UID:19132@offbeat.amsterdam
SUMMARY:Patio – Courtyard Opening
DTSTAMP:20260421T053725Z
DTSTART:20260502T120000Z
DTEND:20260503T030000Z
URL:https://offbeat.amsterdam/event/patio-courtyard-opening-1
GEO:52.3912546;4.8242219
LOCATION:Lofi - Basisweg 63\, 1043 AN Amsterdam
STATUS:CONFIRMED
CATEGORIES:sloterdijk,opening,live,amsterdam-west
END:VEVENT
BEGIN:VEVENT
UID:20694@offbeat.amsterdam
SUMMARY:Opening van de gemeenschapstuin 'Molentuin' als Hıdırellez-viering
DTSTAMP:20260421T053725Z
DTSTART:20260503T120000Z
DTEND:20260503T150000Z
URL:https://offbeat.amsterdam/event/opening-van-de-gemeenschapstuin-molentu
	in-als-hidirellez-viering
GEO:52.3568405;4.9323245
LOCATION:Framer Framed - Oranje-Vrijstaatkade 71\, 1093KS Amsterdam
STATUS:CONFIRMED
CATEGORIES:amsterdam-oost,opening,dapperbuurt
END:VEVENT
BEGIN:VEVENT
UID:20291@offbeat.amsterdam
SUMMARY:FREEDOM
DTSTAMP:20260421T053725Z
DTSTART:20260505T170000Z
URL:https://offbeat.amsterdam/event/freedom-1
GEO:52.3699078;4.9032848
LOCATION:Splendor - Nieuwe Uilenburgerstraat 116\, 1011 LX Amsterdam
STATUS:CONFIRMED
CATEGORIES:amsterdam-centrum,soul,piano,opening,nieuwmarkt/lastage,music,me
	ditation,food,concert
END:VEVENT
BEGIN:VEVENT
UID:20537@offbeat.amsterdam
SUMMARY:Expo Opening JC Smit shows: Lemke Bakker & Lizet Heijboer
DTSTAMP:20260421T053725Z
DTSTART:20260506T160000Z
URL:https://offbeat.amsterdam/event/expo-opening-jc-smit-shows-lemke-bakker
	-and-bizet-heijboer
GEO:52.374158;4.8726931
LOCATION:De Nieuwe Anita - Frederik Hendrikstraat 111\, 1052 HN Amsterdam
STATUS:CONFIRMED
CATEGORIES:amsterdam-west,westerpark,opening,exhibition
END:VEVENT
BEGIN:VEVENT
UID:16953@offbeat.amsterdam
SUMMARY:Dok Night – Local Pollution
DTSTAMP:20260421T053725Z
DTSTART:20260507T160000Z
DTEND:20260507T210000Z
URL:https://offbeat.amsterdam/event/dok-night-48
GEO:52.368298;4.911167641156702
LOCATION:Plantage Dok - Plantage Doklaan 8-12\, 1018 CM
STATUS:CONFIRMED
CATEGORIES:vegan,film,food,games,live,music,opening,performance,plantage,ro
	ck,activism,amsterdam-centrum,dance,dinner,exhibition
END:VEVENT
BEGIN:VEVENT
UID:20279@offbeat.amsterdam
SUMMARY:Europe Day
DTSTAMP:20260421T053725Z
DTSTART:20260508T103000Z
URL:https://offbeat.amsterdam/event/europe-day
GEO:52.376857;4.9220756
LOCATION:Pakhuis de Zwijger - Piet Heinkade 179\, 1019 HC Amsterdam
STATUS:CONFIRMED
CATEGORIES:discussion,democracy,community,amsterdam-centrum,festivals,live,
	opening,eastern docklands,exhibition
END:VEVENT
BEGIN:VEVENT
UID:15447@offbeat.amsterdam
SUMMARY:GenZ Voice Recitals: The Female Voice / Corde e canto / Songs witho
	ut Shores
DTSTAMP:20260421T053725Z
DTSTART:20260509T180000Z
URL:https://offbeat.amsterdam/event/genz-voice-recitals-the-female-voice-co
	rde-e-canto-songs-without-shores
GEO:52.3699078;4.9032848
LOCATION:Splendor - Nieuwe Uilenburgerstraat 116\, 1011 LX Amsterdam
STATUS:CONFIRMED
CATEGORIES:amsterdam-centrum,gender,improv,jazz,music,nieuwmarkt/lastage,op
	ening,orchestra,poetry,stories
END:VEVENT
BEGIN:VEVENT
UID:20525@offbeat.amsterdam
SUMMARY:SHELTER 10 YEARS
DTSTAMP:20260421T053725Z
DTSTART:20260510T150000Z
DTEND:20260510T210000Z
URL:https://offbeat.amsterdam/event/shelter-10-years
GEO:52.3966283;4.8755183
LOCATION:Toekomstmuziek - Danzigerbocht 29\, 1013 AM Amsterdam
STATUS:CONFIRMED
CATEGORIES:music,dj,dance,community,amsterdam-west,minervahaven,live,openin
	g,indie,electronic,westpoort
END:VEVENT
BEGIN:VEVENT
UID:16954@offbeat.amsterdam
SUMMARY:Dok Night – Benefit Dinner for Gaza
DTSTAMP:20260421T053725Z
DTSTART:20260514T160000Z
DTEND:20260514T210000Z
URL:https://offbeat.amsterdam/event/dok-night-49
GEO:52.368298;4.911167641156702
LOCATION:Plantage Dok - Plantage Doklaan 8-12\, 1018 CM
STATUS:CONFIRMED
CATEGORIES:live,food,games,film,exhibition,dinner,amsterdam-centrum,activis
	m,vegan,plantage,performance,opening,music
END:VEVENT
BEGIN:VEVENT
UID:16955@offbeat.amsterdam
SUMMARY:Dok Night – SYMBIOPSYCHOTAXICINEMA
DTSTAMP:20260421T053725Z
DTSTART:20260521T160000Z
DTEND:20260521T210000Z
URL:https://offbeat.amsterdam/event/dok-night-50
GEO:52.368298;4.911167641156702
LOCATION:Plantage Dok - Plantage Doklaan 8-12\, 1018 CM
STATUS:CONFIRMED
CATEGORIES:music,film,food,games,gender,live,activism,amsterdam-centrum,com
	munity,dinner,vegan,plantage,performance,opening,exhibition
END:VEVENT
BEGIN:VEVENT
UID:20806@offbeat.amsterdam
SUMMARY:fiber festival at murmur // trois-quarts taxi system (live) & xenia
	 reaper (live)
DTSTAMP:20260421T053725Z
DTSTART:20260528T160000Z
URL:https://offbeat.amsterdam/event/fiber-festival-at-murmur-trois-quarts-t
	axi-system-live-and-xenia-reaper-live
GEO:52.3854298;4.9279805
LOCATION:murmur - Aambeeldstraat 60\, 1021 KB Amsterdam
STATUS:CONFIRMED
CATEGORIES:amsterdam-noord,techno,poetry,opening,music,live,hamerkwartier,f
	estivals,experimental,dnb,dj
END:VEVENT
BEGIN:VEVENT
UID:16956@offbeat.amsterdam
SUMMARY:Dok Night – Como agua para Dox
DTSTAMP:20260421T053725Z
DTSTART:20260528T160000Z
DTEND:20260528T210000Z
URL:https://offbeat.amsterdam/event/dok-night-51
GEO:52.368298;4.911167641156702
LOCATION:Plantage Dok - Plantage Doklaan 8-12\, 1018 CM
STATUS:CONFIRMED
CATEGORIES:music,opening,performance,plantage,vegan,activism,amsterdam-cent
	rum,dinner,exhibition,film,food,games,live
END:VEVENT
BEGIN:VEVENT
UID:19337@offbeat.amsterdam
SUMMARY:PARDON W/ BAKEY (UK)\, BEVAN\, CHALÉ\, EYCEE\, IDILAY\, INSULINDE\,
	 ITZ3BBY\, LE KACANG\, MISA\, SANDOR DAYALA\, SPECIAL GUEST\, ZIGGY TWISS 
	& 1.06 LIBRARY
DTSTAMP:20260421T053725Z
DTSTART:20260529T200000Z
DTEND:20260530T010000Z
URL:https://offbeat.amsterdam/event/pardon-3
GEO:52.3854467;4.9256035
LOCATION:Skatecafe Karin & Yvonne - Gedempt Hamerkanaal 42\, 1021 KM Amster
	dam
STATUS:CONFIRMED
CATEGORIES:amsterdam-noord,dance,hamerkwartier,opening
END:VEVENT
BEGIN:VEVENT
UID:20512@offbeat.amsterdam
SUMMARY:Sin Señal X Doka Studio w/ Hannecart | Hofman | Mite Ashwel
DTSTAMP:20260421T053725Z
DTSTART:20260529T215900Z
DTEND:20260530T040000Z
URL:https://offbeat.amsterdam/event/sin-senal-x-doka-studio-with-hannecart-
	or-hofman-or-mite-ashwel
GEO:52.353788;4.9119686
LOCATION:Doka - Wibautstraat 150\, 1091 GR Amsterdam
STATUS:CONFIRMED
CATEGORIES:opening,weesperzijde,electronics,music,dj,amsterdam-oost,techno
END:VEVENT
BEGIN:VEVENT
UID:20564@offbeat.amsterdam
SUMMARY:Common Ground 3rd Edition
DTSTAMP:20260421T053725Z
DTSTART:20260530T150000Z
DTEND:20260531T010000Z
URL:https://offbeat.amsterdam/event/common-ground-3rd-edition
GEO:52.3966283;4.8755183
LOCATION:Toekomstmuziek - Danzigerbocht 29\, 1013 AM Amsterdam
STATUS:CONFIRMED
CATEGORIES:opening,techno,westpoort,amsterdam-west,community,deep house,ele
	ctronic,food,house,melodic deep house,minervahaven
END:VEVENT
BEGIN:VEVENT
UID:16957@offbeat.amsterdam
SUMMARY:Dok Night
DTSTAMP:20260421T053725Z
DTSTART:20260604T160000Z
DTEND:20260604T210000Z
URL:https://offbeat.amsterdam/event/dok-night-52
GEO:52.368298;4.911167641156702
LOCATION:Plantage Dok - Plantage Doklaan 8-12\, 1018 CM
STATUS:CONFIRMED
CATEGORIES:performance,music,live,dinner,exhibition,film,food,games,opening
	,vegan,plantage,activism,amsterdam-centrum
END:VEVENT
BEGIN:VEVENT
UID:19263@offbeat.amsterdam
SUMMARY:Círculo Oracle: The Eye of the Night- Public Tarot Reading
DTSTAMP:20260421T053725Z
DTSTART:20260604T170000Z
URL:https://offbeat.amsterdam/event/circulo-oracle-the-eye-of-the-night-pub
	lic-tarot-reading
GEO:52.354291;4.8540331
LOCATION:Teatro Munganga - Schinkelhavenstraat 27 HS\, 1075 VP Amsterdam
STATUS:CONFIRMED
CATEGORIES:theater,opening,schinkelbuurt,stories,amsterdam-zuid,community
END:VEVENT
BEGIN:VEVENT
UID:19680@offbeat.amsterdam
SUMMARY:Composers Soundtracks Festival Concert with Brazilian and Dutch Com
	posers
DTSTAMP:20260421T053725Z
DTSTART:20260605T170000Z
URL:https://offbeat.amsterdam/event/composers-soundtracks-festival-liveconc
	ert-by-brazilian-and-dutch-composers
GEO:52.354291;4.8540331
LOCATION:Teatro Munganga - Schinkelhavenstraat 27 HS\, 1075 VP Amsterdam
STATUS:CONFIRMED
CATEGORIES:storytelling,festivals,discussion,concert,amsterdam-zuid,film,li
	ve,music,opening,schinkelbuurt,workshop
END:VEVENT
BEGIN:VEVENT
UID:16958@offbeat.amsterdam
SUMMARY:Dok Night
DTSTAMP:20260421T053725Z
DTSTART:20260611T160000Z
DTEND:20260611T210000Z
URL:https://offbeat.amsterdam/event/dok-night-53
GEO:52.368298;4.911167641156702
LOCATION:Plantage Dok - Plantage Doklaan 8-12\, 1018 CM
STATUS:CONFIRMED
CATEGORIES:food,vegan,plantage,performance,opening,music,live,games,film,ex
	hibition,dinner,amsterdam-centrum,activism
END:VEVENT
BEGIN:VEVENT
UID:16959@offbeat.amsterdam
SUMMARY:Dok Night
DTSTAMP:20260421T053725Z
DTSTART:20260618T160000Z
DTEND:20260618T210000Z
URL:https://offbeat.amsterdam/event/dok-night-54
GEO:52.368298;4.911167641156702
LOCATION:Plantage Dok - Plantage Doklaan 8-12\, 1018 CM
STATUS:CONFIRMED
CATEGORIES:vegan,activism,amsterdam-centrum,dinner,exhibition,film,food,gam
	es,live,music,opening,performance,plantage
END:VEVENT
BEGIN:VEVENT
UID:20860@offbeat.amsterdam
SUMMARY:Phono Lake's First Night of Summer
DTSTAMP:20260421T053725Z
DTSTART:20260620T210000Z
DTEND:20260621T030000Z
URL:https://offbeat.amsterdam/event/phono-lakes-first-night-of-summer
GEO:52.3602217;4.8156522
LOCATION:Phono Lake - Christoffel Plantijngracht 4\, 1065 DA Amsterdam
STATUS:CONFIRMED
CATEGORIES:slotervaart,opening,amsterdam nieuw-west,festivals,house
END:VEVENT
BEGIN:VEVENT
UID:16960@offbeat.amsterdam
SUMMARY:Dok Night
DTSTAMP:20260421T053725Z
DTSTART:20260625T160000Z
DTEND:20260625T210000Z
URL:https://offbeat.amsterdam/event/dok-night-55
GEO:52.368298;4.911167641156702
LOCATION:Plantage Dok - Plantage Doklaan 8-12\, 1018 CM
STATUS:CONFIRMED
CATEGORIES:exhibition,film,food,vegan,plantage,performance,opening,live,mus
	ic,games,activism,amsterdam-centrum,dinner
END:VEVENT
BEGIN:VEVENT
UID:20684@offbeat.amsterdam
SUMMARY:Ingrid Vermeulen | Opera and Operetta Evening
DTSTAMP:20260421T053725Z
DTSTART:20260626T180000Z
DTEND:20260626T210000Z
URL:https://offbeat.amsterdam/event/ingrid-vermeulen-or-opera-and-operetta-
	evening-1
GEO:52.3688806;4.891799
LOCATION:Arti et Amicitiae - Rokin 112\, 1012 LB Amsterdam
STATUS:CONFIRMED
CATEGORIES:rokin,piano,opening,music,concert,classes,amsterdam-centrum
END:VEVENT
BEGIN:VEVENT
UID:20861@offbeat.amsterdam
SUMMARY:Phono Lake's Second Night of Summer
DTSTAMP:20260421T053725Z
DTSTART:20260718T210000Z
DTEND:20260719T030000Z
URL:https://offbeat.amsterdam/event/phono-lakes-second-night-of-summer
GEO:52.3602217;4.8156522
LOCATION:Phono Lake - Christoffel Plantijngracht 4\, 1065 DA Amsterdam
STATUS:CONFIRMED
CATEGORIES:slotervaart,opening,italo disco,house,festivals,amsterdam nieuw-
	west
END:VEVENT
BEGIN:VEVENT
UID:19384@offbeat.amsterdam
SUMMARY:SHOEGAZE and POST-PUNK NIGHT - Mahogany (US) + Resplandor (NL) + Ma
	yflower Madame (NO) + DJ Dragnet
DTSTAMP:20260421T053725Z
DTSTART:20260917T173000Z
DTEND:20260917T223000Z
URL:https://offbeat.amsterdam/event/shoegaze-and-post-punk-night-mahogany-u
	s-resplandor-nl-mayflower-madame-no-dj-dragnet
GEO:52.3966283;4.8755183
LOCATION:Toekomstmuziek - Danzigerbocht 29\, 1013 AM Amsterdam
STATUS:CONFIRMED
CATEGORIES:live,amsterdam-west,dj,festivals,indie,westpoort,vinyl,vegan,sho
	egaze,rock,punk,post-punk,performance,party,opening,music,minervahaven,liv
	e music
END:VEVENT
END:VCALENDAR
