BEGIN:VCALENDAR
VERSION:2.0
CALSCALE:GREGORIAN
PRODID:adamgibbons/ics
METHOD:PUBLISH
X-PUBLISHED-TTL:PT1H
BEGIN:VEVENT
UID:18902@offbeat.amsterdam
SUMMARY:De Danshal
DTSTAMP:20260422T103017Z
DTSTART:20260501T213000Z
URL:https://offbeat.amsterdam/event/de-danshal-1
GEO:52.3647777;4.881073026725959
LOCATION:Melkweg - Lijnbaansgracht 234A\, 1017 PH Amsterdam
STATUS:CONFIRMED
CATEGORIES:amsterdam-centrum,club,dancehall,latin-american,leidseplein,soca
END:VEVENT
END:VCALENDAR
