BEGIN:VCALENDAR
VERSION:2.0
CALSCALE:GREGORIAN
PRODID:adamgibbons/ics
METHOD:PUBLISH
X-PUBLISHED-TTL:PT1H
BEGIN:VEVENT
UID:5358@offbeat.amsterdam
SUMMARY:The Space Choir
DTSTAMP:20260421T085416Z
DTSTART:20260422T180000Z
URL:https://offbeat.amsterdam/event/the-space-choir-16
GEO:52.3830883;4.9030297
LOCATION:Tolhuistuin - IJpromenade 2\, 1031 KT Amsterdam
STATUS:CONFIRMED
CATEGORIES:queer,amsterdam-noord,buiksloterweg,community,jungle
END:VEVENT
BEGIN:VEVENT
UID:18492@offbeat.amsterdam
SUMMARY:Amsterdam Forever
DTSTAMP:20260421T085416Z
DTSTART:20260424T213000Z
URL:https://offbeat.amsterdam/event/amsterdam-forever
GEO:52.3647777;4.881073026725959
LOCATION:Melkweg - Lijnbaansgracht 234A\, 1017 PH Amsterdam
STATUS:CONFIRMED
CATEGORIES:jungle,rave,amsterdam-centrum,club,leidseplein,drum & bass
END:VEVENT
BEGIN:VEVENT
UID:8112@offbeat.amsterdam
SUMMARY:The Space Choir
DTSTAMP:20260421T085416Z
DTSTART:20260427T153000Z
URL:https://offbeat.amsterdam/event/the-space-choir-33
GEO:52.3830883;4.9030297
LOCATION:Tolhuistuin - IJpromenade 2\, 1031 KT Amsterdam
STATUS:CONFIRMED
CATEGORIES:amsterdam-noord,buiksloterweg,community,queer,jungle
END:VEVENT
BEGIN:VEVENT
UID:19864@offbeat.amsterdam
SUMMARY:CinéDialoog: The Shipwrecked
DTSTAMP:20260421T085416Z
DTSTART:20260428T170000Z
URL:https://offbeat.amsterdam/event/cinedialoog-the-shipwrecked
GEO:52.3630433;4.8828596
LOCATION:De Balie - Kleine-Gartmanplantsoen 10\, 1017 RR Amsterdam
STATUS:CONFIRMED
CATEGORIES:leidseplein,amsterdam-centrum,film,jungle,stories
END:VEVENT
BEGIN:VEVENT
UID:8096@offbeat.amsterdam
SUMMARY:The Space Choir
DTSTAMP:20260421T085416Z
DTSTART:20260429T180000Z
URL:https://offbeat.amsterdam/event/the-space-choir-17
GEO:52.3830883;4.9030297
LOCATION:Tolhuistuin - IJpromenade 2\, 1031 KT Amsterdam
STATUS:CONFIRMED
CATEGORIES:amsterdam-noord,queer,jungle,community,buiksloterweg
END:VEVENT
BEGIN:VEVENT
UID:8113@offbeat.amsterdam
SUMMARY:The Space Choir
DTSTAMP:20260421T085416Z
DTSTART:20260504T153000Z
URL:https://offbeat.amsterdam/event/the-space-choir-34
GEO:52.3830883;4.9030297
LOCATION:Tolhuistuin - IJpromenade 2\, 1031 KT Amsterdam
STATUS:CONFIRMED
CATEGORIES:buiksloterweg,queer,jungle,community,amsterdam-noord
END:VEVENT
BEGIN:VEVENT
UID:20936@offbeat.amsterdam
SUMMARY:Cheeky Monday: ALCEMIST!
DTSTAMP:20260421T085416Z
DTSTART:20260504T210000Z
URL:https://offbeat.amsterdam/event/cheeky-monday-alcemist
GEO:52.3647777;4.881073026725959
LOCATION:Melkweg - Lijnbaansgracht 234A\, 1017 PH Amsterdam
STATUS:CONFIRMED
CATEGORIES:drum & bass,leidseplein,jungle,club night,club,amsterdam-centrum
END:VEVENT
BEGIN:VEVENT
UID:8097@offbeat.amsterdam
SUMMARY:The Space Choir
DTSTAMP:20260421T085416Z
DTSTART:20260506T180000Z
URL:https://offbeat.amsterdam/event/the-space-choir-18
GEO:52.3830883;4.9030297
LOCATION:Tolhuistuin - IJpromenade 2\, 1031 KT Amsterdam
STATUS:CONFIRMED
CATEGORIES:amsterdam-noord,queer,jungle,community,buiksloterweg
END:VEVENT
BEGIN:VEVENT
UID:19323@offbeat.amsterdam
SUMMARY:High Tea presents Souped Up Amsterdam
DTSTAMP:20260421T085416Z
DTSTART:20260508T213000Z
URL:https://offbeat.amsterdam/event/high-tea-presents-souped-up-amsterdam
GEO:52.3647777;4.881073026725959
LOCATION:Melkweg - Lijnbaansgracht 234A\, 1017 PH Amsterdam
STATUS:CONFIRMED
CATEGORIES:club,amsterdam-centrum,leidseplein,jungle,drum & bass,club night
END:VEVENT
BEGIN:VEVENT
UID:8114@offbeat.amsterdam
SUMMARY:The Space Choir
DTSTAMP:20260421T085416Z
DTSTART:20260511T153000Z
URL:https://offbeat.amsterdam/event/the-space-choir-35
GEO:52.3830883;4.9030297
LOCATION:Tolhuistuin - IJpromenade 2\, 1031 KT Amsterdam
STATUS:CONFIRMED
CATEGORIES:buiksloterweg,queer,jungle,community,amsterdam-noord
END:VEVENT
BEGIN:VEVENT
UID:20937@offbeat.amsterdam
SUMMARY:Cheeky Monday: NYMFO!
DTSTAMP:20260421T085416Z
DTSTART:20260511T210000Z
URL:https://offbeat.amsterdam/event/cheeky-monday-nymfo
GEO:52.3647777;4.881073026725959
LOCATION:Melkweg - Lijnbaansgracht 234A\, 1017 PH Amsterdam
STATUS:CONFIRMED
CATEGORIES:leidseplein,drum & bass,club night,club,amsterdam-centrum,jungle
END:VEVENT
BEGIN:VEVENT
UID:8098@offbeat.amsterdam
SUMMARY:The Space Choir
DTSTAMP:20260421T085416Z
DTSTART:20260513T180000Z
URL:https://offbeat.amsterdam/event/the-space-choir-19
GEO:52.3830883;4.9030297
LOCATION:Tolhuistuin - IJpromenade 2\, 1031 KT Amsterdam
STATUS:CONFIRMED
CATEGORIES:community,amsterdam-noord,buiksloterweg,jungle,queer
END:VEVENT
BEGIN:VEVENT
UID:20344@offbeat.amsterdam
SUMMARY:SLIM RADIO W/ BOOGIE\, BRICK\, DJ PLATA NO\, DJKA LEVA\, DOULOU\, J
	ORDAN G\, MILAN MES\, POLLI PANDA\, PIA\, SÆNDO\, SHEPS\, SURPRISE ACTS\, 
	UGUR\, WILL WINDRIDGE\, XARLEE
DTSTAMP:20260421T085416Z
DTSTART:20260515T200000Z
DTEND:20260516T010000Z
URL:https://offbeat.amsterdam/event/slim-radio-2
GEO:52.3854467;4.9256035
LOCATION:Skatecafe Karin & Yvonne - Gedempt Hamerkanaal 42\, 1021 KM Amster
	dam
STATUS:CONFIRMED
CATEGORIES:amsterdam-noord,dnb,punk,jungle,hardcore,hamerkwartier,dj
END:VEVENT
BEGIN:VEVENT
UID:20567@offbeat.amsterdam
SUMMARY:Ritual - Drum & Bass\, Jungle
DTSTAMP:20260421T085416Z
DTSTART:20260516T190000Z
DTEND:20260517T010000Z
URL:https://offbeat.amsterdam/event/ritual-drum-and-bass-jungle
GEO:52.3966283;4.8755183
LOCATION:Toekomstmuziek - Danzigerbocht 29\, 1013 AM Amsterdam
STATUS:CONFIRMED
CATEGORIES:jungle,electronic,westpoort,dnb,amsterdam-west,minervahaven
END:VEVENT
BEGIN:VEVENT
UID:20288@offbeat.amsterdam
SUMMARY:Kinetic Energy\, the Second Chapter
DTSTAMP:20260421T085416Z
DTSTART:20260516T200000Z
DTEND:20260517T010000Z
URL:https://offbeat.amsterdam/event/kinetic-energy-the-second-chapter
GEO:52.3601403;4.8656923
LOCATION:OT301 - Overtoom 301\, 1054 HW Amsterdam
STATUS:CONFIRMED
CATEGORIES:happy hardcore,amsterdam-west,breakbeat,community,early hardcore
	,early rave,gabber,hardcore,jungle,rave,vinyl,vondelparkbuurt
END:VEVENT
BEGIN:VEVENT
UID:8115@offbeat.amsterdam
SUMMARY:The Space Choir
DTSTAMP:20260421T085416Z
DTSTART:20260518T153000Z
URL:https://offbeat.amsterdam/event/the-space-choir-36
GEO:52.3830883;4.9030297
LOCATION:Tolhuistuin - IJpromenade 2\, 1031 KT Amsterdam
STATUS:CONFIRMED
CATEGORIES:queer,amsterdam-noord,buiksloterweg,community,jungle
END:VEVENT
BEGIN:VEVENT
UID:20938@offbeat.amsterdam
SUMMARY:Cheeky Monday: VIBEZ RECORDINGS!
DTSTAMP:20260421T085416Z
DTSTART:20260518T210000Z
URL:https://offbeat.amsterdam/event/cheeky-monday-vibez-recordings
GEO:52.3647777;4.881073026725959
LOCATION:Melkweg - Lijnbaansgracht 234A\, 1017 PH Amsterdam
STATUS:CONFIRMED
CATEGORIES:club,leidseplein,jungle,club night,drum & bass,amsterdam-centrum
END:VEVENT
BEGIN:VEVENT
UID:8099@offbeat.amsterdam
SUMMARY:The Space Choir
DTSTAMP:20260421T085416Z
DTSTART:20260520T180000Z
URL:https://offbeat.amsterdam/event/the-space-choir-20
GEO:52.3830883;4.9030297
LOCATION:Tolhuistuin - IJpromenade 2\, 1031 KT Amsterdam
STATUS:CONFIRMED
CATEGORIES:jungle,queer,buiksloterweg,amsterdam-noord,community
END:VEVENT
BEGIN:VEVENT
UID:20624@offbeat.amsterdam
SUMMARY:Here come the Drumz
DTSTAMP:20260421T085416Z
DTSTART:20260522T200000Z
DTEND:20260523T010000Z
URL:https://offbeat.amsterdam/event/here-come-the-drumz-1
GEO:52.3601403;4.8656923
LOCATION:OT301 - Overtoom 301\, 1054 HW Amsterdam
STATUS:CONFIRMED
CATEGORIES:hardcore,amsterdam-west,breakbeat,dance,jungle,vondelparkbuurt
END:VEVENT
BEGIN:VEVENT
UID:17421@offbeat.amsterdam
SUMMARY:Harimau (3+)
DTSTAMP:20260421T085416Z
DTSTART:20260525T130000Z
DTEND:20260525T134000Z
URL:https://offbeat.amsterdam/event/harimau-3
GEO:52.3608907;4.9138063
LOCATION:Plein Theater - Sajetplein 39\, 1091 DB Amsterdam
STATUS:CONFIRMED
CATEGORIES:amsterdam-oost,theater,performance,oosterparkbuurt,music,kids,ju
	ngle
END:VEVENT
BEGIN:VEVENT
UID:8116@offbeat.amsterdam
SUMMARY:The Space Choir
DTSTAMP:20260421T085416Z
DTSTART:20260525T153000Z
URL:https://offbeat.amsterdam/event/the-space-choir-37
GEO:52.3830883;4.9030297
LOCATION:Tolhuistuin - IJpromenade 2\, 1031 KT Amsterdam
STATUS:CONFIRMED
CATEGORIES:buiksloterweg,queer,jungle,community,amsterdam-noord
END:VEVENT
BEGIN:VEVENT
UID:20935@offbeat.amsterdam
SUMMARY:Cheeky Monday: 21 Years of Cheeky!
DTSTAMP:20260421T085416Z
DTSTART:20260525T210000Z
URL:https://offbeat.amsterdam/event/cheeky-monday-21-years-of-cheeky
GEO:52.3647777;4.881073026725959
LOCATION:Melkweg - Lijnbaansgracht 234A\, 1017 PH Amsterdam
STATUS:CONFIRMED
CATEGORIES:leidseplein,jungle,drum & bass,club night,club,amsterdam-centrum
END:VEVENT
BEGIN:VEVENT
UID:8100@offbeat.amsterdam
SUMMARY:The Space Choir
DTSTAMP:20260421T085416Z
DTSTART:20260527T180000Z
URL:https://offbeat.amsterdam/event/the-space-choir-21
GEO:52.3830883;4.9030297
LOCATION:Tolhuistuin - IJpromenade 2\, 1031 KT Amsterdam
STATUS:CONFIRMED
CATEGORIES:jungle,community,buiksloterweg,amsterdam-noord,queer
END:VEVENT
BEGIN:VEVENT
UID:20666@offbeat.amsterdam
SUMMARY:Breakbeats For Breakfast
DTSTAMP:20260421T085416Z
DTSTART:20260530T200000Z
DTEND:20260531T010000Z
URL:https://offbeat.amsterdam/event/breakbeats-for-breakfast-1
GEO:52.3601403;4.8656923
LOCATION:OT301 - Overtoom 301\, 1054 HW Amsterdam
STATUS:CONFIRMED
CATEGORIES:vondelparkbuurt,music,jungle,amsterdam-west
END:VEVENT
BEGIN:VEVENT
UID:18011@offbeat.amsterdam
SUMMARY:The Space Choir
DTSTAMP:20260421T085416Z
DTSTART:20260601T153000Z
URL:https://offbeat.amsterdam/event/the-space-choir-38
GEO:52.3830883;4.9030297
LOCATION:Tolhuistuin - IJpromenade 2\, 1031 KT Amsterdam
STATUS:CONFIRMED
CATEGORIES:amsterdam-noord,buiksloterweg,community,jungle,queer
END:VEVENT
BEGIN:VEVENT
UID:8101@offbeat.amsterdam
SUMMARY:The Space Choir
DTSTAMP:20260421T085416Z
DTSTART:20260603T180000Z
URL:https://offbeat.amsterdam/event/the-space-choir-22
GEO:52.3830883;4.9030297
LOCATION:Tolhuistuin - IJpromenade 2\, 1031 KT Amsterdam
STATUS:CONFIRMED
CATEGORIES:buiksloterweg,community,jungle,queer,amsterdam-noord
END:VEVENT
BEGIN:VEVENT
UID:18012@offbeat.amsterdam
SUMMARY:The Space Choir
DTSTAMP:20260421T085416Z
DTSTART:20260608T153000Z
URL:https://offbeat.amsterdam/event/the-space-choir-39
GEO:52.3830883;4.9030297
LOCATION:Tolhuistuin - IJpromenade 2\, 1031 KT Amsterdam
STATUS:CONFIRMED
CATEGORIES:community,jungle,queer,amsterdam-noord,buiksloterweg
END:VEVENT
BEGIN:VEVENT
UID:8102@offbeat.amsterdam
SUMMARY:The Space Choir
DTSTAMP:20260421T085416Z
DTSTART:20260610T180000Z
URL:https://offbeat.amsterdam/event/the-space-choir-23
GEO:52.3830883;4.9030297
LOCATION:Tolhuistuin - IJpromenade 2\, 1031 KT Amsterdam
STATUS:CONFIRMED
CATEGORIES:amsterdam-noord,community,jungle,queer,buiksloterweg
END:VEVENT
BEGIN:VEVENT
UID:20011@offbeat.amsterdam
SUMMARY:MASSIEF
DTSTAMP:20260421T085416Z
DTSTART:20260613T190000Z
DTEND:20260614T010000Z
URL:https://offbeat.amsterdam/event/massief
GEO:52.3601403;4.8656923
LOCATION:OT301 - Overtoom 301\, 1054 HW Amsterdam
STATUS:CONFIRMED
CATEGORIES:experimental,amsterdam-west,bass,breakbeat,community,dance,dj,dr
	um & bass,dnb,dubstep,electronic,electronics,exhibition,vondelparkbuurt,vi
	nyl,techno,talk,rave,party,music,jungle,hardcore,festivals
END:VEVENT
BEGIN:VEVENT
UID:18013@offbeat.amsterdam
SUMMARY:The Space Choir
DTSTAMP:20260421T085416Z
DTSTART:20260615T153000Z
URL:https://offbeat.amsterdam/event/the-space-choir-40
GEO:52.3830883;4.9030297
LOCATION:Tolhuistuin - IJpromenade 2\, 1031 KT Amsterdam
STATUS:CONFIRMED
CATEGORIES:amsterdam-noord,buiksloterweg,community,jungle,queer
END:VEVENT
BEGIN:VEVENT
UID:8103@offbeat.amsterdam
SUMMARY:The Space Choir
DTSTAMP:20260421T085416Z
DTSTART:20260617T180000Z
URL:https://offbeat.amsterdam/event/the-space-choir-24
GEO:52.3830883;4.9030297
LOCATION:Tolhuistuin - IJpromenade 2\, 1031 KT Amsterdam
STATUS:CONFIRMED
CATEGORIES:amsterdam-noord,queer,buiksloterweg,community,jungle
END:VEVENT
BEGIN:VEVENT
UID:20195@offbeat.amsterdam
SUMMARY:KING SHILOH
DTSTAMP:20260421T085416Z
DTSTART:20260620T130000Z
DTEND:20260621T010000Z
URL:https://offbeat.amsterdam/event/king-shiloh
GEO:52.3854467;4.9256035
LOCATION:Skatecafe Karin & Yvonne - Gedempt Hamerkanaal 42\, 1021 KM Amster
	dam
STATUS:CONFIRMED
CATEGORIES:hamerkwartier,amsterdam-noord,reggae,jungle
END:VEVENT
BEGIN:VEVENT
UID:18014@offbeat.amsterdam
SUMMARY:The Space Choir
DTSTAMP:20260421T085416Z
DTSTART:20260622T153000Z
URL:https://offbeat.amsterdam/event/the-space-choir-41
GEO:52.3830883;4.9030297
LOCATION:Tolhuistuin - IJpromenade 2\, 1031 KT Amsterdam
STATUS:CONFIRMED
CATEGORIES:community,jungle,queer,amsterdam-noord,buiksloterweg
END:VEVENT
BEGIN:VEVENT
UID:8104@offbeat.amsterdam
SUMMARY:The Space Choir
DTSTAMP:20260421T085416Z
DTSTART:20260624T180000Z
URL:https://offbeat.amsterdam/event/the-space-choir-25
GEO:52.3830883;4.9030297
LOCATION:Tolhuistuin - IJpromenade 2\, 1031 KT Amsterdam
STATUS:CONFIRMED
CATEGORIES:buiksloterweg,queer,jungle,community,amsterdam-noord
END:VEVENT
BEGIN:VEVENT
UID:18015@offbeat.amsterdam
SUMMARY:The Space Choir
DTSTAMP:20260421T085416Z
DTSTART:20260629T153000Z
URL:https://offbeat.amsterdam/event/the-space-choir-42
GEO:52.3830883;4.9030297
LOCATION:Tolhuistuin - IJpromenade 2\, 1031 KT Amsterdam
STATUS:CONFIRMED
CATEGORIES:amsterdam-noord,buiksloterweg,community,jungle,queer
END:VEVENT
BEGIN:VEVENT
UID:8105@offbeat.amsterdam
SUMMARY:The Space Choir
DTSTAMP:20260421T085416Z
DTSTART:20260701T180000Z
URL:https://offbeat.amsterdam/event/the-space-choir-26
GEO:52.3830883;4.9030297
LOCATION:Tolhuistuin - IJpromenade 2\, 1031 KT Amsterdam
STATUS:CONFIRMED
CATEGORIES:queer,amsterdam-noord,buiksloterweg,community,jungle
END:VEVENT
BEGIN:VEVENT
UID:20865@offbeat.amsterdam
SUMMARY:16mm Cult Movie Night
DTSTAMP:20260421T085416Z
DTSTART:20260702T173000Z
DTEND:20260702T210000Z
URL:https://offbeat.amsterdam/event/16mm-cult-movie-night-4
GEO:52.3601403;4.8656923
LOCATION:OT301 - Overtoom 301\, 1054 HW Amsterdam
STATUS:CONFIRMED
CATEGORIES:amsterdam-west,vondelparkbuurt,jungle,movie night,talk,theater,f
	ilm
END:VEVENT
BEGIN:VEVENT
UID:18016@offbeat.amsterdam
SUMMARY:The Space Choir
DTSTAMP:20260421T085416Z
DTSTART:20260706T153000Z
URL:https://offbeat.amsterdam/event/the-space-choir-43
GEO:52.3830883;4.9030297
LOCATION:Tolhuistuin - IJpromenade 2\, 1031 KT Amsterdam
STATUS:CONFIRMED
CATEGORIES:jungle,queer,amsterdam-noord,buiksloterweg,community
END:VEVENT
BEGIN:VEVENT
UID:8106@offbeat.amsterdam
SUMMARY:The Space Choir
DTSTAMP:20260421T085416Z
DTSTART:20260708T180000Z
URL:https://offbeat.amsterdam/event/the-space-choir-27
GEO:52.3830883;4.9030297
LOCATION:Tolhuistuin - IJpromenade 2\, 1031 KT Amsterdam
STATUS:CONFIRMED
CATEGORIES:jungle,queer,amsterdam-noord,buiksloterweg,community
END:VEVENT
BEGIN:VEVENT
UID:18017@offbeat.amsterdam
SUMMARY:The Space Choir
DTSTAMP:20260421T085416Z
DTSTART:20260713T153000Z
URL:https://offbeat.amsterdam/event/the-space-choir-44
GEO:52.3830883;4.9030297
LOCATION:Tolhuistuin - IJpromenade 2\, 1031 KT Amsterdam
STATUS:CONFIRMED
CATEGORIES:queer,amsterdam-noord,buiksloterweg,community,jungle
END:VEVENT
BEGIN:VEVENT
UID:18021@offbeat.amsterdam
SUMMARY:The Space Choir
DTSTAMP:20260421T085416Z
DTSTART:20260715T180000Z
URL:https://offbeat.amsterdam/event/the-space-choir-48
GEO:52.3830883;4.9030297
LOCATION:Tolhuistuin - IJpromenade 2\, 1031 KT Amsterdam
STATUS:CONFIRMED
CATEGORIES:community,buiksloterweg,amsterdam-noord,queer,jungle
END:VEVENT
BEGIN:VEVENT
UID:18020@offbeat.amsterdam
SUMMARY:The Space Choir
DTSTAMP:20260421T085416Z
DTSTART:20260715T180000Z
URL:https://offbeat.amsterdam/event/the-space-choir-47
GEO:52.3830883;4.9030297
LOCATION:Tolhuistuin - IJpromenade 2\, 1031 KT Amsterdam
STATUS:CONFIRMED
CATEGORIES:queer,jungle,buiksloterweg,community,amsterdam-noord
END:VEVENT
BEGIN:VEVENT
UID:8108@offbeat.amsterdam
SUMMARY:The Space Choir
DTSTAMP:20260421T085416Z
DTSTART:20260715T180000Z
URL:https://offbeat.amsterdam/event/the-space-choir-29
GEO:52.3830883;4.9030297
LOCATION:Tolhuistuin - IJpromenade 2\, 1031 KT Amsterdam
STATUS:CONFIRMED
CATEGORIES:amsterdam-noord,buiksloterweg,community,jungle,queer
END:VEVENT
BEGIN:VEVENT
UID:8107@offbeat.amsterdam
SUMMARY:The Space Choir
DTSTAMP:20260421T085416Z
DTSTART:20260715T180000Z
URL:https://offbeat.amsterdam/event/the-space-choir-28
GEO:52.3830883;4.9030297
LOCATION:Tolhuistuin - IJpromenade 2\, 1031 KT Amsterdam
STATUS:CONFIRMED
CATEGORIES:community,jungle,queer,buiksloterweg,amsterdam-noord
END:VEVENT
BEGIN:VEVENT
UID:18018@offbeat.amsterdam
SUMMARY:The Space Choir
DTSTAMP:20260421T085416Z
DTSTART:20260720T153000Z
URL:https://offbeat.amsterdam/event/the-space-choir-45
GEO:52.3830883;4.9030297
LOCATION:Tolhuistuin - IJpromenade 2\, 1031 KT Amsterdam
STATUS:CONFIRMED
CATEGORIES:jungle,community,buiksloterweg,amsterdam-noord,queer
END:VEVENT
BEGIN:VEVENT
UID:18019@offbeat.amsterdam
SUMMARY:The Space Choir
DTSTAMP:20260421T085416Z
DTSTART:20260727T153000Z
URL:https://offbeat.amsterdam/event/the-space-choir-46
GEO:52.3830883;4.9030297
LOCATION:Tolhuistuin - IJpromenade 2\, 1031 KT Amsterdam
STATUS:CONFIRMED
CATEGORIES:jungle,queer,buiksloterweg,community,amsterdam-noord
END:VEVENT
BEGIN:VEVENT
UID:20118@offbeat.amsterdam
SUMMARY:Curated by Break
DTSTAMP:20260421T085416Z
DTSTART:20260919T213000Z
URL:https://offbeat.amsterdam/event/curated-by-break
GEO:52.3647777;4.881073026725959
LOCATION:Melkweg - Lijnbaansgracht 234A\, 1017 PH Amsterdam
STATUS:CONFIRMED
CATEGORIES:amsterdam-centrum,club,jungle,leidseplein,drum & bass,club night
END:VEVENT
END:VCALENDAR
