BEGIN:VCALENDAR
VERSION:2.0
CALSCALE:GREGORIAN
PRODID:adamgibbons/ics
METHOD:PUBLISH
X-PUBLISHED-TTL:PT1H
BEGIN:VEVENT
UID:20614@offbeat.amsterdam
SUMMARY:‘Tallyman-(D.E)
DTSTAMP:20260420T155128Z
DTSTART:20260424T200000Z
DTEND:20260425T013000Z
URL:https://offbeat.amsterdam/event/tallyman-de
GEO:52.370056;4.8777163
LOCATION:Maloe Melo - Lijnbaansgracht 163\, 1016 VX Amsterdam
STATUS:CONFIRMED
CATEGORIES:blues,live concert,jordaan,dj,amsterdam-centrum
END:VEVENT
BEGIN:VEVENT
UID:20613@offbeat.amsterdam
SUMMARY:Reggae Night
DTSTAMP:20260420T155128Z
DTSTART:20260425T200000Z
DTEND:20260426T013000Z
URL:https://offbeat.amsterdam/event/reggae-night-1
GEO:52.370056;4.8777163
LOCATION:Maloe Melo - Lijnbaansgracht 163\, 1016 VX Amsterdam
STATUS:CONFIRMED
CATEGORIES:dj,jordaan,live,live concert,reggae,amsterdam-centrum
END:VEVENT
BEGIN:VEVENT
UID:20612@offbeat.amsterdam
SUMMARY:KINGS NIGHT LIVE: the-Hi-STAKES
DTSTAMP:20260420T155128Z
DTSTART:20260426T200000Z
DTEND:20260427T013000Z
URL:https://offbeat.amsterdam/event/kings-night-live-the-hi-stakes
GEO:52.370056;4.8777163
LOCATION:Maloe Melo - Lijnbaansgracht 163\, 1016 VX Amsterdam
STATUS:CONFIRMED
CATEGORIES:amsterdam-centrum,dj,jordaan,live,live concert,blues
END:VEVENT
BEGIN:VEVENT
UID:20953@offbeat.amsterdam
SUMMARY:Barrence Whitfield (USA)
DTSTAMP:20260420T155128Z
DTSTART:20260508T200000Z
DTEND:20260509T013000Z
URL:https://offbeat.amsterdam/event/barrence-whitfield-usa
GEO:52.370056;4.8777163
LOCATION:Maloe Melo - Lijnbaansgracht 163\, 1016 VX Amsterdam
STATUS:CONFIRMED
CATEGORIES:soul,jordaan,live concert,party,rnb,amsterdam beatclub,amsterdam
	-centrum
END:VEVENT
BEGIN:VEVENT
UID:20246@offbeat.amsterdam
SUMMARY:Spectral Invites
DTSTAMP:20260420T155128Z
DTSTART:20260509T210000Z
DTEND:20260510T040000Z
URL:https://offbeat.amsterdam/event/spectral-invites-1
GEO:52.3729576;4.878229
LOCATION:Bar Theo - Rozengracht 160\, 1016 NJ\, Amsterdam
STATUS:CONFIRMED
CATEGORIES:jordaan,breakbeat,bass,amsterdam-centrum
END:VEVENT
END:VCALENDAR
