BEGIN:VCALENDAR
VERSION:2.0
CALSCALE:GREGORIAN
PRODID:adamgibbons/ics
METHOD:PUBLISH
X-PUBLISHED-TTL:PT1H
BEGIN:VEVENT
UID:19945@offbeat.amsterdam
SUMMARY:Wie Walvis – Onder de Grond (4+)
DTSTAMP:20260421T151644Z
DTSTART:20260503T123000Z
URL:https://offbeat.amsterdam/event/wie-walvis-onder-de-grond-4
GEO:52.3711125;4.8900771
LOCATION:Theater de Richel - Nieuwezijds Voorburgwal 282\, 1012 RT Amsterda
	m
STATUS:CONFIRMED
CATEGORIES:amsterdam-centrum,jeugd,music,spui,theater
END:VEVENT
END:VCALENDAR
