BEGIN:VCALENDAR
VERSION:2.0
CALSCALE:GREGORIAN
PRODID:adamgibbons/ics
METHOD:PUBLISH
X-PUBLISHED-TTL:PT1H
BEGIN:VEVENT
UID:18961@offbeat.amsterdam
SUMMARY:Donny Benét
DTSTAMP:20260422T084931Z
DTSTART:20260930T170000Z
URL:https://offbeat.amsterdam/event/donny-benet
GEO:52.3647777;4.881073026725959
LOCATION:Melkweg - Lijnbaansgracht 234A\, 1017 PH Amsterdam
STATUS:CONFIRMED
CATEGORIES:80's,amsterdam-centrum,concert,italodisco,leidseplein,synth-pop
END:VEVENT
END:VCALENDAR
