BEGIN:VCALENDAR
VERSION:2.0
CALSCALE:GREGORIAN
PRODID:adamgibbons/ics
METHOD:PUBLISH
X-PUBLISHED-TTL:PT1H
BEGIN:VEVENT
UID:18446@offbeat.amsterdam
SUMMARY:Jazz Underground
DTSTAMP:20260420T003325Z
DTSTART:20260423T190000Z
URL:https://offbeat.amsterdam/event/jazz-underground-19
GEO:52.3711125;4.8900771
LOCATION:Theater de Richel - Nieuwezijds Voorburgwal 282\, 1012 RT Amsterda
	m
STATUS:CONFIRMED
CATEGORIES:spui,muziek,jazz,jam session,gratis,amsterdam-centrum
END:VEVENT
BEGIN:VEVENT
UID:17328@offbeat.amsterdam
SUMMARY:Sammies Secret Cinema: Sholay (1975)
DTSTAMP:20260420T003325Z
DTSTART:20260517T180000Z
URL:https://offbeat.amsterdam/event/sammies-secret-cinema-sholay-1975
GEO:52.3711125;4.8900771
LOCATION:Theater de Richel - Nieuwezijds Voorburgwal 282\, 1012 RT Amsterda
	m
STATUS:CONFIRMED
CATEGORIES:amsterdam-centrum,cinema,classics,film,gratis,spui
END:VEVENT
BEGIN:VEVENT
UID:17330@offbeat.amsterdam
SUMMARY:Sammies Secret Cinema: TBA
DTSTAMP:20260420T003325Z
DTSTART:20260614T180000Z
URL:https://offbeat.amsterdam/event/sammies-secret-cinema-tba
GEO:52.3711125;4.8900771
LOCATION:Theater de Richel - Nieuwezijds Voorburgwal 282\, 1012 RT Amsterda
	m
STATUS:CONFIRMED
CATEGORIES:spui,gratis,film,classics,cinema,amsterdam-centrum
END:VEVENT
END:VCALENDAR
