BEGIN:VCALENDAR
VERSION:2.0
CALSCALE:GREGORIAN
PRODID:adamgibbons/ics
METHOD:PUBLISH
X-PUBLISHED-TTL:PT1H
BEGIN:VEVENT
UID:20126@offbeat.amsterdam
SUMMARY:Masquerade Prom Ball | books + razeen + oh non + bammetje + milkboy
	 + prom vagabonds
DTSTAMP:20260420T160853Z
DTSTART:20260508T170000Z
URL:https://offbeat.amsterdam/event/masquerade-prom-ball-or-books-razeen-oh
	-non-bammetje-milkboy-prom-vagabonds
GEO:52.3528265;4.906568
LOCATION:Cinetol - Tolstraat 182\, 1074 VM Amsterdam
STATUS:CONFIRMED
CATEGORIES:schorem,amsterdam-zuid,books,de pijp,experimental,garage,postpun
	k
END:VEVENT
BEGIN:VEVENT
UID:20352@offbeat.amsterdam
SUMMARY:SKDG - BRET
DTSTAMP:20260420T160853Z
DTSTART:20260531T130000Z
DTEND:20260601T010000Z
URL:https://offbeat.amsterdam/event/skdg-bret
GEO:52.3898525;4.836764
LOCATION:Bret - Orlyplein 76\, 1043 DP Amsterdam
STATUS:CONFIRMED
CATEGORIES:house,sloterdijk,amsterdam-west,garage
END:VEVENT
BEGIN:VEVENT
UID:19739@offbeat.amsterdam
SUMMARY:Death Sells | support: ioana iorgu
DTSTAMP:20260420T160853Z
DTSTART:20260604T180000Z
URL:https://offbeat.amsterdam/event/death-sells
GEO:52.3528265;4.906568
LOCATION:Cinetol - Tolstraat 182\, 1074 VM Amsterdam
STATUS:CONFIRMED
CATEGORIES:rap,amsterdam-zuid,festivals,de pijp,garage,live,punk
END:VEVENT
BEGIN:VEVENT
UID:19694@offbeat.amsterdam
SUMMARY:Good Flying Birds
DTSTAMP:20260420T160853Z
DTSTART:20260615T180000Z
URL:https://offbeat.amsterdam/event/good-flying-birds
GEO:52.3528265;4.906568
LOCATION:Cinetol - Tolstraat 182\, 1074 VM Amsterdam
STATUS:CONFIRMED
CATEGORIES:amsterdam-zuid,de pijp,garage,pop,vinyl
END:VEVENT
BEGIN:VEVENT
UID:20842@offbeat.amsterdam
SUMMARY:Dani Antal | ep release
DTSTAMP:20260420T160853Z
DTSTART:20260618T180000Z
URL:https://offbeat.amsterdam/event/dani-antal-or-ep-release
GEO:52.3528265;4.906568
LOCATION:Cinetol - Tolstraat 182\, 1074 VM Amsterdam
STATUS:CONFIRMED
CATEGORIES:schorem,de pijp,garage,indie,live,music,performance,rock,amsterd
	am-zuid
END:VEVENT
BEGIN:VEVENT
UID:20787@offbeat.amsterdam
SUMMARY:CLAMM
DTSTAMP:20260420T160853Z
DTSTART:20260719T180000Z
URL:https://offbeat.amsterdam/event/clamm-1
GEO:52.3528265;4.906568
LOCATION:Cinetol - Tolstraat 182\, 1074 VM Amsterdam
STATUS:CONFIRMED
CATEGORIES:de pijp,festivals,garage,music,postpunk,punk,amsterdam-zuid
END:VEVENT
END:VCALENDAR
