BEGIN:VCALENDAR
VERSION:2.0
CALSCALE:GREGORIAN
PRODID:adamgibbons/ics
METHOD:PUBLISH
X-PUBLISHED-TTL:PT1H
BEGIN:VEVENT
UID:12923@offbeat.amsterdam
SUMMARY:Marlon Williams
DTSTAMP:20260420T035424Z
DTSTART:20260420T173000Z
URL:https://offbeat.amsterdam/event/marlon-williams
GEO:52.3647777;4.881073026725959
LOCATION:Melkweg - Lijnbaansgracht 234A\, 1017 PH Amsterdam
STATUS:CONFIRMED
CATEGORIES:concert,amsterdam-centrum,singer-songwriter,leidseplein,folk,cou
	ntry
END:VEVENT
BEGIN:VEVENT
UID:14020@offbeat.amsterdam
SUMMARY:Ben Caplan
DTSTAMP:20260420T035424Z
DTSTART:20260423T173000Z
URL:https://offbeat.amsterdam/event/ben-caplan
GEO:52.3647777;4.881073026725959
LOCATION:Melkweg - Lijnbaansgracht 234A\, 1017 PH Amsterdam
STATUS:CONFIRMED
CATEGORIES:leidseplein,poetic,amsterdam-centrum,concert,folk
END:VEVENT
BEGIN:VEVENT
UID:9408@offbeat.amsterdam
SUMMARY:UMI
DTSTAMP:20260420T035424Z
DTSTART:20260425T170000Z
URL:https://offbeat.amsterdam/event/umi
GEO:52.3647777;4.881073026725959
LOCATION:Melkweg - Lijnbaansgracht 234A\, 1017 PH Amsterdam
STATUS:CONFIRMED
CATEGORIES:leidseplein,r&b,amsterdam-centrum,concert,folk,neo-soul
END:VEVENT
BEGIN:VEVENT
UID:19271@offbeat.amsterdam
SUMMARY:Lello Analfino + Shakalab | met dj yanez & t-orchestra
DTSTAMP:20260420T035424Z
DTSTART:20260505T173000Z
URL:https://offbeat.amsterdam/event/lello-analfino-shakalab-or-met-dj-yanez
	-and-t-orchestra
GEO:52.3528265;4.906568
LOCATION:Cinetol - Tolstraat 182\, 1074 VM Amsterdam
STATUS:CONFIRMED
CATEGORIES:de pijp,folk,dj,amsterdam-zuid,music,orchestra,reggae,hip-hop
END:VEVENT
BEGIN:VEVENT
UID:19795@offbeat.amsterdam
SUMMARY:Send Me Flowers | support: mart martinus
DTSTAMP:20260420T035424Z
DTSTART:20260507T180000Z
URL:https://offbeat.amsterdam/event/send-me-flowers-or-support-mart-martinu
	s
GEO:52.3528265;4.906568
LOCATION:Cinetol - Tolstraat 182\, 1074 VM Amsterdam
STATUS:CONFIRMED
CATEGORIES:folk,de pijp,amsterdam-zuid
END:VEVENT
BEGIN:VEVENT
UID:17667@offbeat.amsterdam
SUMMARY:Tamara van Esch | album release show | support: the marta arpini & 
	abel natürlich band
DTSTAMP:20260420T035424Z
DTSTART:20260510T180000Z
URL:https://offbeat.amsterdam/event/tamara-van-esch-or-album-release-show
GEO:52.3528265;4.906568
LOCATION:Cinetol - Tolstraat 182\, 1074 VM Amsterdam
STATUS:CONFIRMED
CATEGORIES:de pijp,music,indie,folk,amsterdam-zuid
END:VEVENT
BEGIN:VEVENT
UID:15357@offbeat.amsterdam
SUMMARY:DakhaBrakha
DTSTAMP:20260420T035424Z
DTSTART:20260515T170000Z
URL:https://offbeat.amsterdam/event/dakhabrakha
GEO:52.3647777;4.881073026725959
LOCATION:Melkweg - Lijnbaansgracht 234A\, 1017 PH Amsterdam
STATUS:CONFIRMED
CATEGORIES:concert,traditional,leidseplein,folk,experimental,amsterdam-cent
	rum
END:VEVENT
BEGIN:VEVENT
UID:19934@offbeat.amsterdam
SUMMARY:Lara | ep release
DTSTAMP:20260420T035424Z
DTSTART:20260517T180000Z
URL:https://offbeat.amsterdam/event/lara-or-ep-release
GEO:52.3528265;4.906568
LOCATION:Cinetol - Tolstraat 182\, 1074 VM Amsterdam
STATUS:CONFIRMED
CATEGORIES:live,amsterdam-zuid,de pijp,folk,pop
END:VEVENT
BEGIN:VEVENT
UID:15329@offbeat.amsterdam
SUMMARY:Goose (USA)
DTSTAMP:20260420T035424Z
DTSTART:20260527T170000Z
URL:https://offbeat.amsterdam/event/goose-usa
GEO:52.3647777;4.881073026725959
LOCATION:Melkweg - Lijnbaansgracht 234A\, 1017 PH Amsterdam
STATUS:CONFIRMED
CATEGORIES:concert,amsterdam-centrum,psychedelic rock,leidseplein,groovy,fo
	lk
END:VEVENT
BEGIN:VEVENT
UID:15330@offbeat.amsterdam
SUMMARY:Goose (USA)
DTSTAMP:20260420T035424Z
DTSTART:20260528T170000Z
URL:https://offbeat.amsterdam/event/goose-usa-1
GEO:52.3647777;4.881073026725959
LOCATION:Melkweg - Lijnbaansgracht 234A\, 1017 PH Amsterdam
STATUS:CONFIRMED
CATEGORIES:leidseplein,amsterdam-centrum,folk,groovy,psychedelic rock,conce
	rt
END:VEVENT
BEGIN:VEVENT
UID:18255@offbeat.amsterdam
SUMMARY:John Vincent III
DTSTAMP:20260420T035424Z
DTSTART:20260531T173000Z
URL:https://offbeat.amsterdam/event/john-vincent-iii
GEO:52.3647777;4.881073026725959
LOCATION:Melkweg - Lijnbaansgracht 234A\, 1017 PH Amsterdam
STATUS:CONFIRMED
CATEGORIES:concert,leidseplein,singer-songwriter,amsterdam-centrum,folk
END:VEVENT
BEGIN:VEVENT
UID:18359@offbeat.amsterdam
SUMMARY:The Bridge City Sinners
DTSTAMP:20260420T035424Z
DTSTART:20260704T170000Z
URL:https://offbeat.amsterdam/event/the-bridge-city-sinners
GEO:52.3647777;4.881073026725959
LOCATION:Melkweg - Lijnbaansgracht 234A\, 1017 PH Amsterdam
STATUS:CONFIRMED
CATEGORIES:dark,punk,leidseplein,amsterdam-centrum,concert,folk
END:VEVENT
BEGIN:VEVENT
UID:20952@offbeat.amsterdam
SUMMARY:Nikki Szofia
DTSTAMP:20260420T035424Z
DTSTART:20260905T173000Z
URL:https://offbeat.amsterdam/event/nikki-szofia
GEO:52.3528265;4.906568
LOCATION:Cinetol - Tolstraat 182\, 1074 VM Amsterdam
STATUS:CONFIRMED
CATEGORIES:indie,folk,music,poetry,amsterdam-zuid,de pijp
END:VEVENT
BEGIN:VEVENT
UID:9332@offbeat.amsterdam
SUMMARY:Cory Hanson
DTSTAMP:20260420T035424Z
DTSTART:20260919T180000Z
URL:https://offbeat.amsterdam/event/cory-hanson
GEO:52.3528265;4.906568
LOCATION:Cinetol - Tolstraat 182\, 1074 VM Amsterdam
STATUS:CONFIRMED
CATEGORIES:amsterdam-zuid,rock,psychedelisch,music,folk,de pijp,concert
END:VEVENT
BEGIN:VEVENT
UID:18036@offbeat.amsterdam
SUMMARY:Gavin James
DTSTAMP:20260420T035424Z
DTSTART:20261111T180000Z
URL:https://offbeat.amsterdam/event/gavin-james-1
GEO:52.3647777;4.881073026725959
LOCATION:Melkweg - Lijnbaansgracht 234A\, 1017 PH Amsterdam
STATUS:CONFIRMED
CATEGORIES:folk,leidseplein,pop,amsterdam-centrum,indie,concert
END:VEVENT
BEGIN:VEVENT
UID:20130@offbeat.amsterdam
SUMMARY:Chico Chico
DTSTAMP:20260420T035424Z
DTSTART:20261120T183000Z
URL:https://offbeat.amsterdam/event/chico-chico
GEO:52.3647777;4.881073026725959
LOCATION:Melkweg - Lijnbaansgracht 234A\, 1017 PH Amsterdam
STATUS:CONFIRMED
CATEGORIES:pop rock,folk,amsterdam-centrum,concert,leidseplein
END:VEVENT
BEGIN:VEVENT
UID:19085@offbeat.amsterdam
SUMMARY:New Model Army
DTSTAMP:20260420T035424Z
DTSTART:20261220T180000Z
URL:https://offbeat.amsterdam/event/new-model-army-1
GEO:52.3647777;4.881073026725959
LOCATION:Melkweg - Lijnbaansgracht 234A\, 1017 PH Amsterdam
STATUS:CONFIRMED
CATEGORIES:folk,metal,punk,amsterdam-centrum,concert,leidseplein
END:VEVENT
BEGIN:VEVENT
UID:10066@offbeat.amsterdam
SUMMARY:Keywest
DTSTAMP:20260420T035424Z
DTSTART:20270207T183000Z
URL:https://offbeat.amsterdam/event/keywest-1
GEO:52.3647777;4.881073026725959
LOCATION:Melkweg - Lijnbaansgracht 234A\, 1017 PH Amsterdam
STATUS:CONFIRMED
CATEGORIES:folk,folk pop,indie pop,leidseplein,amsterdam-centrum,concert
END:VEVENT
END:VCALENDAR
