BEGIN:VCALENDAR
VERSION:2.0
CALSCALE:GREGORIAN
PRODID:adamgibbons/ics
METHOD:PUBLISH
X-PUBLISHED-TTL:PT1H
BEGIN:VEVENT
UID:20889@offbeat.amsterdam
SUMMARY:Looking back at: Wie We Welzijn
DTSTAMP:20260422T102838Z
DTSTART:20260430T150000Z
DTEND:20260430T170000Z
URL:https://offbeat.amsterdam/event/looking-back-at-wie-we-welzijn
GEO:52.3737514;4.8959885
LOCATION:W139 - Warmoesstraat 139\, 1012 JB Amsterdam
STATUS:CONFIRMED
CATEGORIES:amsterdam-centrum,event,oude kerk,stories,talk
END:VEVENT
BEGIN:VEVENT
UID:21004@offbeat.amsterdam
SUMMARY:kiln as kin: clay oven building workshop
DTSTAMP:20260422T102838Z
DTSTART:20260509T080000Z
DTEND:20260509T150000Z
URL:https://offbeat.amsterdam/event/kiln-as-kin-clay-oven-building-workshop
GEO:52.3737514;4.8959885
LOCATION:W139 - Warmoesstraat 139\, 1012 JB Amsterdam
STATUS:CONFIRMED
CATEGORIES:workshop,amsterdam-centrum,community,event,food,live,oude kerk
END:VEVENT
BEGIN:VEVENT
UID:21003@offbeat.amsterdam
SUMMARY:kiln as kin: a day of gathering\, firing\, cooking
DTSTAMP:20260422T102838Z
DTSTART:20260613T120000Z
DTEND:20260613T180000Z
URL:https://offbeat.amsterdam/event/kiln-as-kin-a-day-of-gathering-firing-c
	ooking
GEO:52.3737514;4.8959885
LOCATION:W139 - Warmoesstraat 139\, 1012 JB Amsterdam
STATUS:CONFIRMED
CATEGORIES:food,live,oude kerk,sculpture,stories,talk,workshop,amsterdam-ce
	ntrum,books,community,dinner,event,exhibition,film
END:VEVENT
END:VCALENDAR
