BEGIN:VCALENDAR
VERSION:2.0
CALSCALE:GREGORIAN
PRODID:adamgibbons/ics
METHOD:PUBLISH
X-PUBLISHED-TTL:PT1H
BEGIN:VEVENT
UID:3225@offbeat.amsterdam
SUMMARY:MICHA
DTSTAMP:20260420T232449Z
DTSTART:20260430T180000Z
URL:https://offbeat.amsterdam/event/micha
GEO:52.3647777;4.881073026725959
LOCATION:Melkweg - Lijnbaansgracht 234A\, 1017 PH Amsterdam
STATUS:CONFIRMED
CATEGORIES:amsterdam-centrum,concert,emotional,leidseplein,singer-songwrite
	r
END:VEVENT
BEGIN:VEVENT
UID:12721@offbeat.amsterdam
SUMMARY:MICHA
DTSTAMP:20260420T232449Z
DTSTART:20260501T173000Z
URL:https://offbeat.amsterdam/event/micha-1
GEO:52.3647777;4.881073026725959
LOCATION:Melkweg - Lijnbaansgracht 234A\, 1017 PH Amsterdam
STATUS:CONFIRMED
CATEGORIES:amsterdam-centrum,concert,emotional,leidseplein,singer-songwrite
	r
END:VEVENT
END:VCALENDAR
