BEGIN:VCALENDAR
VERSION:2.0
CALSCALE:GREGORIAN
PRODID:adamgibbons/ics
METHOD:PUBLISH
X-PUBLISHED-TTL:PT1H
BEGIN:VEVENT
UID:9734@offbeat.amsterdam
SUMMARY:Kebu | urban skies tour 2026
DTSTAMP:20260421T115424Z
DTSTART:20260421T173000Z
URL:https://offbeat.amsterdam/event/kebu-or-urban-skies-tour-2026
GEO:52.3528265;4.906568
LOCATION:Cinetol - Tolstraat 182\, 1074 VM Amsterdam
STATUS:CONFIRMED
CATEGORIES:elektronisch,de pijp,amsterdam-zuid,music,live
END:VEVENT
BEGIN:VEVENT
UID:9735@offbeat.amsterdam
SUMMARY:Kebu | urban skies tour 2026
DTSTAMP:20260421T115424Z
DTSTART:20260422T173000Z
URL:https://offbeat.amsterdam/event/kebu-or-urban-skies-tour-2026-1
GEO:52.3528265;4.906568
LOCATION:Cinetol - Tolstraat 182\, 1074 VM Amsterdam
STATUS:CONFIRMED
CATEGORIES:elektronisch,live,music,amsterdam-zuid,de pijp
END:VEVENT
BEGIN:VEVENT
UID:13233@offbeat.amsterdam
SUMMARY:Yuraa
DTSTAMP:20260421T115424Z
DTSTART:20260424T184500Z
URL:https://offbeat.amsterdam/event/yuraa
GEO:52.3528265;4.906568
LOCATION:Cinetol - Tolstraat 182\, 1074 VM Amsterdam
STATUS:CONFIRMED
CATEGORIES:amsterdam-zuid,de pijp,elektronisch
END:VEVENT
BEGIN:VEVENT
UID:18827@offbeat.amsterdam
SUMMARY:xCelia | ep release | support: desma
DTSTAMP:20260421T115424Z
DTSTART:20260501T184500Z
URL:https://offbeat.amsterdam/event/xcelia-or-ep-release-or-support-desma
GEO:52.3528265;4.906568
LOCATION:Cinetol - Tolstraat 182\, 1074 VM Amsterdam
STATUS:CONFIRMED
CATEGORIES:amsterdam-zuid,elektronisch,de pijp,live,pop,indie
END:VEVENT
BEGIN:VEVENT
UID:15290@offbeat.amsterdam
SUMMARY:heylucas
DTSTAMP:20260421T115424Z
DTSTART:20260502T173000Z
URL:https://offbeat.amsterdam/event/heylucas
GEO:52.3528265;4.906568
LOCATION:Cinetol - Tolstraat 182\, 1074 VM Amsterdam
STATUS:CONFIRMED
CATEGORIES:de pijp,elektronisch,music,amsterdam-zuid
END:VEVENT
BEGIN:VEVENT
UID:18770@offbeat.amsterdam
SUMMARY:La Bande-son Imaginaire | + special guest
DTSTAMP:20260421T115424Z
DTSTART:20260605T180000Z
URL:https://offbeat.amsterdam/event/la-bande-son-imaginaire-or-special-gues
	t
GEO:52.3528265;4.906568
LOCATION:Cinetol - Tolstraat 182\, 1074 VM Amsterdam
STATUS:CONFIRMED
CATEGORIES:theater,amsterdam-zuid,dance,de pijp,elektronisch,film,music,poe
	try,wave
END:VEVENT
BEGIN:VEVENT
UID:20600@offbeat.amsterdam
SUMMARY:Zory Luna | graduation show | support: rey
DTSTAMP:20260421T115424Z
DTSTART:20260617T180000Z
URL:https://offbeat.amsterdam/event/zory-luna-or-graduation-show-or-support
	-rey
GEO:52.3528265;4.906568
LOCATION:Cinetol - Tolstraat 182\, 1074 VM Amsterdam
STATUS:CONFIRMED
CATEGORIES:amsterdam-zuid,de pijp,elektronisch,live,music,pop
END:VEVENT
BEGIN:VEVENT
UID:20647@offbeat.amsterdam
SUMMARY:STOLEN
DTSTAMP:20260421T115424Z
DTSTART:20260708T180000Z
URL:https://offbeat.amsterdam/event/stolen
GEO:52.3528265;4.906568
LOCATION:Cinetol - Tolstraat 182\, 1074 VM Amsterdam
STATUS:CONFIRMED
CATEGORIES:amsterdam-zuid,de pijp,elektronisch,indie,live,music,performance
	,postpunk,punk,rock,techno
END:VEVENT
END:VCALENDAR
