BEGIN:VCALENDAR
VERSION:2.0
CALSCALE:GREGORIAN
PRODID:adamgibbons/ics
METHOD:PUBLISH
X-PUBLISHED-TTL:PT1H
BEGIN:VEVENT
UID:19768@offbeat.amsterdam
SUMMARY:Elisabeth Harnik comes to Town!
DTSTAMP:20260420T035312Z
DTSTART:20260420T180000Z
URL:https://offbeat.amsterdam/event/elisabeth-harnik-comes-to-town
GEO:52.3699078;4.9032848
LOCATION:Splendor - Nieuwe Uilenburgerstraat 116\, 1011 LX Amsterdam
STATUS:CONFIRMED
CATEGORIES:nieuwmarkt/lastage,music,amsterdam-centrum,electronics,concert,p
	iano,performance
END:VEVENT
BEGIN:VEVENT
UID:19347@offbeat.amsterdam
SUMMARY:Cows go around
DTSTAMP:20260420T035312Z
DTSTART:20260422T180000Z
URL:https://offbeat.amsterdam/event/cows-go-around
GEO:52.3699078;4.9032848
LOCATION:Splendor - Nieuwe Uilenburgerstraat 116\, 1011 LX Amsterdam
STATUS:CONFIRMED
CATEGORIES:jazz,amsterdam-centrum,electronics,improv,nieuwmarkt/lastage,mus
	ic
END:VEVENT
BEGIN:VEVENT
UID:19994@offbeat.amsterdam
SUMMARY:mr. wix & siroj
DTSTAMP:20260420T035312Z
DTSTART:20260424T160000Z
URL:https://offbeat.amsterdam/event/mr-wix-1
GEO:52.3854298;4.9279805
LOCATION:murmur - Aambeeldstraat 60\, 1021 KB Amsterdam
STATUS:CONFIRMED
CATEGORIES:hamerkwartier,amsterdam-noord,concert,dinner,dj,eclectic,electro
	nics,funk,jazz,music
END:VEVENT
BEGIN:VEVENT
UID:20295@offbeat.amsterdam
SUMMARY:Frok - Blueprint - De Formule
DTSTAMP:20260420T035312Z
DTSTART:20260424T180000Z
URL:https://offbeat.amsterdam/event/bands
GEO:52.3608111;4.8770451
LOCATION:Vondelbunker - Vondelpark 8A\, 1071 AA Amsterdam
STATUS:CONFIRMED
CATEGORIES:vondelparkbuurt,amsterdam-west,punk,dj,music/concert,electronics
	,indie,live,music,performance,rock
END:VEVENT
BEGIN:VEVENT
UID:19714@offbeat.amsterdam
SUMMARY:LE TROU W/ ROZALY (ALL NIGHT)\, SÈSÈ\, T.NO\, CHALÉ & TIDA KAMARA (
	ALL NIGHT)
DTSTAMP:20260420T035312Z
DTSTART:20260424T200000Z
DTEND:20260425T010000Z
URL:https://offbeat.amsterdam/event/le-trou
GEO:52.3854467;4.9256035
LOCATION:Skatecafe Karin & Yvonne - Gedempt Hamerkanaal 42\, 1021 KM Amster
	dam
STATUS:CONFIRMED
CATEGORIES:live,talk,funk,electronics,dinner,community,amsterdam-noord,hame
	rkwartier,afro,music
END:VEVENT
BEGIN:VEVENT
UID:18940@offbeat.amsterdam
SUMMARY:PARLOUR Presents... Signe Dø and Anna Soleil
DTSTAMP:20260420T035312Z
DTSTART:20260425T170000Z
DTEND:20260425T203000Z
URL:https://offbeat.amsterdam/event/parlour-presents-signe-do-and-anna-sole
	il
GEO:52.3504671;4.8912837
LOCATION:Parlour - Cornelis Troostplein 23\, 1072 JJ Amsterdam
STATUS:CONFIRMED
CATEGORIES:live,electronics,performance,theater,stories,pride,piano,de pijp
	,concert,amsterdam-zuid,music,festivals
END:VEVENT
BEGIN:VEVENT
UID:20392@offbeat.amsterdam
SUMMARY:No Escape / Benefit for ADEV
DTSTAMP:20260420T035312Z
DTSTART:20260425T190000Z
DTEND:20260426T010000Z
URL:https://offbeat.amsterdam/event/no-escape-benefit-for-adev
GEO:52.3601403;4.8656923
LOCATION:OT301 - Overtoom 301\, 1054 HW Amsterdam
STATUS:CONFIRMED
CATEGORIES:party,acid,amsterdam-west,dance,dj,electronics,festivals,hardcor
	e,hc,industrial,live,music,punk,rave,techno,tekno,vinyl,vondelparkbuurt
END:VEVENT
BEGIN:VEVENT
UID:19295@offbeat.amsterdam
SUMMARY:Groove (21+)
DTSTAMP:20260420T035312Z
DTSTART:20260425T215900Z
DTEND:20260426T033000Z
URL:https://offbeat.amsterdam/event/groove-21
GEO:52.3833541;4.9036483
LOCATION:Parallel - Buiksloterweg 5C\, 1031 CC Amsterdam
STATUS:CONFIRMED
CATEGORIES:amsterdam-noord,party,music,electronics,dance,buiksloterweg,afro
END:VEVENT
BEGIN:VEVENT
UID:19221@offbeat.amsterdam
SUMMARY:Doka Studio w/ Suze Ijó | Sassy J
DTSTAMP:20260420T035312Z
DTSTART:20260425T215900Z
DTEND:20260426T040000Z
URL:https://offbeat.amsterdam/event/doka-studio-with-suze-ijo-or-sassy-j
GEO:52.353788;4.9119686
LOCATION:Doka - Wibautstraat 150\, 1091 GR Amsterdam
STATUS:CONFIRMED
CATEGORIES:amsterdam-oost,electronics,music,weesperzijde
END:VEVENT
BEGIN:VEVENT
UID:2249@offbeat.amsterdam
SUMMARY:KONING CEUVEL // KING’S NIGHT
DTSTAMP:20260420T035312Z
DTSTART:20260426T190000Z
DTEND:20260427T013000Z
URL:https://offbeat.amsterdam/event/koning-ceuvel-kings-night
GEO:52.3930912;4.9096685
LOCATION:De Ceuvel - Korte Papaverweg 2\, 1032 KB Amsterdam
STATUS:CONFIRMED
CATEGORIES:performance,party,music,live,lecture,jazz,improv,funk,festivals,
	electronics,eclectic,dj,concert,dance,afro,colonialism,buiksloterham,amste
	rdam-noord,techno,soul,rock,reggae,punk,psychedelic rock
END:VEVENT
BEGIN:VEVENT
UID:20347@offbeat.amsterdam
SUMMARY:K+PEREN – KONINGSNACHT ’26
DTSTAMP:20260420T035312Z
DTSTART:20260426T203000Z
URL:https://offbeat.amsterdam/event/kperen-koningsnacht-26
GEO:52.3651201;4.9359245
LOCATION:Studio K - Timorplein 62\, 1094 CC Amsterdam
STATUS:CONFIRMED
CATEGORIES:indische buurt,amsterdam-oost,electroclash,electronics,live,poet
	ry,punk,rock
END:VEVENT
BEGIN:VEVENT
UID:19296@offbeat.amsterdam
SUMMARY:Modus King's Night
DTSTAMP:20260420T035312Z
DTSTART:20260426T215900Z
DTEND:20260427T040000Z
URL:https://offbeat.amsterdam/event/modus-kings-night
GEO:52.3833541;4.9036483
LOCATION:Parallel - Buiksloterweg 5C\, 1031 CC Amsterdam
STATUS:CONFIRMED
CATEGORIES:dekmantel,dj,eclectic,electronics,festivals,live,music,soul,tech
	no,dance,buiksloterweg,amsterdam-noord
END:VEVENT
BEGIN:VEVENT
UID:20805@offbeat.amsterdam
SUMMARY:ambu bambu & lis
DTSTAMP:20260420T035312Z
DTSTART:20260501T160000Z
URL:https://offbeat.amsterdam/event/ambu-bambu-and-lis
GEO:52.3854298;4.9279805
LOCATION:murmur - Aambeeldstraat 60\, 1021 KB Amsterdam
STATUS:CONFIRMED
CATEGORIES:eclectic,electronics,experimental,dj,dinner,amsterdam-noord,hame
	rkwartier,idm,live,music,performance,stories,techno
END:VEVENT
BEGIN:VEVENT
UID:20546@offbeat.amsterdam
SUMMARY:Dystopia Wetlands
DTSTAMP:20260420T035312Z
DTSTART:20260501T173000Z
DTEND:20260501T190000Z
URL:https://offbeat.amsterdam/event/dystopia-wetlands
GEO:52.3765012;4.9132763
LOCATION:Mediamatic - Dijksgracht 6\, 1019 BS Amsterdam
STATUS:CONFIRMED
CATEGORIES:alternative,plants,performance,music,live,gender,electronics,eas
	tern docklands,dance,community,amsterdam-centrum
END:VEVENT
BEGIN:VEVENT
UID:20242@offbeat.amsterdam
SUMMARY:Campbell Outernational Sound System
DTSTAMP:20260420T035312Z
DTSTART:20260501T190000Z
DTEND:20260502T010000Z
URL:https://offbeat.amsterdam/event/campbell-outernational-sound-system
GEO:52.3966283;4.8755183
LOCATION:Toekomstmuziek - Danzigerbocht 29\, 1013 AM Amsterdam
STATUS:CONFIRMED
CATEGORIES:live performance,westpoort,storytelling,soul,ska,roots reggae,re
	ggaemuziek,reggae,performance,party,music,minervahaven,amsterdam-west,bass
	,dance,djs,dub,electronic,electronics,festivals,hip-hop,live
END:VEVENT
BEGIN:VEVENT
UID:19888@offbeat.amsterdam
SUMMARY:FACE/LESS by DAR
DTSTAMP:20260420T035312Z
DTSTART:20260501T200000Z
DTEND:20260502T010000Z
URL:https://offbeat.amsterdam/event/faceless-by-dar
GEO:52.3601403;4.8656923
LOCATION:OT301 - Overtoom 301\, 1054 HW Amsterdam
STATUS:CONFIRMED
CATEGORIES:amsterdam-west,deconstructed club,dj,dubstep,gabber,funk,festiva
	ls,experimental electronic,experimental,emo,electronics,dance,vondelparkbu
	urt,soul,post-club,poetry,performance,music,live,high-bpm hybrids,hardcore
END:VEVENT
BEGIN:VEVENT
UID:19184@offbeat.amsterdam
SUMMARY:Ziongate Presents: Vigro Deep (3HRS)
DTSTAMP:20260420T035312Z
DTSTART:20260502T215900Z
DTEND:20260503T030000Z
URL:https://offbeat.amsterdam/event/vigro-deep
GEO:52.3833541;4.9036483
LOCATION:Parallel - Buiksloterweg 5C\, 1031 CC Amsterdam
STATUS:CONFIRMED
CATEGORIES:music,electronics,community,experimental,buiksloterweg,amsterdam
	-noord,alternative,dj
END:VEVENT
BEGIN:VEVENT
UID:20890@offbeat.amsterdam
SUMMARY:Remembering Steve Kurz
DTSTAMP:20260420T035312Z
DTSTART:20260507T173000Z
DTEND:20260507T193000Z
URL:https://offbeat.amsterdam/event/remembering-steve-kurz
GEO:52.3727735;4.9003436
LOCATION:Waag - Nieuwmarkt 4\, 1012 CR Amsterdam
STATUS:CONFIRMED
CATEGORIES:experimental,discussion,books,amsterdam-centrum,nieuwmarkt/lasta
	ge,live,film,festivals,electronics
END:VEVENT
BEGIN:VEVENT
UID:19759@offbeat.amsterdam
SUMMARY:WAHJ Live Performance Premiere
DTSTAMP:20260420T035312Z
DTSTART:20260507T180000Z
DTEND:20260507T215900Z
URL:https://offbeat.amsterdam/event/wahj-live-performance-premiere
GEO:52.3601403;4.8656923
LOCATION:OT301 - Overtoom 301\, 1054 HW Amsterdam
STATUS:CONFIRMED
CATEGORIES:performance,music,live,jazz,industrial,film,dj,festivals,experim
	ental arabic,experimental,electronics,amsterdam-west,ade,electronic,avant-
	pop,dark ambient,vondelparkbuurt,techno,rock
END:VEVENT
BEGIN:VEVENT
UID:20277@offbeat.amsterdam
SUMMARY:DE MOND (BE\, Ultra Eczema) + HEBBEX D’EXPECTATIO EXPECTATA (NO) + 
	Tetuzi Akiyama\, Toshi Nakamura\, Bryan Eubanks & GJ Prins (JP/DE/NL)
DTSTAMP:20260420T035312Z
DTSTART:20260508T183000Z
URL:https://offbeat.amsterdam/event/de-mond-be-ultra-eczema-hebbex-dexpecta
	tio-expectata-no-tetuzi-akiyama-toshi-nakamura-bryan-eubanks-and-gj-prins-
	jpdenl
GEO:52.354338;4.8553367
LOCATION:OCCII - Amstelveenseweg 134\, 1075 XL Amsterdam
STATUS:CONFIRMED
CATEGORIES:music,noise,performance,schinkelbuurt,trance,ambient,amsterdam-z
	uid,books,community,electronics,experiment,experimental,festivals,improv
END:VEVENT
BEGIN:VEVENT
UID:19181@offbeat.amsterdam
SUMMARY:Max Cooper
DTSTAMP:20260420T035312Z
DTSTART:20260508T215900Z
DTEND:20260509T030000Z
URL:https://offbeat.amsterdam/event/max-cooper
GEO:52.3833541;4.9036483
LOCATION:Parallel - Buiksloterweg 5C\, 1031 CC Amsterdam
STATUS:CONFIRMED
CATEGORIES:amsterdam-noord,alternative,theater,techno,performance,music,liv
	e,electronics,dj,buiksloterweg
END:VEVENT
BEGIN:VEVENT
UID:19672@offbeat.amsterdam
SUMMARY:Anacalypto & Friends
DTSTAMP:20260420T035312Z
DTSTART:20260509T200000Z
DTEND:20260510T010000Z
URL:https://offbeat.amsterdam/event/anacalypto-and-friends-2
GEO:52.3601403;4.8656923
LOCATION:OT301 - Overtoom 301\, 1054 HW Amsterdam
STATUS:CONFIRMED
CATEGORIES:amsterdam-west,techno,vondelparkbuurt,performance,vinyl,music,ho
	use,festivals,electronics,eclectic,dj
END:VEVENT
BEGIN:VEVENT
UID:18971@offbeat.amsterdam
SUMMARY:WAXFIEND 25 YEARS W/ ABSTRACT\, ADJE\, CHINNAMASTA\, CHUCKIE\, DOUL
	OU\, EDSON\, JAHWIN\, JARREAU VANDAL\, KALIBWOY\, MADBWOY\, MBA\, NOMTAH\,
	 PRIME\, PRINCE PASENSI\, RANCIDO\, ROCKEFELLABABE\, S!RENE\, SOR\, STEESK
	O\, WES LEE\, WIX\, 4SHOBANGERS
DTSTAMP:20260420T035312Z
DTSTART:20260509T200000Z
DTEND:20260510T010000Z
URL:https://offbeat.amsterdam/event/waxfiend-25-years
GEO:52.3854467;4.9256035
LOCATION:Skatecafe Karin & Yvonne - Gedempt Hamerkanaal 42\, 1021 KM Amster
	dam
STATUS:CONFIRMED
CATEGORIES:electronics,dj,dance,amsterdam-noord,music,hamerkwartier
END:VEVENT
BEGIN:VEVENT
UID:19923@offbeat.amsterdam
SUMMARY:Witte Gei’t? met iuiri + Djalan-Djalan + Citruks
DTSTAMP:20260420T035312Z
DTSTART:20260512T183000Z
DTEND:20260512T210000Z
URL:https://offbeat.amsterdam/event/witte-geit-timm-knipt-8
GEO:52.374158;4.8726931
LOCATION:De Nieuwe Anita - Frederik Hendrikstraat 111\, 1052 HN Amsterdam
STATUS:CONFIRMED
CATEGORIES:acoustic act,westerpark,rock,punk,music,live,jazz,improv,food,el
	ectronics,amsterdam-west
END:VEVENT
BEGIN:VEVENT
UID:20957@offbeat.amsterdam
SUMMARY:In the Mouth of the Room
DTSTAMP:20260420T035312Z
DTSTART:20260515T180000Z
DTEND:20260515T191500Z
URL:https://offbeat.amsterdam/event/in-the-mouth-of-the-room
GEO:52.3608907;4.9138063
LOCATION:Plein Theater - Sajetplein 39\, 1091 DB Amsterdam
STATUS:CONFIRMED
CATEGORIES:poetry,amsterdam-oost,documentary,electronics,literature,live,mu
	sic,oosterparkbuurt,performance,queer,reading,theater
END:VEVENT
BEGIN:VEVENT
UID:20541@offbeat.amsterdam
SUMMARY:Doka Studio w/ Lysah | Ajuma
DTSTAMP:20260420T035312Z
DTSTART:20260515T215900Z
DTEND:20260516T040000Z
URL:https://offbeat.amsterdam/event/doka-studio-with-lysah-or-ajuma
GEO:52.353788;4.9119686
LOCATION:Doka - Wibautstraat 150\, 1091 GR Amsterdam
STATUS:CONFIRMED
CATEGORIES:weesperzijde,gender,electronics,community,amsterdam-oost,afrobea
	ts,music
END:VEVENT
BEGIN:VEVENT
UID:20505@offbeat.amsterdam
SUMMARY:D.E.L.S. x Doka Studio w/ Kaap | Ambu Bambu | David Lee | Julien Ch
	aptal
DTSTAMP:20260420T035312Z
DTSTART:20260516T170000Z
DTEND:20260516T210000Z
URL:https://offbeat.amsterdam/event/dels-x-doka-studio-with-kaap-or-ambu-ba
	mbu-or-david-lee-or-julien-chaptal
GEO:52.353788;4.9119686
LOCATION:Doka - Wibautstraat 150\, 1091 GR Amsterdam
STATUS:CONFIRMED
CATEGORIES:improv,amsterdam-oost,dance,electronics,live,music,techno,weespe
	rzijde
END:VEVENT
BEGIN:VEVENT
UID:20779@offbeat.amsterdam
SUMMARY:Traffic is the New Silence
DTSTAMP:20260420T035312Z
DTSTART:20260516T180000Z
URL:https://offbeat.amsterdam/event/traffic-is-the-new-silence
GEO:52.3699078;4.9032848
LOCATION:Splendor - Nieuwe Uilenburgerstraat 116\, 1011 LX Amsterdam
STATUS:CONFIRMED
CATEGORIES:music,nieuwmarkt/lastage,performance,jazz,electronics,amsterdam-
	centrum,improv
END:VEVENT
BEGIN:VEVENT
UID:18605@offbeat.amsterdam
SUMMARY:BBG PRESENTS: ECURIE D’ARGENT (CH) + TWINNINGL00M (NL) + VHS MIDNIG
	HT STYLE (UK)
DTSTAMP:20260420T035312Z
DTSTART:20260516T183000Z
URL:https://offbeat.amsterdam/event/bbg-presents-ecurie-dargent-ch-twinning
	l00m-nl-vhs-midnight-style-uk
GEO:52.354338;4.8553367
LOCATION:OCCII - Amstelveenseweg 134\, 1075 XL Amsterdam
STATUS:CONFIRMED
CATEGORIES:online music,performance,rap,schinkelbuurt,music,idm,amsterdam-z
	uid,books,electronics,electronic,community,cloud/underground rap
END:VEVENT
BEGIN:VEVENT
UID:20660@offbeat.amsterdam
SUMMARY:Orb Weaver with Maarten Visser
DTSTAMP:20260420T035312Z
DTSTART:20260518T180000Z
DTEND:20260518T203000Z
URL:https://offbeat.amsterdam/event/orb-weaver-with-maarten-visser
GEO:52.3358778;4.9266131
LOCATION:Grond - Bijdorpstraat 1\, 1096 AP Amsterdam
STATUS:CONFIRMED
CATEGORIES:improv,amsterdam-oost,electronics,jazz,overamstel
END:VEVENT
BEGIN:VEVENT
UID:20398@offbeat.amsterdam
SUMMARY:XTC: The Electronic Musical
DTSTAMP:20260420T035312Z
DTSTART:20260521T180000Z
DTEND:20260521T213000Z
URL:https://offbeat.amsterdam/event/xtc-the-electronic-musical-1
GEO:52.353788;4.9119686
LOCATION:Doka - Wibautstraat 150\, 1091 GR Amsterdam
STATUS:CONFIRMED
CATEGORIES:live,amsterdam-oost,ade,weesperzijde,theater,music,dj,electronic
	s,festivals
END:VEVENT
BEGIN:VEVENT
UID:18682@offbeat.amsterdam
SUMMARY:WAHJ | toni geitani & marmoucha orchestra
DTSTAMP:20260420T035312Z
DTSTART:20260521T180000Z
URL:https://offbeat.amsterdam/event/wahj-or-toni-geitani-and-marmoucha-orch
	estra
GEO:52.3528265;4.906568
LOCATION:Cinetol - Tolstraat 182\, 1074 VM Amsterdam
STATUS:CONFIRMED
CATEGORIES:performance,orchestra,music,multidisciplinair,live,electronics,d
	e pijp,amsterdam-zuid
END:VEVENT
BEGIN:VEVENT
UID:19093@offbeat.amsterdam
SUMMARY:Kurashi
DTSTAMP:20260420T035312Z
DTSTART:20260523T210000Z
URL:https://offbeat.amsterdam/event/kurashi
GEO:52.36215535;4.883782439016489
LOCATION:Paradiso - Weteringschans 6\, 1017 SG Amsterdam
STATUS:CONFIRMED
CATEGORIES:amsterdam-centrum,live,leidseplein,electronics
END:VEVENT
BEGIN:VEVENT
UID:20128@offbeat.amsterdam
SUMMARY:Doka Studio w/ Merve | Hervé
DTSTAMP:20260420T035312Z
DTSTART:20260523T215900Z
DTEND:20260524T040000Z
URL:https://offbeat.amsterdam/event/doka-studio-with-merve-or-herve
GEO:52.353788;4.9119686
LOCATION:Doka - Wibautstraat 150\, 1091 GR Amsterdam
STATUS:CONFIRMED
CATEGORIES:amsterdam-oost,weesperzijde,techno,music,jazz,electronics,eclect
	ic
END:VEVENT
BEGIN:VEVENT
UID:20340@offbeat.amsterdam
SUMMARY:Koen Visser & Roman Willems
DTSTAMP:20260420T035312Z
DTSTART:20260524T180000Z
URL:https://offbeat.amsterdam/event/koen-visser-and-roman-willems
GEO:52.3699078;4.9032848
LOCATION:Splendor - Nieuwe Uilenburgerstraat 116\, 1011 LX Amsterdam
STATUS:CONFIRMED
CATEGORIES:electronics,improv,music,nieuwmarkt/lastage,amsterdam-centrum,co
	ncert,piano
END:VEVENT
BEGIN:VEVENT
UID:20559@offbeat.amsterdam
SUMMARY:North Star Comes to Splendor
DTSTAMP:20260420T035312Z
DTSTART:20260526T180000Z
URL:https://offbeat.amsterdam/event/north-star-comes-to-splendor
GEO:52.3699078;4.9032848
LOCATION:Splendor - Nieuwe Uilenburgerstraat 116\, 1011 LX Amsterdam
STATUS:CONFIRMED
CATEGORIES:alternative,amsterdam-centrum,electronics,live,music,nieuwmarkt/
	lastage
END:VEVENT
BEGIN:VEVENT
UID:20512@offbeat.amsterdam
SUMMARY:Sin Señal X Doka Studio w/ Hannecart | Hofman | Mite Ashwel
DTSTAMP:20260420T035312Z
DTSTART:20260529T215900Z
DTEND:20260530T040000Z
URL:https://offbeat.amsterdam/event/sin-senal-x-doka-studio-with-hannecart-
	or-hofman-or-mite-ashwel
GEO:52.353788;4.9119686
LOCATION:Doka - Wibautstraat 150\, 1091 GR Amsterdam
STATUS:CONFIRMED
CATEGORIES:electronics,opening,techno,weesperzijde,music,amsterdam-oost,dj
END:VEVENT
BEGIN:VEVENT
UID:20241@offbeat.amsterdam
SUMMARY:FIBER Festival at TILLATEC
DTSTAMP:20260420T035312Z
DTSTART:20260530T180000Z
DTEND:20260531T050000Z
URL:https://offbeat.amsterdam/event/fiber-festival-at-tillatec
GEO:52.3699549;4.843713
LOCATION:Tilla Tec - Doctor Jan van Breemenstraat 1\, 1056 AB Amsterdam
STATUS:CONFIRMED
CATEGORIES:festivals,music,performance,rembrandtpark,techno,live,amsterdam-
	west,electronics,experimental
END:VEVENT
BEGIN:VEVENT
UID:20185@offbeat.amsterdam
SUMMARY:Zeid Hamdan live ★ The Godfather of Lebanese Underground Music ♫
DTSTAMP:20260420T035312Z
DTSTART:20260604T190000Z
DTEND:20260604T210000Z
URL:https://offbeat.amsterdam/event/zeid-hamdan-live-star-the-godfather-of-
	lebanese-underground-music-beamed-eighth-notes
GEO:52.3759775;4.9275458
LOCATION:Mezrab - Veemkade 576\, 1019 BL Amsterdam
STATUS:CONFIRMED
CATEGORIES:music,alternative,electronics,live,jazz,amsterdam-oost,concert,e
	astern docklands
END:VEVENT
BEGIN:VEVENT
UID:14966@offbeat.amsterdam
SUMMARY:puntjudith
DTSTAMP:20260420T035312Z
DTSTART:20260605T173000Z
URL:https://offbeat.amsterdam/event/puntjudith-1
GEO:52.36215535;4.883782439016489
LOCATION:Paradiso - Weteringschans 6\, 1017 SG Amsterdam
STATUS:CONFIRMED
CATEGORIES:leidseplein,amsterdam-centrum,electronics
END:VEVENT
BEGIN:VEVENT
UID:20253@offbeat.amsterdam
SUMMARY:Red Light Jazz: dinner concert with ZaZoo
DTSTAMP:20260420T035312Z
DTSTART:20260605T180000Z
DTEND:20260605T200000Z
URL:https://offbeat.amsterdam/event/red-light-jazz-dinner-concert-with-zazo
	o
GEO:52.3691458;4.8950558
LOCATION:Contra - Oudezijds Achterburgwal 235\, 1012 DL Amsterdam
STATUS:CONFIRMED
CATEGORIES:amsterdam-centrum,music,live,jazz,electronics,dinner,concert,bur
	gwallen,blues
END:VEVENT
BEGIN:VEVENT
UID:20547@offbeat.amsterdam
SUMMARY:Dystopia Wetlands
DTSTAMP:20260420T035312Z
DTSTART:20260611T173000Z
DTEND:20260611T190000Z
URL:https://offbeat.amsterdam/event/dystopia-wetlands-1
GEO:52.3765012;4.9132763
LOCATION:Mediamatic - Dijksgracht 6\, 1019 BS Amsterdam
STATUS:CONFIRMED
CATEGORIES:amsterdam-centrum,plants,performance,music,live,gender,electroni
	cs,eastern docklands,dance,community,alternative
END:VEVENT
BEGIN:VEVENT
UID:19362@offbeat.amsterdam
SUMMARY:Gotobeat and Epifoni presents: No Clear Mind live in Amsterdam!
DTSTAMP:20260420T035312Z
DTSTART:20260611T173000Z
DTEND:20260615T203000Z
URL:https://offbeat.amsterdam/event/gotobeat-and-epifoni-presents-no-clear-
	mind-live-in-amsterdam
GEO:52.3966283;4.8755183
LOCATION:Toekomstmuziek - Danzigerbocht 29\, 1013 AM Amsterdam
STATUS:CONFIRMED
CATEGORIES:westpoort,experimental,electronics,amsterdam-west,post rock,rock
	,shoegaze,live music,minervahaven,music,live
END:VEVENT
BEGIN:VEVENT
UID:20011@offbeat.amsterdam
SUMMARY:MASSIEF
DTSTAMP:20260420T035312Z
DTSTART:20260613T190000Z
DTEND:20260614T010000Z
URL:https://offbeat.amsterdam/event/massief
GEO:52.3601403;4.8656923
LOCATION:OT301 - Overtoom 301\, 1054 HW Amsterdam
STATUS:CONFIRMED
CATEGORIES:party,rave,talk,techno,vinyl,vondelparkbuurt,amsterdam-west,bass
	,breakbeat,community,dance,dj,dnb,drum & bass,dubstep,electronic,electroni
	cs,exhibition,experimental,festivals,hardcore,jungle,music
END:VEVENT
BEGIN:VEVENT
UID:18814@offbeat.amsterdam
SUMMARY:Nieuwe Noten Amsterdam: Opdoemende fluisteringen
DTSTAMP:20260420T035312Z
DTSTART:20260614T130000Z
DTEND:20260614T140000Z
URL:https://offbeat.amsterdam/event/nieuwe-noten-amsterdam-opdoemende-fluis
	teringen
GEO:52.3608907;4.9138063
LOCATION:Plein Theater - Sajetplein 39\, 1091 DB Amsterdam
STATUS:CONFIRMED
CATEGORIES:concert,theater,performance,oosterparkbuurt,music,electronics,am
	sterdam-oost
END:VEVENT
BEGIN:VEVENT
UID:20730@offbeat.amsterdam
SUMMARY:Basement Membrane
DTSTAMP:20260420T035312Z
DTSTART:20260623T173000Z
URL:https://offbeat.amsterdam/event/basement-membrane-project
GEO:52.36215535;4.883782439016489
LOCATION:Paradiso - Weteringschans 6\, 1017 SG Amsterdam
STATUS:CONFIRMED
CATEGORIES:funk,electronics,eclectic,dj,punk,piano,live,leidseplein,jazz,co
	ncert,amsterdam-centrum
END:VEVENT
BEGIN:VEVENT
UID:20618@offbeat.amsterdam
SUMMARY:TRAIDORA (UK) + MORE TBC
DTSTAMP:20260420T035312Z
DTSTART:20260623T183000Z
URL:https://offbeat.amsterdam/event/traidora-uk-more-tbc
GEO:52.354338;4.8553367
LOCATION:OCCII - Amstelveenseweg 134\, 1075 XL Amsterdam
STATUS:CONFIRMED
CATEGORIES:queer,rock,schinkelbuurt,music,amsterdam-zuid,books,community,el
	ectronics,experimental,gender,hardcore,live,punk,punk transfeminista
END:VEVENT
BEGIN:VEVENT
UID:20385@offbeat.amsterdam
SUMMARY:Benjamin Sacks
DTSTAMP:20260420T035312Z
DTSTART:20260624T170000Z
URL:https://offbeat.amsterdam/event/benjamin-sacks
GEO:52.36215535;4.883782439016489
LOCATION:Paradiso - Weteringschans 6\, 1017 SG Amsterdam
STATUS:CONFIRMED
CATEGORIES:leidseplein,funk,electronics,amsterdam-centrum,soul
END:VEVENT
BEGIN:VEVENT
UID:20675@offbeat.amsterdam
SUMMARY:Afro-Brazilian Jazz & Heritage by Dandara Modesto & Edwin Correia
DTSTAMP:20260420T035312Z
DTSTART:20260627T180000Z
URL:https://offbeat.amsterdam/event/afro-brazilian-jazz-and-heritage-by-dan
	dara-modesto-and-edwin-correia
GEO:52.354291;4.8540331
LOCATION:Teatro Munganga - Schinkelhavenstraat 27 HS\, 1075 VP Amsterdam
STATUS:CONFIRMED
CATEGORIES:electronics,jam session,jazz,schinkelbuurt,afro,amsterdam-zuid
END:VEVENT
BEGIN:VEVENT
UID:19995@offbeat.amsterdam
SUMMARY:Afro Anatolian Tales ft Burak Savaş ★ Tarab Dance ★ Magic Carpet Se
	ssions ♫
DTSTAMP:20260420T035312Z
DTSTART:20260702T183000Z
DTEND:20260702T210000Z
URL:https://offbeat.amsterdam/event/afro-anatolian-tales-ft-burak-savas-sta
	r-tarab-dance-star-magic-carpet-sessions-beamed-eighth-notes
GEO:52.3759775;4.9275458
LOCATION:Mezrab - Veemkade 576\, 1019 BL Amsterdam
STATUS:CONFIRMED
CATEGORIES:jazz,electronics,improv,eastern docklands,dance,music,afro,conce
	rt,amsterdam-oost
END:VEVENT
BEGIN:VEVENT
UID:19391@offbeat.amsterdam
SUMMARY:Usted Señalemelo live in Amsterdam!
DTSTAMP:20260420T035312Z
DTSTART:20260715T173000Z
DTEND:20260715T210000Z
URL:https://offbeat.amsterdam/event/usted-senalemelo-live-in-amsterdam
GEO:52.3966283;4.8755183
LOCATION:Toekomstmuziek - Danzigerbocht 29\, 1013 AM Amsterdam
STATUS:CONFIRMED
CATEGORIES:live,live music,minervahaven,new rave,rnb,synth pop,westpoort,am
	sterdam-west,argentinian music,dance,electronics,indie pop,indie rock
END:VEVENT
BEGIN:VEVENT
UID:18663@offbeat.amsterdam
SUMMARY:Thievery Corporation
DTSTAMP:20260420T035312Z
DTSTART:20260728T173000Z
URL:https://offbeat.amsterdam/event/thievery-corporation
GEO:52.36215535;4.883782439016489
LOCATION:Paradiso - Weteringschans 6\, 1017 SG Amsterdam
STATUS:CONFIRMED
CATEGORIES:amsterdam-centrum,concert,electronics,leidseplein,performance
END:VEVENT
BEGIN:VEVENT
UID:20732@offbeat.amsterdam
SUMMARY:Thievery Corporation
DTSTAMP:20260420T035312Z
DTSTART:20260729T173000Z
URL:https://offbeat.amsterdam/event/thievery-corporation-1
GEO:52.36215535;4.883782439016489
LOCATION:Paradiso - Weteringschans 6\, 1017 SG Amsterdam
STATUS:CONFIRMED
CATEGORIES:amsterdam-centrum,electronics,leidseplein
END:VEVENT
BEGIN:VEVENT
UID:17038@offbeat.amsterdam
SUMMARY:Parra for Cuva
DTSTAMP:20260420T035312Z
DTSTART:20260930T183000Z
URL:https://offbeat.amsterdam/event/parra-for-cuva
GEO:52.36215535;4.883782439016489
LOCATION:Paradiso - Weteringschans 6\, 1017 SG Amsterdam
STATUS:CONFIRMED
CATEGORIES:amsterdam-centrum,leidseplein,electronics,live
END:VEVENT
BEGIN:VEVENT
UID:20007@offbeat.amsterdam
SUMMARY:Speedy J presents STOOR Live - ADE 2026
DTSTAMP:20260420T035312Z
DTSTART:20261024T140000Z
URL:https://offbeat.amsterdam/event/speedy-j-presents-stoor-live-ade-2026
GEO:52.36215535;4.883782439016489
LOCATION:Paradiso - Weteringschans 6\, 1017 SG Amsterdam
STATUS:CONFIRMED
CATEGORIES:electronics,leidseplein,live,music,techno,ade,amsterdam-centrum
END:VEVENT
BEGIN:VEVENT
UID:20008@offbeat.amsterdam
SUMMARY:Speedy J presents STOOR Live - ADE 2026
DTSTAMP:20260420T035312Z
DTSTART:20261025T150000Z
URL:https://offbeat.amsterdam/event/speedy-j-presents-stoor-live-ade-2026-1
GEO:52.36215535;4.883782439016489
LOCATION:Paradiso - Weteringschans 6\, 1017 SG Amsterdam
STATUS:CONFIRMED
CATEGORIES:music,techno,ade,amsterdam-centrum,electronics,leidseplein,live
END:VEVENT
BEGIN:VEVENT
UID:19957@offbeat.amsterdam
SUMMARY:Okvsho + experience
DTSTAMP:20260420T035312Z
DTSTART:20261027T183000Z
URL:https://offbeat.amsterdam/event/okvsho
GEO:52.36215535;4.883782439016489
LOCATION:Paradiso - Weteringschans 6\, 1017 SG Amsterdam
STATUS:CONFIRMED
CATEGORIES:amsterdam-centrum,electronics,jazz,leidseplein,music
END:VEVENT
BEGIN:VEVENT
UID:20905@offbeat.amsterdam
SUMMARY:Julia Sabaté
DTSTAMP:20260420T035312Z
DTSTART:20261114T183000Z
URL:https://offbeat.amsterdam/event/julia-sabate
GEO:52.36215535;4.883782439016489
LOCATION:Paradiso - Weteringschans 6\, 1017 SG Amsterdam
STATUS:CONFIRMED
CATEGORIES:electronics,amsterdam-centrum,alternative,stories,music,live,lei
	dseplein
END:VEVENT
END:VCALENDAR
