BEGIN:VCALENDAR
VERSION:2.0
CALSCALE:GREGORIAN
PRODID:adamgibbons/ics
METHOD:PUBLISH
X-PUBLISHED-TTL:PT1H
BEGIN:VEVENT
UID:14619@offbeat.amsterdam
SUMMARY:Mosimann
DTSTAMP:20260420T063440Z
DTSTART:20260424T200000Z
URL:https://offbeat.amsterdam/event/mosimann
GEO:52.36215535;4.883782439016489
LOCATION:Paradiso - Weteringschans 6\, 1017 SG Amsterdam
STATUS:CONFIRMED
CATEGORIES:dj,edm,leidseplein,live,amsterdam-centrum
END:VEVENT
BEGIN:VEVENT
UID:19885@offbeat.amsterdam
SUMMARY:Vessbroz
DTSTAMP:20260420T063440Z
DTSTART:20260425T215900Z
URL:https://offbeat.amsterdam/event/vessbroz-present-music-has-no-passport
GEO:52.3647777;4.881073026725959
LOCATION:Melkweg - Lijnbaansgracht 234A\, 1017 PH Amsterdam
STATUS:CONFIRMED
CATEGORIES:producer,club,amsterdam-centrum,dj,edm,electro,leidseplein
END:VEVENT
BEGIN:VEVENT
UID:12858@offbeat.amsterdam
SUMMARY:AVAION
DTSTAMP:20260420T063440Z
DTSTART:20260429T170000Z
URL:https://offbeat.amsterdam/event/avaion-1
GEO:52.3647777;4.881073026725959
LOCATION:Melkweg - Lijnbaansgracht 234A\, 1017 PH Amsterdam
STATUS:CONFIRMED
CATEGORIES:amsterdam-centrum,concert,deep house,edm,electronic,leidseplein
END:VEVENT
BEGIN:VEVENT
UID:20603@offbeat.amsterdam
SUMMARY:Thaiboy Digital
DTSTAMP:20260420T063440Z
DTSTART:20260630T183000Z
URL:https://offbeat.amsterdam/event/thaiboy-digital
GEO:52.3830883;4.9030297
LOCATION:Tolhuistuin - IJpromenade 2\, 1031 KT Amsterdam
STATUS:CONFIRMED
CATEGORIES:amsterdam-noord,buiksloterweg,dj,edm,music,rap
END:VEVENT
END:VCALENDAR
