BEGIN:VCALENDAR
VERSION:2.0
CALSCALE:GREGORIAN
PRODID:adamgibbons/ics
METHOD:PUBLISH
X-PUBLISHED-TTL:PT1H
BEGIN:VEVENT
UID:20190@offbeat.amsterdam
SUMMARY:Benefit VOKU for Casa Zemstvei + Docu Screening "Consider a Tomato"
	 (2025)
DTSTAMP:20260421T085240Z
DTSTART:20260423T170000Z
URL:https://offbeat.amsterdam/event/benefit-voku-for-casa-zemstvei-docu-scr
	eening-consider-a-tomato-2025
GEO:52.35556625;4.9249982
LOCATION:Joe's Garage - Pretoriusstraat 43\, 1092 EZ Amsterdam
STATUS:CONFIRMED
CATEGORIES:voku,amsterdam-oost,documentary,film,food,stories,transvaalbuurt
END:VEVENT
BEGIN:VEVENT
UID:19018@offbeat.amsterdam
SUMMARY:Harar\, the forgotten Islamic city
DTSTAMP:20260421T085240Z
DTSTART:20260423T170000Z
URL:https://offbeat.amsterdam/event/harar-the-forgotten-islamic-city
GEO:52.376857;4.9220756
LOCATION:Pakhuis de Zwijger - Piet Heinkade 179\, 1019 HC Amsterdam
STATUS:CONFIRMED
CATEGORIES:social,eastern docklands,documentary,community,amsterdam-centrum
	,film
END:VEVENT
BEGIN:VEVENT
UID:19284@offbeat.amsterdam
SUMMARY:🎬 Brazil Unfiltered: Southern Sorceresses (2020) + Q&A
DTSTAMP:20260421T085240Z
DTSTART:20260424T183000Z
URL:https://offbeat.amsterdam/event/brazil-unfiltered-southern-sorceresses-
	2020-qanda
GEO:52.381974;4.8703107
LOCATION:Filmhuis Cavia - Van Hallstraat 52-1\, 1051 HH Amsterdam
STATUS:CONFIRMED
CATEGORIES:q&a,activism,amsterdam-west,documentary,film,gender,improv,perfo
	rmance,staatsliedenbuurt
END:VEVENT
BEGIN:VEVENT
UID:20459@offbeat.amsterdam
SUMMARY:Amsterdam BeatClub & Nitrate Movie Nights present: TURA!
DTSTAMP:20260421T085240Z
DTSTART:20260425T170000Z
DTEND:20260425T230000Z
URL:https://offbeat.amsterdam/event/amsterdam-beatclub-and-nitrate-movie-ni
	ghts-present-tura
GEO:52.374158;4.8726931
LOCATION:De Nieuwe Anita - Frederik Hendrikstraat 111\, 1052 HN Amsterdam
STATUS:CONFIRMED
CATEGORIES:live,amsterdam-west,westerpark,documentary,movie night,film
END:VEVENT
BEGIN:VEVENT
UID:20702@offbeat.amsterdam
SUMMARY:HOPE! We Are In Time: The Secret Ingredient
DTSTAMP:20260421T085240Z
DTSTART:20260428T180000Z
URL:https://offbeat.amsterdam/event/hope-we-are-in-time-the-secret-ingredie
	nt
GEO:52.376857;4.9220756
LOCATION:Pakhuis de Zwijger - Piet Heinkade 179\, 1019 HC Amsterdam
STATUS:CONFIRMED
CATEGORIES:sustainability,talk,stories,amsterdam-centrum,documentary,easter
	n docklands,film,music
END:VEVENT
BEGIN:VEVENT
UID:20362@offbeat.amsterdam
SUMMARY:The Photographers Bernd and Hilla Becher
DTSTAMP:20260421T085240Z
DTSTART:20260430T170000Z
DTEND:20260430T190000Z
URL:https://offbeat.amsterdam/event/the-photographers-bernd-and-hilla-beche
	r
GEO:52.3676378;4.8848092
LOCATION:Huis Marseille - Keizersgracht 401\, 1016 EK Amsterdam
STATUS:CONFIRMED
CATEGORIES:classes,amsterdam-centrum,sculpture,keizersgracht,film,exhibitio
	n,documentary
END:VEVENT
BEGIN:VEVENT
UID:20744@offbeat.amsterdam
SUMMARY:Cineforum\, documentary "Raìzes Sem Terra" and discussion with dire
	ctor Francesco Ballarini
DTSTAMP:20260421T085240Z
DTSTART:20260506T170000Z
URL:https://offbeat.amsterdam/event/cineforum-documentary-raizes-sem-terra-
	and-discussion-with-director-francesco-ballarini
GEO:52.35556625;4.9249982
LOCATION:Joe's Garage - Pretoriusstraat 43\, 1092 EZ Amsterdam
STATUS:CONFIRMED
CATEGORIES:discussion,transvaalbuurt,stories,live,film,documentary,discussi
	on/presentation,amsterdam-oost
END:VEVENT
BEGIN:VEVENT
UID:19280@offbeat.amsterdam
SUMMARY:🎬 Brazil Unfiltered: My Foreign Land (2025)
DTSTAMP:20260421T085240Z
DTSTART:20260506T183000Z
URL:https://offbeat.amsterdam/event/brazil-unfiltered-my-foreign-land-2025
GEO:52.381974;4.8703107
LOCATION:Filmhuis Cavia - Van Hallstraat 52-1\, 1051 HH Amsterdam
STATUS:CONFIRMED
CATEGORIES:film,documentary,democracy,amsterdam-west,activism,staatsliedenb
	uurt
END:VEVENT
BEGIN:VEVENT
UID:19282@offbeat.amsterdam
SUMMARY:🎬 Brazil Unfiltered: Paid in Blood (2025) + Q&A
DTSTAMP:20260421T085240Z
DTSTART:20260514T183000Z
URL:https://offbeat.amsterdam/event/brazil-unfiltered-paid-in-blood-2025-qa
	nda
GEO:52.381974;4.8703107
LOCATION:Filmhuis Cavia - Van Hallstraat 52-1\, 1051 HH Amsterdam
STATUS:CONFIRMED
CATEGORIES:staatsliedenbuurt,film,documentary,amsterdam-west,activism,q&a
END:VEVENT
BEGIN:VEVENT
UID:20957@offbeat.amsterdam
SUMMARY:In the Mouth of the Room
DTSTAMP:20260421T085240Z
DTSTART:20260515T180000Z
DTEND:20260515T191500Z
URL:https://offbeat.amsterdam/event/in-the-mouth-of-the-room
GEO:52.3608907;4.9138063
LOCATION:Plein Theater - Sajetplein 39\, 1091 DB Amsterdam
STATUS:CONFIRMED
CATEGORIES:theater,amsterdam-oost,documentary,electronics,literature,live,m
	usic,oosterparkbuurt,performance,poetry,queer,reading
END:VEVENT
BEGIN:VEVENT
UID:20854@offbeat.amsterdam
SUMMARY:Images In Action
DTSTAMP:20260421T085240Z
DTSTART:20260528T173000Z
URL:https://offbeat.amsterdam/event/images-in-action
GEO:52.3699902;4.884254
LOCATION:Felix Meritis - Keizersgracht 324\, 1016 EZ Amsterdam
STATUS:CONFIRMED
CATEGORIES:documentary,amsterdam-centrum,classes,festivals,film,hip-hop,kei
	zersgracht,poetry,queer
END:VEVENT
BEGIN:VEVENT
UID:20855@offbeat.amsterdam
SUMMARY:OTION presents W.A.V.E
DTSTAMP:20260421T085240Z
DTSTART:20260529T180000Z
URL:https://offbeat.amsterdam/event/otion-presents-wave-1
GEO:52.3699902;4.884254
LOCATION:Felix Meritis - Keizersgracht 324\, 1016 EZ Amsterdam
STATUS:CONFIRMED
CATEGORIES:lecture,keizersgracht,amsterdam-centrum,classes,community,concer
	t,dance,dj,documentary,film,funk,hip-hop,storytelling,soul,queer,performan
	ce,music,live
END:VEVENT
BEGIN:VEVENT
UID:20300@offbeat.amsterdam
SUMMARY:Explodium Outdoors
DTSTAMP:20260421T085240Z
DTSTART:20260530T140000Z
URL:https://offbeat.amsterdam/event/explodium-outdoors
GEO:52.3830883;4.9030297
LOCATION:Tolhuistuin - IJpromenade 2\, 1031 KT Amsterdam
STATUS:CONFIRMED
CATEGORIES:feminism,festivals,music,performance,poetry,theater,talk,stories
	,dance,documentary,community,buiksloterweg,amsterdam-noord
END:VEVENT
BEGIN:VEVENT
UID:19305@offbeat.amsterdam
SUMMARY:Círculo Celebration & Concert- Brazilian Candomblé and the Traditio
	n of the Pristesses
DTSTAMP:20260421T085240Z
DTSTART:20260614T150000Z
URL:https://offbeat.amsterdam/event/circulo-celebration-and-concert-brazili
	an-candomble-and-the-tradition-of-the-pristesses
GEO:52.354291;4.8540331
LOCATION:Teatro Munganga - Schinkelhavenstraat 27 HS\, 1075 VP Amsterdam
STATUS:CONFIRMED
CATEGORIES:talk,workshop,schinkelbuurt,performance,music,live,film,festival
	s,documentary,concert,community,amsterdam-zuid
END:VEVENT
BEGIN:VEVENT
UID:19030@offbeat.amsterdam
SUMMARY:Nano Stern ★ Chilean Singer-Songwriter ♫
DTSTAMP:20260421T085240Z
DTSTART:20260618T183000Z
DTEND:20260618T210000Z
URL:https://offbeat.amsterdam/event/nano-stern-star-chilean-singer-songwrit
	er-beamed-eighth-notes
GEO:52.3759775;4.9275458
LOCATION:Mezrab - Veemkade 576\, 1019 BL Amsterdam
STATUS:CONFIRMED
CATEGORIES:activism,amsterdam-oost,concert,documentary,eastern docklands,ex
	perimental,festivals,film,rock,performance,music,jazz
END:VEVENT
BEGIN:VEVENT
UID:19868@offbeat.amsterdam
SUMMARY:De Ceuvel Autumn Celebration – Alternative World Animal Day
DTSTAMP:20260421T085240Z
DTSTART:20261004T090000Z
DTEND:20261004T150000Z
URL:https://offbeat.amsterdam/event/de-ceuvel-autumn-celebration-alternativ
	e-world-animal-day
GEO:52.3930912;4.9096685
LOCATION:De Ceuvel - Korte Papaverweg 2\, 1032 KB Amsterdam
STATUS:CONFIRMED
CATEGORIES:alternative,amsterdam-noord,buiksloterham,documentary,music,plan
	ts,talk,theater
END:VEVENT
END:VCALENDAR
