BEGIN:VCALENDAR
VERSION:2.0
CALSCALE:GREGORIAN
PRODID:adamgibbons/ics
METHOD:PUBLISH
X-PUBLISHED-TTL:PT1H
BEGIN:VEVENT
UID:18219@offbeat.amsterdam
SUMMARY:Atlantis x Atmosphere
DTSTAMP:20260420T053758Z
DTSTART:20260502T200000Z
DTEND:20260503T010000Z
URL:https://offbeat.amsterdam/event/atlantis-x-atmosphere
GEO:52.3601403;4.8656923
LOCATION:OT301 - Overtoom 301\, 1054 HW Amsterdam
STATUS:CONFIRMED
CATEGORIES:dnb,amsterdam-west,dj,vondelparkbuurt,drum & bass
END:VEVENT
BEGIN:VEVENT
UID:20344@offbeat.amsterdam
SUMMARY:SLIM RADIO W/ BOOGIE\, BRICK\, DJ PLATA NO\, DJKA LEVA\, DOULOU\, J
	ORDAN G\, MILAN MES\, POLLI PANDA\, PIA\, SÆNDO\, SHEPS\, SURPRISE ACTS\, 
	UGUR\, WILL WINDRIDGE\, XARLEE
DTSTAMP:20260420T053758Z
DTSTART:20260515T200000Z
DTEND:20260516T010000Z
URL:https://offbeat.amsterdam/event/slim-radio-2
GEO:52.3854467;4.9256035
LOCATION:Skatecafe Karin & Yvonne - Gedempt Hamerkanaal 42\, 1021 KM Amster
	dam
STATUS:CONFIRMED
CATEGORIES:punk,dj,dnb,hamerkwartier,hardcore,jungle,amsterdam-noord
END:VEVENT
BEGIN:VEVENT
UID:20567@offbeat.amsterdam
SUMMARY:Ritual - Drum & Bass\, Jungle
DTSTAMP:20260420T053758Z
DTSTART:20260516T190000Z
DTEND:20260517T010000Z
URL:https://offbeat.amsterdam/event/ritual-drum-and-bass-jungle
GEO:52.3966283;4.8755183
LOCATION:Toekomstmuziek - Danzigerbocht 29\, 1013 AM Amsterdam
STATUS:CONFIRMED
CATEGORIES:minervahaven,jungle,electronic,dnb,amsterdam-west,westpoort
END:VEVENT
BEGIN:VEVENT
UID:20806@offbeat.amsterdam
SUMMARY:fiber festival at murmur // trois-quarts taxi system (live) & xenia
	 reaper (live)
DTSTAMP:20260420T053758Z
DTSTART:20260528T160000Z
URL:https://offbeat.amsterdam/event/fiber-festival-at-murmur-trois-quarts-t
	axi-system-live-and-xenia-reaper-live
GEO:52.3854298;4.9279805
LOCATION:murmur - Aambeeldstraat 60\, 1021 KB Amsterdam
STATUS:CONFIRMED
CATEGORIES:live,music,amsterdam-noord,poetry,techno,opening,dj,dnb,experime
	ntal,festivals,hamerkwartier
END:VEVENT
BEGIN:VEVENT
UID:20011@offbeat.amsterdam
SUMMARY:MASSIEF
DTSTAMP:20260420T053758Z
DTSTART:20260613T190000Z
DTEND:20260614T010000Z
URL:https://offbeat.amsterdam/event/massief
GEO:52.3601403;4.8656923
LOCATION:OT301 - Overtoom 301\, 1054 HW Amsterdam
STATUS:CONFIRMED
CATEGORIES:vinyl,amsterdam-west,bass,breakbeat,community,dance,dj,dnb,drum 
	& bass,dubstep,electronic,electronics,exhibition,experimental,festivals,ha
	rdcore,jungle,music,party,rave,talk,techno,vondelparkbuurt
END:VEVENT
END:VCALENDAR
