BEGIN:VCALENDAR
VERSION:2.0
CALSCALE:GREGORIAN
PRODID:adamgibbons/ics
METHOD:PUBLISH
X-PUBLISHED-TTL:PT1H
BEGIN:VEVENT
UID:20166@offbeat.amsterdam
SUMMARY:Artistic Freedom and the Future of Democracy
DTSTAMP:20260420T035430Z
DTSTART:20260420T143000Z
DTEND:20260420T163000Z
URL:https://offbeat.amsterdam/event/artistic-freedom-and-the-future-of-demo
	cracy
GEO:52.3690637;4.894763
LOCATION:VOX-POP - Binnengasthuisstraat 9\, 1012 ZA Amsterdam
STATUS:CONFIRMED
CATEGORIES:q&a,amsterdam-centrum,burgwallen,democracy,discussion,exhibition
	,lecture,music
END:VEVENT
BEGIN:VEVENT
UID:19896@offbeat.amsterdam
SUMMARY:​​On Failure: Error and Defeat in the Arts of the Dutch Republic​
DTSTAMP:20260420T035430Z
DTSTART:20260421T150000Z
URL:https://offbeat.amsterdam/event/on-failure-error-and-defeat-in-the-arts
	-of-the-dutch-republic
GEO:52.3685931;4.8896879
LOCATION:SPUI25 - Spui 25-27\, 1012 WX Amsterdam
STATUS:CONFIRMED
CATEGORIES:amsterdam-centrum,workshop,spui,discussion
END:VEVENT
BEGIN:VEVENT
UID:19286@offbeat.amsterdam
SUMMARY:Workshop Post-Tyranny Tech & Digital Independence
DTSTAMP:20260420T035430Z
DTSTART:20260423T110000Z
DTEND:20260423T140000Z
URL:https://offbeat.amsterdam/event/open-call-workshop-post-tyranny-tech-an
	d-digital-independence
GEO:52.3568405;4.9323245
LOCATION:Framer Framed - Oranje-Vrijstaatkade 71\, 1093KS Amsterdam
STATUS:CONFIRMED
CATEGORIES:discussion,dapperbuurt,workshop,alternative,amsterdam-oost
END:VEVENT
BEGIN:VEVENT
UID:19961@offbeat.amsterdam
SUMMARY:Human.VPN/someplace_else (dance graffiti) by Marina Orlova (Try out
	)
DTSTAMP:20260420T035430Z
DTSTART:20260423T180000Z
DTEND:20260423T200000Z
URL:https://offbeat.amsterdam/event/humanvpnsomeplace_else-dance-graffiti-b
	y-marina-orlova-try-out
GEO:52.368298;4.911167641156702
LOCATION:Plantage Dok - Plantage Doklaan 8-12\, 1018 CM
STATUS:CONFIRMED
CATEGORIES:plantage,artist in residency,av,code,community,dance,digital,dis
	cussion,experimental,festivals,immersive,lecture,live,mental health,perfor
	mance,politics,try-out,theater,technology,talk,stage,amsterdam-centrum
END:VEVENT
BEGIN:VEVENT
UID:20792@offbeat.amsterdam
SUMMARY:Book Presentation and Workshop: They asked me to design a house\, I
	 asked them to design a home
DTSTAMP:20260420T035430Z
DTSTART:20260430T160000Z
DTEND:20260430T180000Z
URL:https://offbeat.amsterdam/event/book-presentation-and-workshop-they-ask
	ed-me-to-design-a-house-i-asked-them-to-design-a-home
GEO:52.3568405;4.9323245
LOCATION:Framer Framed - Oranje-Vrijstaatkade 71\, 1093KS Amsterdam
STATUS:CONFIRMED
CATEGORIES:books,workshop,discussion,dapperbuurt,amsterdam-oost
END:VEVENT
BEGIN:VEVENT
UID:20913@offbeat.amsterdam
SUMMARY:(PRE)FIGURING FASCISM #1: Border Imperialism in the Balkans
DTSTAMP:20260420T035430Z
DTSTART:20260501T150000Z
DTEND:20260501T170000Z
URL:https://offbeat.amsterdam/event/prefiguring-fascism-1-border-imperialis
	m-in-the-balkans
GEO:52.3691111;4.9018933
LOCATION:Het Fort van Sjakoo - Jodenbreestraat 24\, 1011 NK Amsterdam
STATUS:CONFIRMED
CATEGORIES:nieuwmarkt/lastage,capitalism,talk,colonialism,discussion,amster
	dam-centrum
END:VEVENT
BEGIN:VEVENT
UID:20601@offbeat.amsterdam
SUMMARY:Dag van de Empathie | Empathie als Verzet
DTSTAMP:20260420T035430Z
DTSTART:20260503T170000Z
URL:https://offbeat.amsterdam/event/dag-van-de-empathie-or-empathie-als-ver
	zet
GEO:52.3830883;4.9030297
LOCATION:Tolhuistuin - IJpromenade 2\, 1031 KT Amsterdam
STATUS:CONFIRMED
CATEGORIES:discussion,activism,amsterdam-noord,buiksloterweg
END:VEVENT
BEGIN:VEVENT
UID:20744@offbeat.amsterdam
SUMMARY:Cineforum\, documentary "Raìzes Sem Terra" and discussion with dire
	ctor Francesco Ballarini
DTSTAMP:20260420T035430Z
DTSTART:20260506T170000Z
URL:https://offbeat.amsterdam/event/cineforum-documentary-raizes-sem-terra-
	and-discussion-with-director-francesco-ballarini
GEO:52.35556625;4.9249982
LOCATION:Joe's Garage - Pretoriusstraat 43\, 1092 EZ Amsterdam
STATUS:CONFIRMED
CATEGORIES:discussion/presentation,amsterdam-oost,discussion,documentary,fi
	lm,live,stories,transvaalbuurt
END:VEVENT
BEGIN:VEVENT
UID:20890@offbeat.amsterdam
SUMMARY:Remembering Steve Kurz
DTSTAMP:20260420T035430Z
DTSTART:20260507T173000Z
DTEND:20260507T193000Z
URL:https://offbeat.amsterdam/event/remembering-steve-kurz
GEO:52.3727735;4.9003436
LOCATION:Waag - Nieuwmarkt 4\, 1012 CR Amsterdam
STATUS:CONFIRMED
CATEGORIES:festivals,experimental,books,amsterdam-centrum,nieuwmarkt/lastag
	e,film,live,electronics,discussion
END:VEVENT
BEGIN:VEVENT
UID:20432@offbeat.amsterdam
SUMMARY:Collective and creative translation workshop of Kim Hyesoon's 'Auto
	biography of Death'
DTSTAMP:20260420T035430Z
DTSTART:20260510T100000Z
URL:https://offbeat.amsterdam/event/collective-and-creative-translation-wor
	kshop-of-kim-hyesoons-autobiography-of-death
GEO:52.3689174;4.896321
LOCATION:Perdu - Kloveniersburgwal 86\, 1012 CZ Amsterdam
STATUS:CONFIRMED
CATEGORIES:multilingual,workshop,amsterdam-centrum,burgwallen,discussion,pe
	rdu programme
END:VEVENT
BEGIN:VEVENT
UID:20354@offbeat.amsterdam
SUMMARY:History\, Memory\, Commemoration: Sulawesi
DTSTAMP:20260420T035430Z
DTSTART:20260510T140000Z
URL:https://offbeat.amsterdam/event/history-memory-commemoration-sulawesi
GEO:52.3630433;4.8828596
LOCATION:De Balie - Kleine-Gartmanplantsoen 10\, 1017 RR Amsterdam
STATUS:CONFIRMED
CATEGORIES:discussion,film,idee & verbeelding,leidseplein,amsterdam-centrum
END:VEVENT
BEGIN:VEVENT
UID:20630@offbeat.amsterdam
SUMMARY:Symposihmm 💬 The New Orality
DTSTAMP:20260420T035430Z
DTSTART:20260516T113000Z
DTEND:20260516T160000Z
URL:https://offbeat.amsterdam/event/symposihmm-the-new-orality
GEO:52.4013688;4.8958065
LOCATION:The Hmm - NDSM-plein 125\, 1033 WB Amsterdam
STATUS:CONFIRMED
CATEGORIES:discussion,performance,live
END:VEVENT
BEGIN:VEVENT
UID:20302@offbeat.amsterdam
SUMMARY:RAFI 4 KURDISTAN
DTSTAMP:20260420T035430Z
DTSTART:20260524T120000Z
URL:https://offbeat.amsterdam/event/rafi-4-kurdistan
GEO:52.3830883;4.9030297
LOCATION:Tolhuistuin - IJpromenade 2\, 1031 KT Amsterdam
STATUS:CONFIRMED
CATEGORIES:buiksloterweg,amsterdam-noord,books,community,discussion,film,fo
	od,music
END:VEVENT
BEGIN:VEVENT
UID:17949@offbeat.amsterdam
SUMMARY:Public Problematisations of AI
DTSTAMP:20260420T035430Z
DTSTART:20260527T150000Z
URL:https://offbeat.amsterdam/event/public-problematisations-of-ai
GEO:52.3685931;4.8896879
LOCATION:SPUI25 - Spui 25-27\, 1012 WX Amsterdam
STATUS:CONFIRMED
CATEGORIES:storytelling,amsterdam-centrum,discussion,spui,alternative
END:VEVENT
BEGIN:VEVENT
UID:20862@offbeat.amsterdam
SUMMARY:The Real Housewives of ATLANTA (Media analysis)
DTSTAMP:20260420T035430Z
DTSTART:20260528T180000Z
URL:https://offbeat.amsterdam/event/the-real-housewives-of-atlanta-media-an
	alysis
GEO:52.376857;4.9220756
LOCATION:Pakhuis de Zwijger - Piet Heinkade 179\, 1019 HC Amsterdam
STATUS:CONFIRMED
CATEGORIES:community,creative industries,discussion,eastern docklands,amste
	rdam-centrum
END:VEVENT
BEGIN:VEVENT
UID:19825@offbeat.amsterdam
SUMMARY:Brainwave #5 | Mar Azul: Reflections on Loss and Migratory Grief in
	 the Cape Verdean Diaspora
DTSTAMP:20260420T035430Z
DTSTART:20260604T170000Z
DTEND:20260604T190000Z
URL:https://offbeat.amsterdam/event/brainwave-mar-azul-reflections-on-loss-
	and-migratory-grief-in-the-cape-verdean-diaspora
GEO:52.3690637;4.894763
LOCATION:VOX-POP - Binnengasthuisstraat 9\, 1012 ZA Amsterdam
STATUS:CONFIRMED
CATEGORIES:film,community,burgwallen,amsterdam-centrum,discussion
END:VEVENT
BEGIN:VEVENT
UID:19680@offbeat.amsterdam
SUMMARY:Composers Soundtracks Festival Concert with Brazilian and Dutch Com
	posers
DTSTAMP:20260420T035430Z
DTSTART:20260605T170000Z
URL:https://offbeat.amsterdam/event/composers-soundtracks-festival-liveconc
	ert-by-brazilian-and-dutch-composers
GEO:52.354291;4.8540331
LOCATION:Teatro Munganga - Schinkelhavenstraat 27 HS\, 1075 VP Amsterdam
STATUS:CONFIRMED
CATEGORIES:opening,schinkelbuurt,concert,amsterdam-zuid,music,live,film,fes
	tivals,discussion,storytelling,workshop
END:VEVENT
BEGIN:VEVENT
UID:19681@offbeat.amsterdam
SUMMARY:Composers Soundtracks Festival Concert with CSF String Quintet
DTSTAMP:20260420T035430Z
DTSTART:20260606T170000Z
URL:https://offbeat.amsterdam/event/composers-soundtracks-festival-soundtra
	ck-concert-with-guest-string-quintet
GEO:52.354291;4.8540331
LOCATION:Teatro Munganga - Schinkelhavenstraat 27 HS\, 1075 VP Amsterdam
STATUS:CONFIRMED
CATEGORIES:film,festivals,discussion,concert,amsterdam-zuid,music,workshop,
	schinkelbuurt
END:VEVENT
END:VCALENDAR
