BEGIN:VCALENDAR
VERSION:2.0
CALSCALE:GREGORIAN
PRODID:adamgibbons/ics
METHOD:PUBLISH
X-PUBLISHED-TTL:PT1H
BEGIN:VEVENT
UID:12320@offbeat.amsterdam
SUMMARY:FUNHOUSE
DTSTAMP:20260419T223336Z
DTSTART:20260420T163000Z
URL:https://offbeat.amsterdam/event/funhouse-1
GEO:52.3711125;4.8900771
LOCATION:Theater de Richel - Nieuwezijds Voorburgwal 282\, 1012 RT Amsterda
	m
STATUS:CONFIRMED
CATEGORIES:amsterdam-centrum,dialoog,film,kunst,music,spui,theater,workshop
END:VEVENT
END:VCALENDAR
