BEGIN:VCALENDAR
VERSION:2.0
CALSCALE:GREGORIAN
PRODID:adamgibbons/ics
METHOD:PUBLISH
X-PUBLISHED-TTL:PT1H
BEGIN:VEVENT
UID:21226@offbeat.amsterdam
SUMMARY:Akatsuki Collective
DTSTAMP:20260425T193352Z
DTSTART:20260523T200000Z
DTEND:20260524T010000Z
URL:https://offbeat.amsterdam/event/akatsuki-collective
GEO:52.3966283;4.8755183
LOCATION:Toekomstmuziek - Danzigerbocht 29\, 1013 AM Amsterdam
STATUS:CONFIRMED
CATEGORIES:amsterdam-west,club-edits,drum n bass,electronic,garage,jungle,m
	inervahaven,westpoort
END:VEVENT
END:VCALENDAR
