BEGIN:VCALENDAR
VERSION:2.0
CALSCALE:GREGORIAN
PRODID:adamgibbons/ics
METHOD:PUBLISH
X-PUBLISHED-TTL:PT1H
BEGIN:VEVENT
UID:18451@offbeat.amsterdam
SUMMARY:The Comedy Underground
DTSTAMP:20260421T102937Z
DTSTART:20260422T190000Z
URL:https://offbeat.amsterdam/event/the-comedy-underground-19
GEO:52.3711125;4.8900771
LOCATION:Theater de Richel - Nieuwezijds Voorburgwal 282\, 1012 RT Amsterda
	m
STATUS:CONFIRMED
CATEGORIES:comedy,theater,amsterdam-centrum,improv,experimental,kleine-zaal
	,live,music,open mic,performance,spui,alternative,english,cabaret
END:VEVENT
BEGIN:VEVENT
UID:16479@offbeat.amsterdam
SUMMARY:Betty Friday – vrij-mi-bo cabaret – MC020
DTSTAMP:20260421T102937Z
DTSTART:20260424T153000Z
URL:https://offbeat.amsterdam/event/betty-friday-vrij-mi-bo-cabaret-mc020-2
	0
GEO:52.3711125;4.8900771
LOCATION:Theater de Richel - Nieuwezijds Voorburgwal 282\, 1012 RT Amsterda
	m
STATUS:CONFIRMED
CATEGORIES:amsterdam-centrum,theater,spui,muziek,music,kleinkunst,cabaret
END:VEVENT
BEGIN:VEVENT
UID:14921@offbeat.amsterdam
SUMMARY:Bob Koomen – Peer
DTSTAMP:20260421T102937Z
DTSTART:20260424T170000Z
URL:https://offbeat.amsterdam/event/bob-koomen-peer
GEO:52.3711125;4.8900771
LOCATION:Theater de Richel - Nieuwezijds Voorburgwal 282\, 1012 RT Amsterda
	m
STATUS:CONFIRMED
CATEGORIES:spui,amsterdam-centrum,cabaret,festivals,kleine-zaal,try-out
END:VEVENT
BEGIN:VEVENT
UID:18539@offbeat.amsterdam
SUMMARY:Bring Drag Back to the Theatre #2: Live Lips
DTSTAMP:20260421T102937Z
DTSTART:20260424T183000Z
DTEND:20260424T193000Z
URL:https://offbeat.amsterdam/event/bring-drag-back-to-the-theatre-2
GEO:52.3608907;4.9138063
LOCATION:Plein Theater - Sajetplein 39\, 1091 DB Amsterdam
STATUS:CONFIRMED
CATEGORIES:theater,theatre,amsterdam-oost,cabaret,dance,gender,jazz,live,mu
	sic,oosterparkbuurt,performance,storytelling
END:VEVENT
BEGIN:VEVENT
UID:16411@offbeat.amsterdam
SUMMARY:Ayoub – En verbied de vogels om te fluiten
DTSTAMP:20260421T102937Z
DTSTART:20260425T180000Z
URL:https://offbeat.amsterdam/event/ayoub-en-verbied-de-vogels-om-te-fluite
	n
GEO:52.3711125;4.8900771
LOCATION:Theater de Richel - Nieuwezijds Voorburgwal 282\, 1012 RT Amsterda
	m
STATUS:CONFIRMED
CATEGORIES:amsterdam-centrum,cabaret,music,spui
END:VEVENT
BEGIN:VEVENT
UID:14191@offbeat.amsterdam
SUMMARY:Club Kristall
DTSTAMP:20260421T102937Z
DTSTART:20260425T180000Z
URL:https://offbeat.amsterdam/event/club-kristall
GEO:52.3711125;4.8900771
LOCATION:Theater de Richel - Nieuwezijds Voorburgwal 282\, 1012 RT Amsterda
	m
STATUS:CONFIRMED
CATEGORIES:cabaret,theater,muziek,spui,amsterdam-centrum
END:VEVENT
BEGIN:VEVENT
UID:18452@offbeat.amsterdam
SUMMARY:The Comedy Underground
DTSTAMP:20260421T102937Z
DTSTART:20260429T190000Z
URL:https://offbeat.amsterdam/event/the-comedy-underground-20
GEO:52.3711125;4.8900771
LOCATION:Theater de Richel - Nieuwezijds Voorburgwal 282\, 1012 RT Amsterda
	m
STATUS:CONFIRMED
CATEGORIES:theater,comedy,english,experimental,improv,kleine-zaal,cabaret,a
	msterdam-centrum,live,music,open mic,performance,spui,alternative
END:VEVENT
BEGIN:VEVENT
UID:16480@offbeat.amsterdam
SUMMARY:Betty Friday – vrij-mi-bo cabaret – MC020
DTSTAMP:20260421T102937Z
DTSTART:20260501T153000Z
URL:https://offbeat.amsterdam/event/betty-friday-vrij-mi-bo-cabaret-mc020-2
	1
GEO:52.3711125;4.8900771
LOCATION:Theater de Richel - Nieuwezijds Voorburgwal 282\, 1012 RT Amsterda
	m
STATUS:CONFIRMED
CATEGORIES:cabaret,amsterdam-centrum,kleinkunst,music,muziek,spui,theater
END:VEVENT
BEGIN:VEVENT
UID:20278@offbeat.amsterdam
SUMMARY:F*CK W*RK Labour day special by FRXCTOSE & full service
DTSTAMP:20260421T102937Z
DTSTART:20260501T180000Z
URL:https://offbeat.amsterdam/event/fck-wrk-labour-day-special-by-frxctose-
	and-full-service
GEO:52.354338;4.8553367
LOCATION:OCCII - Amstelveenseweg 134\, 1075 XL Amsterdam
STATUS:CONFIRMED
CATEGORIES:cabaret,club night,dinner,community,queer,schinkelbuurt,erotic c
	abaret,party,workshop,amsterdam-zuid
END:VEVENT
BEGIN:VEVENT
UID:17446@offbeat.amsterdam
SUMMARY:Het Been van Manke Nelis…..en andere verhalen – Amsterdams Allooi
DTSTAMP:20260421T102937Z
DTSTART:20260502T130000Z
URL:https://offbeat.amsterdam/event/het-been-van-manke-nelisen-andere-verha
	len-amsterdams-allooi
GEO:52.3711125;4.8900771
LOCATION:Theater de Richel - Nieuwezijds Voorburgwal 282\, 1012 RT Amsterda
	m
STATUS:CONFIRMED
CATEGORIES:spui,amsterdam-centrum,cabaret,muziek
END:VEVENT
BEGIN:VEVENT
UID:17444@offbeat.amsterdam
SUMMARY:Amsterdams Allooi – In Gelul kun je niet wonen
DTSTAMP:20260421T102937Z
DTSTART:20260502T180000Z
URL:https://offbeat.amsterdam/event/amsterdams-allooi-in-gelul-kun-je-niet-
	wonen
GEO:52.3711125;4.8900771
LOCATION:Theater de Richel - Nieuwezijds Voorburgwal 282\, 1012 RT Amsterda
	m
STATUS:CONFIRMED
CATEGORIES:spui,amsterdam-centrum,cabaret,piano
END:VEVENT
BEGIN:VEVENT
UID:20947@offbeat.amsterdam
SUMMARY:Songcycle for a Sad Clown
DTSTAMP:20260421T102937Z
DTSTART:20260506T183000Z
URL:https://offbeat.amsterdam/event/songcycle-for-a-sad-clown
GEO:52.3699078;4.9032848
LOCATION:Splendor - Nieuwe Uilenburgerstraat 116\, 1011 LX Amsterdam
STATUS:CONFIRMED
CATEGORIES:cabaret,theater,piano,performance,nieuwmarkt/lastage,music,festi
	vals,experimental,concert,amsterdam-centrum,alternative
END:VEVENT
BEGIN:VEVENT
UID:18453@offbeat.amsterdam
SUMMARY:The Comedy Underground
DTSTAMP:20260421T102937Z
DTSTART:20260506T190000Z
URL:https://offbeat.amsterdam/event/the-comedy-underground-21
GEO:52.3711125;4.8900771
LOCATION:Theater de Richel - Nieuwezijds Voorburgwal 282\, 1012 RT Amsterda
	m
STATUS:CONFIRMED
CATEGORIES:experimental,spui,theater,performance,live,kleine-zaal,improv,en
	glish,alternative,amsterdam-centrum,cabaret,comedy,open mic,music
END:VEVENT
BEGIN:VEVENT
UID:14942@offbeat.amsterdam
SUMMARY:Martijn Koning – try-out
DTSTAMP:20260421T102937Z
DTSTART:20260507T180000Z
URL:https://offbeat.amsterdam/event/martijn-koning-try-out
GEO:52.3711125;4.8900771
LOCATION:Theater de Richel - Nieuwezijds Voorburgwal 282\, 1012 RT Amsterda
	m
STATUS:CONFIRMED
CATEGORIES:amsterdam-centrum,cabaret,spui,try-out
END:VEVENT
BEGIN:VEVENT
UID:20948@offbeat.amsterdam
SUMMARY:Songcycle for a Sad Clown
DTSTAMP:20260421T102937Z
DTSTART:20260507T183000Z
URL:https://offbeat.amsterdam/event/songcycle-for-a-sad-clown-1
GEO:52.3699078;4.9032848
LOCATION:Splendor - Nieuwe Uilenburgerstraat 116\, 1011 LX Amsterdam
STATUS:CONFIRMED
CATEGORIES:theater,alternative,amsterdam-centrum,cabaret,concert,experiment
	al,festivals,music,nieuwmarkt/lastage,performance,piano
END:VEVENT
BEGIN:VEVENT
UID:16481@offbeat.amsterdam
SUMMARY:Betty Friday – vrij-mi-bo cabaret – MC020
DTSTAMP:20260421T102937Z
DTSTART:20260508T153000Z
URL:https://offbeat.amsterdam/event/betty-friday-vrij-mi-bo-cabaret-mc020-2
	2
GEO:52.3711125;4.8900771
LOCATION:Theater de Richel - Nieuwezijds Voorburgwal 282\, 1012 RT Amsterda
	m
STATUS:CONFIRMED
CATEGORIES:kleinkunst,theater,spui,muziek,music,amsterdam-centrum,cabaret
END:VEVENT
BEGIN:VEVENT
UID:20719@offbeat.amsterdam
SUMMARY:Gafieira Social Club by Cabaret Brasil
DTSTAMP:20260421T102937Z
DTSTART:20260508T180000Z
URL:https://offbeat.amsterdam/event/gafieira-social-club-by-cabaret-brasil-
	8
GEO:52.354291;4.8540331
LOCATION:Teatro Munganga - Schinkelhavenstraat 27 HS\, 1075 VP Amsterdam
STATUS:CONFIRMED
CATEGORIES:amsterdam-zuid,cabaret,dance,piano,schinkelbuurt
END:VEVENT
BEGIN:VEVENT
UID:16593@offbeat.amsterdam
SUMMARY:Open BAK
DTSTAMP:20260421T102937Z
DTSTART:20260512T180000Z
URL:https://offbeat.amsterdam/event/open-bak-12
GEO:52.3711125;4.8900771
LOCATION:Theater de Richel - Nieuwezijds Voorburgwal 282\, 1012 RT Amsterda
	m
STATUS:CONFIRMED
CATEGORIES:muziek,amsterdam-centrum,cabaret,poezie,spui,theater,kleinkunst
END:VEVENT
BEGIN:VEVENT
UID:18454@offbeat.amsterdam
SUMMARY:The Comedy Underground
DTSTAMP:20260421T102937Z
DTSTART:20260513T190000Z
URL:https://offbeat.amsterdam/event/the-comedy-underground-22
GEO:52.3711125;4.8900771
LOCATION:Theater de Richel - Nieuwezijds Voorburgwal 282\, 1012 RT Amsterda
	m
STATUS:CONFIRMED
CATEGORIES:comedy,performance,spui,english,theater,experimental,improv,klei
	ne-zaal,live,music,open mic,cabaret,amsterdam-centrum,alternative
END:VEVENT
BEGIN:VEVENT
UID:16482@offbeat.amsterdam
SUMMARY:Betty Friday – vrij-mi-bo cabaret – MC020
DTSTAMP:20260421T102937Z
DTSTART:20260515T153000Z
URL:https://offbeat.amsterdam/event/betty-friday-vrij-mi-bo-cabaret-mc020-2
	3
GEO:52.3711125;4.8900771
LOCATION:Theater de Richel - Nieuwezijds Voorburgwal 282\, 1012 RT Amsterda
	m
STATUS:CONFIRMED
CATEGORIES:muziek,music,kleinkunst,cabaret,theater,amsterdam-centrum,spui
END:VEVENT
BEGIN:VEVENT
UID:19790@offbeat.amsterdam
SUMMARY:StandOut’s Arabic Stand Up Showcase Show
DTSTAMP:20260421T102937Z
DTSTART:20260515T180000Z
URL:https://offbeat.amsterdam/event/standouts-arabic-stand-up-showcase-show
	-6
GEO:52.3711125;4.8900771
LOCATION:Theater de Richel - Nieuwezijds Voorburgwal 282\, 1012 RT Amsterda
	m
STATUS:CONFIRMED
CATEGORIES:amsterdam-centrum,spui,cabaret,comedy,arabic
END:VEVENT
BEGIN:VEVENT
UID:18000@offbeat.amsterdam
SUMMARY:Kim Schuddeboom en Luuk Weggemans – Dubbel
DTSTAMP:20260421T102937Z
DTSTART:20260515T180000Z
URL:https://offbeat.amsterdam/event/kim-schuddeboom-en-luuk-weggemans-dubbe
	l
GEO:52.3711125;4.8900771
LOCATION:Theater de Richel - Nieuwezijds Voorburgwal 282\, 1012 RT Amsterda
	m
STATUS:CONFIRMED
CATEGORIES:spui,amsterdam-centrum,cabaret,comedy,festivals
END:VEVENT
BEGIN:VEVENT
UID:16416@offbeat.amsterdam
SUMMARY:Kim Schuddeboom en Marie Koet – Dubbel
DTSTAMP:20260421T102937Z
DTSTART:20260516T180000Z
URL:https://offbeat.amsterdam/event/kim-schuddeboom-en-marie-koet-dubbel
GEO:52.3711125;4.8900771
LOCATION:Theater de Richel - Nieuwezijds Voorburgwal 282\, 1012 RT Amsterda
	m
STATUS:CONFIRMED
CATEGORIES:cabaret,amsterdam-centrum,comedy,spui
END:VEVENT
BEGIN:VEVENT
UID:16594@offbeat.amsterdam
SUMMARY:Open BAK
DTSTAMP:20260421T102937Z
DTSTART:20260519T180000Z
URL:https://offbeat.amsterdam/event/open-bak-13
GEO:52.3711125;4.8900771
LOCATION:Theater de Richel - Nieuwezijds Voorburgwal 282\, 1012 RT Amsterda
	m
STATUS:CONFIRMED
CATEGORIES:cabaret,amsterdam-centrum,theater,spui,poezie,muziek,kleinkunst
END:VEVENT
BEGIN:VEVENT
UID:18455@offbeat.amsterdam
SUMMARY:The Comedy Underground
DTSTAMP:20260421T102937Z
DTSTART:20260520T190000Z
URL:https://offbeat.amsterdam/event/the-comedy-underground-23
GEO:52.3711125;4.8900771
LOCATION:Theater de Richel - Nieuwezijds Voorburgwal 282\, 1012 RT Amsterda
	m
STATUS:CONFIRMED
CATEGORIES:music,open mic,performance,spui,theater,alternative,improv,klein
	e-zaal,live,amsterdam-centrum,cabaret,comedy,english,experimental
END:VEVENT
BEGIN:VEVENT
UID:20967@offbeat.amsterdam
SUMMARY:Keldercabaret
DTSTAMP:20260421T102937Z
DTSTART:20260521T183000Z
DTEND:20260521T210000Z
URL:https://offbeat.amsterdam/event/keldercabaret-6
GEO:52.374158;4.8726931
LOCATION:De Nieuwe Anita - Frederik Hendrikstraat 111\, 1052 HN Amsterdam
STATUS:CONFIRMED
CATEGORIES:westerpark,cabaret,amsterdam-west
END:VEVENT
BEGIN:VEVENT
UID:16483@offbeat.amsterdam
SUMMARY:Betty Friday – vrij-mi-bo cabaret – MC020
DTSTAMP:20260421T102937Z
DTSTART:20260522T153000Z
URL:https://offbeat.amsterdam/event/betty-friday-vrij-mi-bo-cabaret-mc020-2
	4
GEO:52.3711125;4.8900771
LOCATION:Theater de Richel - Nieuwezijds Voorburgwal 282\, 1012 RT Amsterda
	m
STATUS:CONFIRMED
CATEGORIES:cabaret,theater,spui,muziek,music,kleinkunst,amsterdam-centrum
END:VEVENT
BEGIN:VEVENT
UID:19164@offbeat.amsterdam
SUMMARY:Raoul Heertje begrijpt steeds minder
DTSTAMP:20260421T102937Z
DTSTART:20260522T180000Z
URL:https://offbeat.amsterdam/event/raoul-heertje-begrijpt-steeds-minder
GEO:52.3711125;4.8900771
LOCATION:Theater de Richel - Nieuwezijds Voorburgwal 282\, 1012 RT Amsterda
	m
STATUS:CONFIRMED
CATEGORIES:cabaret,comedy,spui,amsterdam-centrum
END:VEVENT
BEGIN:VEVENT
UID:18599@offbeat.amsterdam
SUMMARY:Quincy van Driesten – Op Gevoel
DTSTAMP:20260421T102937Z
DTSTART:20260522T180000Z
URL:https://offbeat.amsterdam/event/quincy-van-driesten-op-gevoel
GEO:52.3711125;4.8900771
LOCATION:Theater de Richel - Nieuwezijds Voorburgwal 282\, 1012 RT Amsterda
	m
STATUS:CONFIRMED
CATEGORIES:amsterdam-centrum,cabaret,spui,theater
END:VEVENT
BEGIN:VEVENT
UID:14944@offbeat.amsterdam
SUMMARY:Max van den Burg – Maxikozi
DTSTAMP:20260421T102937Z
DTSTART:20260524T180000Z
URL:https://offbeat.amsterdam/event/max-van-den-burg-maxikozi
GEO:52.3711125;4.8900771
LOCATION:Theater de Richel - Nieuwezijds Voorburgwal 282\, 1012 RT Amsterda
	m
STATUS:CONFIRMED
CATEGORIES:try-out,cabaret,amsterdam-centrum,spui,music,comedy
END:VEVENT
BEGIN:VEVENT
UID:16595@offbeat.amsterdam
SUMMARY:Open BAK
DTSTAMP:20260421T102937Z
DTSTART:20260526T180000Z
URL:https://offbeat.amsterdam/event/open-bak-14
GEO:52.3711125;4.8900771
LOCATION:Theater de Richel - Nieuwezijds Voorburgwal 282\, 1012 RT Amsterda
	m
STATUS:CONFIRMED
CATEGORIES:cabaret,spui,theater,kleinkunst,amsterdam-centrum,muziek,poezie
END:VEVENT
BEGIN:VEVENT
UID:18456@offbeat.amsterdam
SUMMARY:The Comedy Underground
DTSTAMP:20260421T102937Z
DTSTART:20260527T190000Z
URL:https://offbeat.amsterdam/event/the-comedy-underground-24
GEO:52.3711125;4.8900771
LOCATION:Theater de Richel - Nieuwezijds Voorburgwal 282\, 1012 RT Amsterda
	m
STATUS:CONFIRMED
CATEGORIES:kleine-zaal,alternative,amsterdam-centrum,cabaret,comedy,english
	,experimental,improv,live,music,open mic,performance,spui,theater
END:VEVENT
BEGIN:VEVENT
UID:16484@offbeat.amsterdam
SUMMARY:Betty Friday – vrij-mi-bo cabaret – MC020
DTSTAMP:20260421T102937Z
DTSTART:20260529T153000Z
URL:https://offbeat.amsterdam/event/betty-friday-vrij-mi-bo-cabaret-mc020-2
	5
GEO:52.3711125;4.8900771
LOCATION:Theater de Richel - Nieuwezijds Voorburgwal 282\, 1012 RT Amsterda
	m
STATUS:CONFIRMED
CATEGORIES:amsterdam-centrum,theater,spui,muziek,music,kleinkunst,cabaret
END:VEVENT
BEGIN:VEVENT
UID:15197@offbeat.amsterdam
SUMMARY:Marie Koet – Eindspel (try-out)
DTSTAMP:20260421T102937Z
DTSTART:20260529T180000Z
URL:https://offbeat.amsterdam/event/marie-koet
GEO:52.3711125;4.8900771
LOCATION:Theater de Richel - Nieuwezijds Voorburgwal 282\, 1012 RT Amsterda
	m
STATUS:CONFIRMED
CATEGORIES:amsterdam-centrum,cabaret,comedy,spui
END:VEVENT
BEGIN:VEVENT
UID:16596@offbeat.amsterdam
SUMMARY:Open BAK
DTSTAMP:20260421T102937Z
DTSTART:20260602T180000Z
URL:https://offbeat.amsterdam/event/open-bak-15
GEO:52.3711125;4.8900771
LOCATION:Theater de Richel - Nieuwezijds Voorburgwal 282\, 1012 RT Amsterda
	m
STATUS:CONFIRMED
CATEGORIES:spui,poezie,theater,muziek,kleinkunst,cabaret,amsterdam-centrum
END:VEVENT
BEGIN:VEVENT
UID:18457@offbeat.amsterdam
SUMMARY:The Comedy Underground
DTSTAMP:20260421T102937Z
DTSTART:20260603T190000Z
URL:https://offbeat.amsterdam/event/the-comedy-underground-25
GEO:52.3711125;4.8900771
LOCATION:Theater de Richel - Nieuwezijds Voorburgwal 282\, 1012 RT Amsterda
	m
STATUS:CONFIRMED
CATEGORIES:experimental,improv,kleine-zaal,live,music,open mic,performance,
	spui,theater,alternative,amsterdam-centrum,cabaret,comedy,english
END:VEVENT
BEGIN:VEVENT
UID:16485@offbeat.amsterdam
SUMMARY:Betty Friday – vrij-mi-bo cabaret – MC020
DTSTAMP:20260421T102937Z
DTSTART:20260605T153000Z
URL:https://offbeat.amsterdam/event/betty-friday-vrij-mi-bo-cabaret-mc020-2
	6
GEO:52.3711125;4.8900771
LOCATION:Theater de Richel - Nieuwezijds Voorburgwal 282\, 1012 RT Amsterda
	m
STATUS:CONFIRMED
CATEGORIES:music,spui,theater,amsterdam-centrum,cabaret,kleinkunst,muziek
END:VEVENT
BEGIN:VEVENT
UID:12343@offbeat.amsterdam
SUMMARY:Luuk Weggemans – Lach maar om mij (try-out) + voorprogramma door Fe
	e Oomes
DTSTAMP:20260421T102937Z
DTSTART:20260605T180000Z
URL:https://offbeat.amsterdam/event/luuk-weggemans-de-aller-allereerste-try
	-out-voorprogramma-door-fee-oomes
GEO:52.3711125;4.8900771
LOCATION:Theater de Richel - Nieuwezijds Voorburgwal 282\, 1012 RT Amsterda
	m
STATUS:CONFIRMED
CATEGORIES:comedy,festivals,spui,try-out,amsterdam-centrum,theater,cabaret
END:VEVENT
BEGIN:VEVENT
UID:20922@offbeat.amsterdam
SUMMARY:Ilker Delikaya – Ik Doe Ook Maar wat (Try-out) + Special Guest Shar
	iff Nasr
DTSTAMP:20260421T102937Z
DTSTART:20260608T180000Z
URL:https://offbeat.amsterdam/event/ilker-delikaya-and-sharif-nasr-ik-doe-o
	ok-maar-wat
GEO:52.3711125;4.8900771
LOCATION:Theater de Richel - Nieuwezijds Voorburgwal 282\, 1012 RT Amsterda
	m
STATUS:CONFIRMED
CATEGORIES:cabaret,amsterdam-centrum,spui
END:VEVENT
BEGIN:VEVENT
UID:19163@offbeat.amsterdam
SUMMARY:Dolf Jansen – Oudejaars 2026
DTSTAMP:20260421T102937Z
DTSTART:20260609T180000Z
URL:https://offbeat.amsterdam/event/dolf-janssen-oudejaars-2026
GEO:52.3711125;4.8900771
LOCATION:Theater de Richel - Nieuwezijds Voorburgwal 282\, 1012 RT Amsterda
	m
STATUS:CONFIRMED
CATEGORIES:theater,spui,poetry,cabaret,amsterdam-centrum
END:VEVENT
BEGIN:VEVENT
UID:18458@offbeat.amsterdam
SUMMARY:The Comedy Underground
DTSTAMP:20260421T102937Z
DTSTART:20260610T190000Z
URL:https://offbeat.amsterdam/event/the-comedy-underground-26
GEO:52.3711125;4.8900771
LOCATION:Theater de Richel - Nieuwezijds Voorburgwal 282\, 1012 RT Amsterda
	m
STATUS:CONFIRMED
CATEGORIES:performance,alternative,amsterdam-centrum,cabaret,comedy,english
	,experimental,improv,kleine-zaal,live,music,open mic,spui,theater
END:VEVENT
BEGIN:VEVENT
UID:18213@offbeat.amsterdam
SUMMARY:Rory de Groot – Gevaarlijk Spel
DTSTAMP:20260421T102937Z
DTSTART:20260611T173000Z
URL:https://offbeat.amsterdam/event/rory-de-groot-gevaarlijk-spel
GEO:52.3711125;4.8900771
LOCATION:Theater de Richel - Nieuwezijds Voorburgwal 282\, 1012 RT Amsterda
	m
STATUS:CONFIRMED
CATEGORIES:voetbal,wk,amsterdam-centrum,cabaret,comedy,politiek,spui,theate
	r
END:VEVENT
BEGIN:VEVENT
UID:18837@offbeat.amsterdam
SUMMARY:Folk Cabaret
DTSTAMP:20260421T102937Z
DTSTART:20260611T180000Z
URL:https://offbeat.amsterdam/event/folk-cabaret
GEO:52.3699078;4.9032848
LOCATION:Splendor - Nieuwe Uilenburgerstraat 116\, 1011 LX Amsterdam
STATUS:CONFIRMED
CATEGORIES:cabaret,amsterdam-centrum,music,nieuwmarkt/lastage,piano
END:VEVENT
BEGIN:VEVENT
UID:16486@offbeat.amsterdam
SUMMARY:Betty Friday – vrij-mi-bo cabaret – MC020
DTSTAMP:20260421T102937Z
DTSTART:20260612T153000Z
URL:https://offbeat.amsterdam/event/betty-friday-vrij-mi-bo-cabaret-mc020-2
	7
GEO:52.3711125;4.8900771
LOCATION:Theater de Richel - Nieuwezijds Voorburgwal 282\, 1012 RT Amsterda
	m
STATUS:CONFIRMED
CATEGORIES:music,kleinkunst,cabaret,amsterdam-centrum,theater,muziek,spui
END:VEVENT
BEGIN:VEVENT
UID:17322@offbeat.amsterdam
SUMMARY:Fleur Verhoeff – Vucking Fijftig
DTSTAMP:20260421T102937Z
DTSTART:20260613T181500Z
URL:https://offbeat.amsterdam/event/fleur-verhoeff-vucking-fijftig
GEO:52.3711125;4.8900771
LOCATION:Theater de Richel - Nieuwezijds Voorburgwal 282\, 1012 RT Amsterda
	m
STATUS:CONFIRMED
CATEGORIES:spui,amsterdam-centrum,cabaret
END:VEVENT
BEGIN:VEVENT
UID:14495@offbeat.amsterdam
SUMMARY:Cabaret Voltaire
DTSTAMP:20260421T102937Z
DTSTART:20260613T183000Z
URL:https://offbeat.amsterdam/event/cabaret-voltaire
GEO:52.36215535;4.883782439016489
LOCATION:Paradiso - Weteringschans 6\, 1017 SG Amsterdam
STATUS:CONFIRMED
CATEGORIES:cabaret,leidseplein,amsterdam-centrum
END:VEVENT
BEGIN:VEVENT
UID:15799@offbeat.amsterdam
SUMMARY:Maurits Koster – Iedereen Droomt Anders (try out)
DTSTAMP:20260421T102937Z
DTSTART:20260617T180000Z
URL:https://offbeat.amsterdam/event/iedereen-droomt-anders
GEO:52.3711125;4.8900771
LOCATION:Theater de Richel - Nieuwezijds Voorburgwal 282\, 1012 RT Amsterda
	m
STATUS:CONFIRMED
CATEGORIES:music,amsterdam-centrum,cabaret,spui,try-out
END:VEVENT
BEGIN:VEVENT
UID:18459@offbeat.amsterdam
SUMMARY:The Comedy Underground
DTSTAMP:20260421T102937Z
DTSTART:20260617T190000Z
URL:https://offbeat.amsterdam/event/the-comedy-underground-27
GEO:52.3711125;4.8900771
LOCATION:Theater de Richel - Nieuwezijds Voorburgwal 282\, 1012 RT Amsterda
	m
STATUS:CONFIRMED
CATEGORIES:spui,open mic,music,improv,live,kleine-zaal,theater,performance,
	cabaret,comedy,english,experimental,alternative,amsterdam-centrum
END:VEVENT
BEGIN:VEVENT
UID:16487@offbeat.amsterdam
SUMMARY:Betty Friday – vrij-mi-bo cabaret – MC020
DTSTAMP:20260421T102937Z
DTSTART:20260619T153000Z
URL:https://offbeat.amsterdam/event/betty-friday-vrij-mi-bo-cabaret-mc020-2
	8
GEO:52.3711125;4.8900771
LOCATION:Theater de Richel - Nieuwezijds Voorburgwal 282\, 1012 RT Amsterda
	m
STATUS:CONFIRMED
CATEGORIES:muziek,music,kleinkunst,cabaret,amsterdam-centrum,theater,spui
END:VEVENT
BEGIN:VEVENT
UID:19791@offbeat.amsterdam
SUMMARY:StandOut’s Arabic Stand Up Showcase Show
DTSTAMP:20260421T102937Z
DTSTART:20260620T180000Z
URL:https://offbeat.amsterdam/event/standouts-arabic-stand-up-showcase-show
	-7
GEO:52.3711125;4.8900771
LOCATION:Theater de Richel - Nieuwezijds Voorburgwal 282\, 1012 RT Amsterda
	m
STATUS:CONFIRMED
CATEGORIES:cabaret,amsterdam-centrum,arabic,comedy,spui
END:VEVENT
BEGIN:VEVENT
UID:14935@offbeat.amsterdam
SUMMARY:Jörgen Raymann – BIG YARI: Welkom thuis\, waar niemand op je zit te
	 wachten
DTSTAMP:20260421T102937Z
DTSTART:20260621T130000Z
URL:https://offbeat.amsterdam/event/jorgen-raymann-big-yari-welkom-thuis-wa
	ar-niemand-op-je-zit-te-wachten
GEO:52.3711125;4.8900771
LOCATION:Theater de Richel - Nieuwezijds Voorburgwal 282\, 1012 RT Amsterda
	m
STATUS:CONFIRMED
CATEGORIES:theater,comedy,cabaret,spui,amsterdam-centrum
END:VEVENT
BEGIN:VEVENT
UID:19786@offbeat.amsterdam
SUMMARY:Het Zomerfestival van de Troost
DTSTAMP:20260421T102937Z
DTSTART:20260624T180000Z
URL:https://offbeat.amsterdam/event/het-zomerfestival-van-de-troost
GEO:52.3711125;4.8900771
LOCATION:Theater de Richel - Nieuwezijds Voorburgwal 282\, 1012 RT Amsterda
	m
STATUS:CONFIRMED
CATEGORIES:festivals,poezie,poetry,muziek,music,cabaret,kleinkunst,amsterda
	m-centrum,theater,spui
END:VEVENT
BEGIN:VEVENT
UID:19792@offbeat.amsterdam
SUMMARY:StandOut’s Arabic Stand Up Showcase Show
DTSTAMP:20260421T102937Z
DTSTART:20260717T180000Z
URL:https://offbeat.amsterdam/event/standouts-arabic-stand-up-showcase-show
	-8
GEO:52.3711125;4.8900771
LOCATION:Theater de Richel - Nieuwezijds Voorburgwal 282\, 1012 RT Amsterda
	m
STATUS:CONFIRMED
CATEGORIES:arabic,cabaret,spui,comedy,amsterdam-centrum
END:VEVENT
BEGIN:VEVENT
UID:14947@offbeat.amsterdam
SUMMARY:Rachid Larouz – Wakker Worden
DTSTAMP:20260421T102937Z
DTSTART:20261022T180000Z
URL:https://offbeat.amsterdam/event/rachid-larouz-wakker-worden-1
GEO:52.3711125;4.8900771
LOCATION:Theater de Richel - Nieuwezijds Voorburgwal 282\, 1012 RT Amsterda
	m
STATUS:CONFIRMED
CATEGORIES:cabaret,spui,comedy,amsterdam-centrum
END:VEVENT
BEGIN:VEVENT
UID:14946@offbeat.amsterdam
SUMMARY:Rachid Larouz – Wakker Worden
DTSTAMP:20260421T102937Z
DTSTART:20261023T180000Z
URL:https://offbeat.amsterdam/event/rachid-larouz-wakker-worden
GEO:52.3711125;4.8900771
LOCATION:Theater de Richel - Nieuwezijds Voorburgwal 282\, 1012 RT Amsterda
	m
STATUS:CONFIRMED
CATEGORIES:comedy,spui,cabaret,amsterdam-centrum
END:VEVENT
BEGIN:VEVENT
UID:20274@offbeat.amsterdam
SUMMARY:Frank Boeijen
DTSTAMP:20260421T102937Z
DTSTART:20261101T180000Z
URL:https://offbeat.amsterdam/event/frank-boeijen-1
GEO:52.3647777;4.881073026725959
LOCATION:Melkweg - Lijnbaansgracht 234A\, 1017 PH Amsterdam
STATUS:CONFIRMED
CATEGORIES:leidseplein,amsterdam-centrum,cabaret,concert,dutch,dutch pop
END:VEVENT
END:VCALENDAR
