BEGIN:VCALENDAR
VERSION:2.0
CALSCALE:GREGORIAN
PRODID:adamgibbons/ics
METHOD:PUBLISH
X-PUBLISHED-TTL:PT1H
BEGIN:VEVENT
UID:19778@offbeat.amsterdam
SUMMARY:Close Up 9.3 Sounds of Solidarity
DTSTAMP:20260419T223101Z
DTSTART:20260423T170000Z
DTEND:20260423T200000Z
URL:https://offbeat.amsterdam/event/close-up-93-sounds-of-solidarity
GEO:52.3690637;4.894763
LOCATION:VOX-POP - Binnengasthuisstraat 9\, 1012 ZA Amsterdam
STATUS:CONFIRMED
CATEGORIES:afro,amsterdam-centrum,burgwallen,music,queer,workshop
END:VEVENT
BEGIN:VEVENT
UID:19743@offbeat.amsterdam
SUMMARY:Living Room Session 10
DTSTAMP:20260419T223101Z
DTSTART:20260424T180000Z
URL:https://offbeat.amsterdam/event/living-room-session
GEO:52.3699902;4.884254
LOCATION:Felix Meritis - Keizersgracht 324\, 1016 EZ Amsterdam
STATUS:CONFIRMED
CATEGORIES:meditation,live,lecture,keizersgracht,jazz,hip-hop,film,exhibiti
	on,dj,dance,amsterdam-centrum,afrobeats,afro,stories,soul,rnb,performance,
	opening,music,theater
END:VEVENT
BEGIN:VEVENT
UID:19714@offbeat.amsterdam
SUMMARY:LE TROU W/ ROZALY (ALL NIGHT)\, SÈSÈ\, T.NO\, CHALÉ & TIDA KAMARA (
	ALL NIGHT)
DTSTAMP:20260419T223101Z
DTSTART:20260424T200000Z
DTEND:20260425T010000Z
URL:https://offbeat.amsterdam/event/le-trou
GEO:52.3854467;4.9256035
LOCATION:Skatecafe Karin & Yvonne - Gedempt Hamerkanaal 42\, 1021 KM Amster
	dam
STATUS:CONFIRMED
CATEGORIES:community,amsterdam-noord,afro,electronics,funk,hamerkwartier,li
	ve,music,talk,dinner
END:VEVENT
BEGIN:VEVENT
UID:19295@offbeat.amsterdam
SUMMARY:Groove (21+)
DTSTAMP:20260419T223101Z
DTSTART:20260425T215900Z
DTEND:20260426T033000Z
URL:https://offbeat.amsterdam/event/groove-21
GEO:52.3833541;4.9036483
LOCATION:Parallel - Buiksloterweg 5C\, 1031 CC Amsterdam
STATUS:CONFIRMED
CATEGORIES:buiksloterweg,afro,amsterdam-noord,dance,electronics,music,party
END:VEVENT
BEGIN:VEVENT
UID:19012@offbeat.amsterdam
SUMMARY:Encore x Afrolosjes
DTSTAMP:20260419T223101Z
DTSTART:20260425T215900Z
URL:https://offbeat.amsterdam/event/encore-23
GEO:52.3647777;4.881073026725959
LOCATION:Melkweg - Lijnbaansgracht 234A\, 1017 PH Amsterdam
STATUS:CONFIRMED
CATEGORIES:afro,amsterdam-centrum,club,hip hop,leidseplein,r&b
END:VEVENT
BEGIN:VEVENT
UID:2249@offbeat.amsterdam
SUMMARY:KONING CEUVEL // KING’S NIGHT
DTSTAMP:20260419T223101Z
DTSTART:20260426T190000Z
DTEND:20260427T013000Z
URL:https://offbeat.amsterdam/event/koning-ceuvel-kings-night
GEO:52.3930912;4.9096685
LOCATION:De Ceuvel - Korte Papaverweg 2\, 1032 KB Amsterdam
STATUS:CONFIRMED
CATEGORIES:improv,festivals,electronics,eclectic,dj,dance,afro,concert,colo
	nialism,buiksloterham,amsterdam-noord,techno,soul,rock,reggae,punk,psyched
	elic rock,performance,party,music,live,lecture,jazz,funk
END:VEVENT
BEGIN:VEVENT
UID:12829@offbeat.amsterdam
SUMMARY:Rim Akandoh jr & Amamere
DTSTAMP:20260419T223101Z
DTSTART:20260502T183000Z
URL:https://offbeat.amsterdam/event/rim-akandoh-jr-and-amamere
GEO:52.3830883;4.9030297
LOCATION:Tolhuistuin - IJpromenade 2\, 1031 KT Amsterdam
STATUS:CONFIRMED
CATEGORIES:amsterdam-noord,afro,performance,music,buiksloterweg
END:VEVENT
BEGIN:VEVENT
UID:18937@offbeat.amsterdam
SUMMARY:Music in ‘t Café // Spull
DTSTAMP:20260419T223101Z
DTSTART:20260507T193000Z
DTEND:20260507T210000Z
URL:https://offbeat.amsterdam/event/music-night-at-the-cafe-spull
GEO:52.3930912;4.9096685
LOCATION:De Ceuvel - Korte Papaverweg 2\, 1032 KB Amsterdam
STATUS:CONFIRMED
CATEGORIES:buiksloterham,dinner,funk,improv,live,jazz,music,soul,afro,amste
	rdam-noord
END:VEVENT
BEGIN:VEVENT
UID:19751@offbeat.amsterdam
SUMMARY:Bou di Watapana #7: Queer Caribbean Voices
DTSTAMP:20260419T223101Z
DTSTART:20260513T173000Z
URL:https://offbeat.amsterdam/event/bou-di-watapana-7-queer-caribbean-voice
	s
GEO:52.376857;4.9220756
LOCATION:Pakhuis de Zwijger - Piet Heinkade 179\, 1019 HC Amsterdam
STATUS:CONFIRMED
CATEGORIES:comedy,afro,amsterdam-centrum,community,eastern docklands,festiv
	als,mental health,performance,pride,queer,sociaal,theater
END:VEVENT
BEGIN:VEVENT
UID:20780@offbeat.amsterdam
SUMMARY:Onda Collective x Bass Asylum
DTSTAMP:20260419T223101Z
DTSTART:20260515T200000Z
DTEND:20260516T010000Z
URL:https://offbeat.amsterdam/event/onda-collective-x-bass-asylum
GEO:52.3966283;4.8755183
LOCATION:Toekomstmuziek - Danzigerbocht 29\, 1013 AM Amsterdam
STATUS:CONFIRMED
CATEGORIES:funk,minervahaven,music,westpoort,afro,electronic,amsterdam-west
END:VEVENT
BEGIN:VEVENT
UID:20791@offbeat.amsterdam
SUMMARY:Echa Kuenta: A Small Place
DTSTAMP:20260419T223101Z
DTSTART:20260517T140000Z
URL:https://offbeat.amsterdam/event/echa-kuenta-a-small-place
GEO:52.3697802;4.8715839
LOCATION:De Nieuwe Liefde - Da Costakade 102\, 1053 WP Amsterdam
STATUS:CONFIRMED
CATEGORIES:music,afro,jazz,de-baarsjes,festivals,community,amsterdam-west,p
	oetry,reggae,theater,oud-west
END:VEVENT
BEGIN:VEVENT
UID:20846@offbeat.amsterdam
SUMMARY:Saturday Live Jazz x Julián Garvayo Sextet
DTSTAMP:20260419T223101Z
DTSTART:20260523T210000Z
DTEND:20260523T230000Z
URL:https://offbeat.amsterdam/event/saturday-live-jazz-x-julian-garvayo-sex
	tet
GEO:52.3691458;4.8950558
LOCATION:Contra - Oudezijds Achterburgwal 235\, 1012 DL Amsterdam
STATUS:CONFIRMED
CATEGORIES:amsterdam-centrum,afro,live,music,jazz,burgwallen
END:VEVENT
BEGIN:VEVENT
UID:19948@offbeat.amsterdam
SUMMARY:East Africa Conekt x Jollove
DTSTAMP:20260419T223101Z
DTSTART:20260530T215900Z
URL:https://offbeat.amsterdam/event/east-africa-conekt-x-jollove
GEO:52.3647777;4.881073026725959
LOCATION:Melkweg - Lijnbaansgracht 234A\, 1017 PH Amsterdam
STATUS:CONFIRMED
CATEGORIES:amsterdam-centrum,afro,pop,leidseplein,club
END:VEVENT
BEGIN:VEVENT
UID:20736@offbeat.amsterdam
SUMMARY:Yoràn Vroom
DTSTAMP:20260419T223101Z
DTSTART:20260609T180000Z
URL:https://offbeat.amsterdam/event/yoran-vroom
GEO:52.3528265;4.906568
LOCATION:Cinetol - Tolstraat 182\, 1074 VM Amsterdam
STATUS:CONFIRMED
CATEGORIES:jazz,amsterdam-zuid,afro,piano,music,de pijp
END:VEVENT
BEGIN:VEVENT
UID:20378@offbeat.amsterdam
SUMMARY:Hits uit Afrika by Wendy Kimani & The Congo Beach Club
DTSTAMP:20260419T223101Z
DTSTART:20260613T180000Z
URL:https://offbeat.amsterdam/event/hits-uit-afrika-by-wendy-kimani-and-the
	-congo-beach-club
GEO:52.354291;4.8540331
LOCATION:Teatro Munganga - Schinkelhavenstraat 27 HS\, 1075 VP Amsterdam
STATUS:CONFIRMED
CATEGORIES:afro,amsterdam-zuid,music,rap,schinkelbuurt,soul
END:VEVENT
BEGIN:VEVENT
UID:20675@offbeat.amsterdam
SUMMARY:Afro-Brazilian Jazz & Heritage by Dandara Modesto & Edwin Correia
DTSTAMP:20260419T223101Z
DTSTART:20260627T180000Z
URL:https://offbeat.amsterdam/event/afro-brazilian-jazz-and-heritage-by-dan
	dara-modesto-and-edwin-correia
GEO:52.354291;4.8540331
LOCATION:Teatro Munganga - Schinkelhavenstraat 27 HS\, 1075 VP Amsterdam
STATUS:CONFIRMED
CATEGORIES:electronics,amsterdam-zuid,afro,schinkelbuurt,jazz,jam session
END:VEVENT
BEGIN:VEVENT
UID:19995@offbeat.amsterdam
SUMMARY:Afro Anatolian Tales ft Burak Savaş ★ Tarab Dance ★ Magic Carpet Se
	ssions ♫
DTSTAMP:20260419T223101Z
DTSTART:20260702T183000Z
DTEND:20260702T210000Z
URL:https://offbeat.amsterdam/event/afro-anatolian-tales-ft-burak-savas-sta
	r-tarab-dance-star-magic-carpet-sessions-beamed-eighth-notes
GEO:52.3759775;4.9275458
LOCATION:Mezrab - Veemkade 576\, 1019 BL Amsterdam
STATUS:CONFIRMED
CATEGORIES:improv,afro,amsterdam-oost,concert,dance,eastern docklands,elect
	ronics,jazz,music
END:VEVENT
BEGIN:VEVENT
UID:20380@offbeat.amsterdam
SUMMARY:Nita Aartsen Trio
DTSTAMP:20260419T223101Z
DTSTART:20260703T180000Z
URL:https://offbeat.amsterdam/event/nita-aartsen-trio
GEO:52.354291;4.8540331
LOCATION:Teatro Munganga - Schinkelhavenstraat 27 HS\, 1075 VP Amsterdam
STATUS:CONFIRMED
CATEGORIES:schinkelbuurt,piano,music,jazz,festivals,concert,amsterdam-zuid,
	afro
END:VEVENT
BEGIN:VEVENT
UID:18407@offbeat.amsterdam
SUMMARY:Havana D'Primera
DTSTAMP:20260419T223101Z
DTSTART:20260709T183000Z
URL:https://offbeat.amsterdam/event/havana-dprimera
GEO:52.36215535;4.883782439016489
LOCATION:Paradiso - Weteringschans 6\, 1017 SG Amsterdam
STATUS:CONFIRMED
CATEGORIES:funk,leidseplein,jazz,afro,amsterdam-centrum
END:VEVENT
BEGIN:VEVENT
UID:19928@offbeat.amsterdam
SUMMARY:Razeen
DTSTAMP:20260419T223101Z
DTSTART:20260903T173000Z
URL:https://offbeat.amsterdam/event/razeen
GEO:52.36215535;4.883782439016489
LOCATION:Paradiso - Weteringschans 6\, 1017 SG Amsterdam
STATUS:CONFIRMED
CATEGORIES:leidseplein,amsterdam-centrum,afro
END:VEVENT
BEGIN:VEVENT
UID:19980@offbeat.amsterdam
SUMMARY:Loveth Besamoh + I Love You Honey Bunny
DTSTAMP:20260419T223101Z
DTSTART:20261108T183000Z
URL:https://offbeat.amsterdam/event/loveth-besamoh-i-love-you-honey-bunny
GEO:52.3528265;4.906568
LOCATION:Cinetol - Tolstraat 182\, 1074 VM Amsterdam
STATUS:CONFIRMED
CATEGORIES:amsterdam-zuid,afro,wave,live,indie,de pijp,rock,postpunk,jazz,s
	hoegaze
END:VEVENT
BEGIN:VEVENT
UID:15147@offbeat.amsterdam
SUMMARY:Fatoumata Diawara
DTSTAMP:20260419T223101Z
DTSTART:20261127T193000Z
URL:https://offbeat.amsterdam/event/fatoumata-diawara
GEO:52.36215535;4.883782439016489
LOCATION:Paradiso - Weteringschans 6\, 1017 SG Amsterdam
STATUS:CONFIRMED
CATEGORIES:leidseplein,afro,amsterdam-centrum
END:VEVENT
END:VCALENDAR
