BEGIN:VCALENDAR
VERSION:2.0
CALSCALE:GREGORIAN
PRODID:adamgibbons/ics
METHOD:PUBLISH
X-PUBLISHED-TTL:PT1H
BEGIN:VEVENT
UID:16951@offbeat.amsterdam
SUMMARY:Dok Night – Dokhuis AiR presents: Human. VPN/someplace_else
DTSTAMP:20260420T150129Z
DTSTART:20260423T160000Z
DTEND:20260423T210000Z
URL:https://offbeat.amsterdam/event/dok-night-46
GEO:52.368298;4.911167641156702
LOCATION:Plantage Dok - Plantage Doklaan 8-12\, 1018 CM
STATUS:CONFIRMED
CATEGORIES:activism,amsterdam-centrum,dinner,exhibition,film,food,games,liv
	e,music,opening,performance,plantage,stories,vegan
END:VEVENT
BEGIN:VEVENT
UID:19284@offbeat.amsterdam
SUMMARY:🎬 Brazil Unfiltered: Southern Sorceresses (2020) + Q&A
DTSTAMP:20260420T150129Z
DTSTART:20260424T183000Z
URL:https://offbeat.amsterdam/event/brazil-unfiltered-southern-sorceresses-
	2020-qanda
GEO:52.381974;4.8703107
LOCATION:Filmhuis Cavia - Van Hallstraat 52-1\, 1051 HH Amsterdam
STATUS:CONFIRMED
CATEGORIES:activism,staatsliedenbuurt,q&a,performance,improv,gender,film,do
	cumentary,amsterdam-west
END:VEVENT
BEGIN:VEVENT
UID:16952@offbeat.amsterdam
SUMMARY:Dok Night- Benefit dinner by Het Laatste Avondmaal
DTSTAMP:20260420T150129Z
DTSTART:20260430T160000Z
DTEND:20260430T210000Z
URL:https://offbeat.amsterdam/event/dok-night-47
GEO:52.368298;4.911167641156702
LOCATION:Plantage Dok - Plantage Doklaan 8-12\, 1018 CM
STATUS:CONFIRMED
CATEGORIES:opening,performance,plantage,stories,vegan,activism,amsterdam-ce
	ntrum,dinner,exhibition,film,food,games,live,music
END:VEVENT
BEGIN:VEVENT
UID:20601@offbeat.amsterdam
SUMMARY:Dag van de Empathie | Empathie als Verzet
DTSTAMP:20260420T150129Z
DTSTART:20260503T170000Z
URL:https://offbeat.amsterdam/event/dag-van-de-empathie-or-empathie-als-ver
	zet
GEO:52.3830883;4.9030297
LOCATION:Tolhuistuin - IJpromenade 2\, 1031 KT Amsterdam
STATUS:CONFIRMED
CATEGORIES:discussion,activism,amsterdam-noord,buiksloterweg
END:VEVENT
BEGIN:VEVENT
UID:19280@offbeat.amsterdam
SUMMARY:🎬 Brazil Unfiltered: My Foreign Land (2025)
DTSTAMP:20260420T150129Z
DTSTART:20260506T183000Z
URL:https://offbeat.amsterdam/event/brazil-unfiltered-my-foreign-land-2025
GEO:52.381974;4.8703107
LOCATION:Filmhuis Cavia - Van Hallstraat 52-1\, 1051 HH Amsterdam
STATUS:CONFIRMED
CATEGORIES:staatsliedenbuurt,film,documentary,activism,democracy,amsterdam-
	west
END:VEVENT
BEGIN:VEVENT
UID:16953@offbeat.amsterdam
SUMMARY:Dok Night
DTSTAMP:20260420T150129Z
DTSTART:20260507T160000Z
DTEND:20260507T210000Z
URL:https://offbeat.amsterdam/event/dok-night-48
GEO:52.368298;4.911167641156702
LOCATION:Plantage Dok - Plantage Doklaan 8-12\, 1018 CM
STATUS:CONFIRMED
CATEGORIES:opening,music,live,games,food,film,dinner,exhibition,amsterdam-c
	entrum,activism,performance,plantage,vegan
END:VEVENT
BEGIN:VEVENT
UID:18634@offbeat.amsterdam
SUMMARY:Rehearsal of the Amsterdam Climate Choir
DTSTAMP:20260420T150129Z
DTSTART:20260512T173000Z
DTEND:20260512T190000Z
URL:https://offbeat.amsterdam/event/rehearsal-of-the-amsterdam-climate-choi
	r-3
GEO:52.3930912;4.9096685
LOCATION:De Ceuvel - Korte Papaverweg 2\, 1032 KB Amsterdam
STATUS:CONFIRMED
CATEGORIES:blues,music,live,buiksloterham,amsterdam-noord,activism
END:VEVENT
BEGIN:VEVENT
UID:16954@offbeat.amsterdam
SUMMARY:Dok Night
DTSTAMP:20260420T150129Z
DTSTART:20260514T160000Z
DTEND:20260514T210000Z
URL:https://offbeat.amsterdam/event/dok-night-49
GEO:52.368298;4.911167641156702
LOCATION:Plantage Dok - Plantage Doklaan 8-12\, 1018 CM
STATUS:CONFIRMED
CATEGORIES:vegan,plantage,performance,opening,music,live,activism,games,foo
	d,film,exhibition,dinner,amsterdam-centrum
END:VEVENT
BEGIN:VEVENT
UID:19282@offbeat.amsterdam
SUMMARY:🎬 Brazil Unfiltered: Paid in Blood (2025) + Q&A
DTSTAMP:20260420T150129Z
DTSTART:20260514T183000Z
URL:https://offbeat.amsterdam/event/brazil-unfiltered-paid-in-blood-2025-qa
	nda
GEO:52.381974;4.8703107
LOCATION:Filmhuis Cavia - Van Hallstraat 52-1\, 1051 HH Amsterdam
STATUS:CONFIRMED
CATEGORIES:activism,staatsliedenbuurt,q&a,film,documentary,amsterdam-west
END:VEVENT
BEGIN:VEVENT
UID:16955@offbeat.amsterdam
SUMMARY:Dok Night
DTSTAMP:20260420T150129Z
DTSTART:20260521T160000Z
DTEND:20260521T210000Z
URL:https://offbeat.amsterdam/event/dok-night-50
GEO:52.368298;4.911167641156702
LOCATION:Plantage Dok - Plantage Doklaan 8-12\, 1018 CM
STATUS:CONFIRMED
CATEGORIES:games,activism,amsterdam-centrum,dinner,exhibition,film,food,liv
	e,music,opening,performance,plantage,vegan
END:VEVENT
BEGIN:VEVENT
UID:19308@offbeat.amsterdam
SUMMARY:RAAF
DTSTAMP:20260420T150129Z
DTSTART:20260522T170000Z
URL:https://offbeat.amsterdam/event/animal-advocacy-forum
GEO:52.376857;4.9220756
LOCATION:Pakhuis de Zwijger - Piet Heinkade 179\, 1019 HC Amsterdam
STATUS:CONFIRMED
CATEGORIES:social,vegan,activism,amsterdam-centrum,books,community,dinner,e
	astern docklands,food,jazz,music,party,plants,techno,talk,stories,soul
END:VEVENT
BEGIN:VEVENT
UID:16956@offbeat.amsterdam
SUMMARY:Dok Night
DTSTAMP:20260420T150129Z
DTSTART:20260528T160000Z
DTEND:20260528T210000Z
URL:https://offbeat.amsterdam/event/dok-night-51
GEO:52.368298;4.911167641156702
LOCATION:Plantage Dok - Plantage Doklaan 8-12\, 1018 CM
STATUS:CONFIRMED
CATEGORIES:dinner,film,food,games,live,music,activism,amsterdam-centrum,veg
	an,exhibition,opening,performance,plantage
END:VEVENT
BEGIN:VEVENT
UID:16957@offbeat.amsterdam
SUMMARY:Dok Night
DTSTAMP:20260420T150129Z
DTSTART:20260604T160000Z
DTEND:20260604T210000Z
URL:https://offbeat.amsterdam/event/dok-night-52
GEO:52.368298;4.911167641156702
LOCATION:Plantage Dok - Plantage Doklaan 8-12\, 1018 CM
STATUS:CONFIRMED
CATEGORIES:activism,vegan,games,food,film,exhibition,dinner,amsterdam-centr
	um,music,opening,performance,plantage,live
END:VEVENT
BEGIN:VEVENT
UID:18636@offbeat.amsterdam
SUMMARY:Rehearsal of the Amsterdam Climate Choir 9/6
DTSTAMP:20260420T150129Z
DTSTART:20260609T173000Z
DTEND:20260609T190000Z
URL:https://offbeat.amsterdam/event/rehearsal-of-the-amsterdam-climate-choi
	r-96
GEO:52.3930912;4.9096685
LOCATION:De Ceuvel - Korte Papaverweg 2\, 1032 KB Amsterdam
STATUS:CONFIRMED
CATEGORIES:activism,amsterdam-noord,blues,buiksloterham,live,music
END:VEVENT
BEGIN:VEVENT
UID:16958@offbeat.amsterdam
SUMMARY:Dok Night
DTSTAMP:20260420T150129Z
DTSTART:20260611T160000Z
DTEND:20260611T210000Z
URL:https://offbeat.amsterdam/event/dok-night-53
GEO:52.368298;4.911167641156702
LOCATION:Plantage Dok - Plantage Doklaan 8-12\, 1018 CM
STATUS:CONFIRMED
CATEGORIES:activism,games,live,music,opening,performance,plantage,vegan,fil
	m,exhibition,dinner,amsterdam-centrum,food
END:VEVENT
BEGIN:VEVENT
UID:16959@offbeat.amsterdam
SUMMARY:Dok Night
DTSTAMP:20260420T150129Z
DTSTART:20260618T160000Z
DTEND:20260618T210000Z
URL:https://offbeat.amsterdam/event/dok-night-54
GEO:52.368298;4.911167641156702
LOCATION:Plantage Dok - Plantage Doklaan 8-12\, 1018 CM
STATUS:CONFIRMED
CATEGORIES:amsterdam-centrum,dinner,exhibition,film,food,games,live,music,o
	pening,performance,plantage,vegan,activism
END:VEVENT
BEGIN:VEVENT
UID:19030@offbeat.amsterdam
SUMMARY:Nano Stern ★ Chilean Singer-Songwriter ♫
DTSTAMP:20260420T150129Z
DTSTART:20260618T183000Z
DTEND:20260618T210000Z
URL:https://offbeat.amsterdam/event/nano-stern-star-chilean-singer-songwrit
	er-beamed-eighth-notes
GEO:52.3759775;4.9275458
LOCATION:Mezrab - Veemkade 576\, 1019 BL Amsterdam
STATUS:CONFIRMED
CATEGORIES:rock,performance,music,jazz,film,festivals,experimental,eastern 
	docklands,documentary,concert,amsterdam-oost,activism
END:VEVENT
BEGIN:VEVENT
UID:16960@offbeat.amsterdam
SUMMARY:Dok Night
DTSTAMP:20260420T150129Z
DTSTART:20260625T160000Z
DTEND:20260625T210000Z
URL:https://offbeat.amsterdam/event/dok-night-55
GEO:52.368298;4.911167641156702
LOCATION:Plantage Dok - Plantage Doklaan 8-12\, 1018 CM
STATUS:CONFIRMED
CATEGORIES:activism,amsterdam-centrum,dinner,exhibition,film,food,games,liv
	e,music,opening,performance,plantage,vegan
END:VEVENT
END:VCALENDAR
